Workbook

Sheet Jan
A1: ="January "&$H$1 | H1: 2027 | I1: ← year (other tabs follow it)
A3: January
A4: Sun | B4: Mon | C4: Tue | D4: Wed | E4: Thu | F4: Fri | G4: Sat
A5: =IF(MONTH(DATE($H$1,1,1)-WEEKDAY(DATE($H$1,1,1))+1+0)=1,DATE($H$1,1,1)-WEEKDAY(DATE($H$1,1,1))+1+0,"") | B5: =IF(MONTH(DATE($H$1,1,1)-WEEKDAY(DATE($H$1,1,1))+1+1)=1,DATE($H$1,1,1)-WEEKDAY(DATE($H$1,1,1))+1+1,"") | C5: =IF(MONTH(DATE($H$1,1,1)-WEEKDAY(DATE($H$1,1,1))+1+2)=1,DATE($H$1,1,1)-WEEKDAY(DATE($H$1,1,1))+1+2,"") | D5: =IF(MONTH(DATE($H$1,1,1)-WEEKDAY(DATE($H$1,1,1))+1+3)=1,DATE($H$1,1,1)-WEEKDAY(DATE($H$1,1,1))+1+3,"") | E5: =IF(MONTH(DATE($H$1,1,1)-WEEKDAY(DATE($H$1,1,1))+1+4)=1,DATE($H$1,1,1)-WEEKDAY(DATE($H$1,1,1))+1+4,"") | F5: =IF(MONTH(DATE($H$1,1,1)-WEEKDAY(DATE($H$1,1,1))+1+5)=1,DATE($H$1,1,1)-WEEKDAY(DATE($H$1,1,1))+1+5,"") | G5: =IF(MONTH(DATE($H$1,1,1)-WEEKDAY(DATE($H$1,1,1))+1+6)=1,DATE($H$1,1,1)-WEEKDAY(DATE($H$1,1,1))+1+6,"")
A6: =IF(MONTH(DATE($H$1,1,1)-WEEKDAY(DATE($H$1,1,1))+1+7)=1,DATE($H$1,1,1)-WEEKDAY(DATE($H$1,1,1))+1+7,"") | B6: =IF(MONTH(DATE($H$1,1,1)-WEEKDAY(DATE($H$1,1,1))+1+8)=1,DATE($H$1,1,1)-WEEKDAY(DATE($H$1,1,1))+1+8,"") | C6: =IF(MONTH(DATE($H$1,1,1)-WEEKDAY(DATE($H$1,1,1))+1+9)=1,DATE($H$1,1,1)-WEEKDAY(DATE($H$1,1,1))+1+9,"") | D6: =IF(MONTH(DATE($H$1,1,1)-WEEKDAY(DATE($H$1,1,1))+1+10)=1,DATE($H$1,1,1)-WEEKDAY(DATE($H$1,1,1))+1+10,"") | E6: =IF(MONTH(DATE($H$1,1,1)-WEEKDAY(DATE($H$1,1,1))+1+11)=1,DATE($H$1,1,1)-WEEKDAY(DATE($H$1,1,1))+1+11,"") | F6: =IF(MONTH(DATE($H$1,1,1)-WEEKDAY(DATE($H$1,1,1))+1+12)=1,DATE($H$1,1,1)-WEEKDAY(DATE($H$1,1,1))+1+12,"") | G6: =IF(MONTH(DATE($H$1,1,1)-WEEKDAY(DATE($H$1,1,1))+1+13)=1,DATE($H$1,1,1)-WEEKDAY(DATE($H$1,1,1))+1+13,"")
A7: =IF(MONTH(DATE($H$1,1,1)-WEEKDAY(DATE($H$1,1,1))+1+14)=1,DATE($H$1,1,1)-WEEKDAY(DATE($H$1,1,1))+1+14,"") | B7: =IF(MONTH(DATE($H$1,1,1)-WEEKDAY(DATE($H$1,1,1))+1+15)=1,DATE($H$1,1,1)-WEEKDAY(DATE($H$1,1,1))+1+15,"") | C7: =IF(MONTH(DATE($H$1,1,1)-WEEKDAY(DATE($H$1,1,1))+1+16)=1,DATE($H$1,1,1)-WEEKDAY(DATE($H$1,1,1))+1+16,"") | D7: =IF(MONTH(DATE($H$1,1,1)-WEEKDAY(DATE($H$1,1,1))+1+17)=1,DATE($H$1,1,1)-WEEKDAY(DATE($H$1,1,1))+1+17,"") | E7: =IF(MONTH(DATE($H$1,1,1)-WEEKDAY(DATE($H$1,1,1))+1+18)=1,DATE($H$1,1,1)-WEEKDAY(DATE($H$1,1,1))+1+18,"") | F7: =IF(MONTH(DATE($H$1,1,1)-WEEKDAY(DATE($H$1,1,1))+1+19)=1,DATE($H$1,1,1)-WEEKDAY(DATE($H$1,1,1))+1+19,"") | G7: =IF(MONTH(DATE($H$1,1,1)-WEEKDAY(DATE($H$1,1,1))+1+20)=1,DATE($H$1,1,1)-WEEKDAY(DATE($H$1,1,1))+1+20,"")
A8: =IF(MONTH(DATE($H$1,1,1)-WEEKDAY(DATE($H$1,1,1))+1+21)=1,DATE($H$1,1,1)-WEEKDAY(DATE($H$1,1,1))+1+21,"") | B8: =IF(MONTH(DATE($H$1,1,1)-WEEKDAY(DATE($H$1,1,1))+1+22)=1,DATE($H$1,1,1)-WEEKDAY(DATE($H$1,1,1))+1+22,"") | C8: =IF(MONTH(DATE($H$1,1,1)-WEEKDAY(DATE($H$1,1,1))+1+23)=1,DATE($H$1,1,1)-WEEKDAY(DATE($H$1,1,1))+1+23,"") | D8: =IF(MONTH(DATE($H$1,1,1)-WEEKDAY(DATE($H$1,1,1))+1+24)=1,DATE($H$1,1,1)-WEEKDAY(DATE($H$1,1,1))+1+24,"") | E8: =IF(MONTH(DATE($H$1,1,1)-WEEKDAY(DATE($H$1,1,1))+1+25)=1,DATE($H$1,1,1)-WEEKDAY(DATE($H$1,1,1))+1+25,"") | F8: =IF(MONTH(DATE($H$1,1,1)-WEEKDAY(DATE($H$1,1,1))+1+26)=1,DATE($H$1,1,1)-WEEKDAY(DATE($H$1,1,1))+1+26,"") | G8: =IF(MONTH(DATE($H$1,1,1)-WEEKDAY(DATE($H$1,1,1))+1+27)=1,DATE($H$1,1,1)-WEEKDAY(DATE($H$1,1,1))+1+27,"")
A9: =IF(MONTH(DATE($H$1,1,1)-WEEKDAY(DATE($H$1,1,1))+1+28)=1,DATE($H$1,1,1)-WEEKDAY(DATE($H$1,1,1))+1+28,"") | B9: =IF(MONTH(DATE($H$1,1,1)-WEEKDAY(DATE($H$1,1,1))+1+29)=1,DATE($H$1,1,1)-WEEKDAY(DATE($H$1,1,1))+1+29,"") | C9: =IF(MONTH(DATE($H$1,1,1)-WEEKDAY(DATE($H$1,1,1))+1+30)=1,DATE($H$1,1,1)-WEEKDAY(DATE($H$1,1,1))+1+30,"") | D9: =IF(MONTH(DATE($H$1,1,1)-WEEKDAY(DATE($H$1,1,1))+1+31)=1,DATE($H$1,1,1)-WEEKDAY(DATE($H$1,1,1))+1+31,"") | E9: =IF(MONTH(DATE($H$1,1,1)-WEEKDAY(DATE($H$1,1,1))+1+32)=1,DATE($H$1,1,1)-WEEKDAY(DATE($H$1,1,1))+1+32,"") | F9: =IF(MONTH(DATE($H$1,1,1)-WEEKDAY(DATE($H$1,1,1))+1+33)=1,DATE($H$1,1,1)-WEEKDAY(DATE($H$1,1,1))+1+33,"") | G9: =IF(MONTH(DATE($H$1,1,1)-WEEKDAY(DATE($H$1,1,1))+1+34)=1,DATE($H$1,1,1)-WEEKDAY(DATE($H$1,1,1))+1+34,"")
A10: =IF(MONTH(DATE($H$1,1,1)-WEEKDAY(DATE($H$1,1,1))+1+35)=1,DATE($H$1,1,1)-WEEKDAY(DATE($H$1,1,1))+1+35,"") | B10: =IF(MONTH(DATE($H$1,1,1)-WEEKDAY(DATE($H$1,1,1))+1+36)=1,DATE($H$1,1,1)-WEEKDAY(DATE($H$1,1,1))+1+36,"") | C10: =IF(MONTH(DATE($H$1,1,1)-WEEKDAY(DATE($H$1,1,1))+1+37)=1,DATE($H$1,1,1)-WEEKDAY(DATE($H$1,1,1))+1+37,"") | D10: =IF(MONTH(DATE($H$1,1,1)-WEEKDAY(DATE($H$1,1,1))+1+38)=1,DATE($H$1,1,1)-WEEKDAY(DATE($H$1,1,1))+1+38,"") | E10: =IF(MONTH(DATE($H$1,1,1)-WEEKDAY(DATE($H$1,1,1))+1+39)=1,DATE($H$1,1,1)-WEEKDAY(DATE($H$1,1,1))+1+39,"") | F10: =IF(MONTH(DATE($H$1,1,1)-WEEKDAY(DATE($H$1,1,1))+1+40)=1,DATE($H$1,1,1)-WEEKDAY(DATE($H$1,1,1))+1+40,"") | G10: =IF(MONTH(DATE($H$1,1,1)-WEEKDAY(DATE($H$1,1,1))+1+41)=1,DATE($H$1,1,1)-WEEKDAY(DATE($H$1,1,1))+1+41,"")
A11: Notes

Sheet Feb
A1: ="February "&$H$1 | H1: =Jan!$H$1
A3: February
A4: Sun | B4: Mon | C4: Tue | D4: Wed | E4: Thu | F4: Fri | G4: Sat
A5: =IF(MONTH(DATE($H$1,2,1)-WEEKDAY(DATE($H$1,2,1))+1+0)=2,DATE($H$1,2,1)-WEEKDAY(DATE($H$1,2,1))+1+0,"") | B5: =IF(MONTH(DATE($H$1,2,1)-WEEKDAY(DATE($H$1,2,1))+1+1)=2,DATE($H$1,2,1)-WEEKDAY(DATE($H$1,2,1))+1+1,"") | C5: =IF(MONTH(DATE($H$1,2,1)-WEEKDAY(DATE($H$1,2,1))+1+2)=2,DATE($H$1,2,1)-WEEKDAY(DATE($H$1,2,1))+1+2,"") | D5: =IF(MONTH(DATE($H$1,2,1)-WEEKDAY(DATE($H$1,2,1))+1+3)=2,DATE($H$1,2,1)-WEEKDAY(DATE($H$1,2,1))+1+3,"") | E5: =IF(MONTH(DATE($H$1,2,1)-WEEKDAY(DATE($H$1,2,1))+1+4)=2,DATE($H$1,2,1)-WEEKDAY(DATE($H$1,2,1))+1+4,"") | F5: =IF(MONTH(DATE($H$1,2,1)-WEEKDAY(DATE($H$1,2,1))+1+5)=2,DATE($H$1,2,1)-WEEKDAY(DATE($H$1,2,1))+1+5,"") | G5: =IF(MONTH(DATE($H$1,2,1)-WEEKDAY(DATE($H$1,2,1))+1+6)=2,DATE($H$1,2,1)-WEEKDAY(DATE($H$1,2,1))+1+6,"")
A6: =IF(MONTH(DATE($H$1,2,1)-WEEKDAY(DATE($H$1,2,1))+1+7)=2,DATE($H$1,2,1)-WEEKDAY(DATE($H$1,2,1))+1+7,"") | B6: =IF(MONTH(DATE($H$1,2,1)-WEEKDAY(DATE($H$1,2,1))+1+8)=2,DATE($H$1,2,1)-WEEKDAY(DATE($H$1,2,1))+1+8,"") | C6: =IF(MONTH(DATE($H$1,2,1)-WEEKDAY(DATE($H$1,2,1))+1+9)=2,DATE($H$1,2,1)-WEEKDAY(DATE($H$1,2,1))+1+9,"") | D6: =IF(MONTH(DATE($H$1,2,1)-WEEKDAY(DATE($H$1,2,1))+1+10)=2,DATE($H$1,2,1)-WEEKDAY(DATE($H$1,2,1))+1+10,"") | E6: =IF(MONTH(DATE($H$1,2,1)-WEEKDAY(DATE($H$1,2,1))+1+11)=2,DATE($H$1,2,1)-WEEKDAY(DATE($H$1,2,1))+1+11,"") | F6: =IF(MONTH(DATE($H$1,2,1)-WEEKDAY(DATE($H$1,2,1))+1+12)=2,DATE($H$1,2,1)-WEEKDAY(DATE($H$1,2,1))+1+12,"") | G6: =IF(MONTH(DATE($H$1,2,1)-WEEKDAY(DATE($H$1,2,1))+1+13)=2,DATE($H$1,2,1)-WEEKDAY(DATE($H$1,2,1))+1+13,"")
A7: =IF(MONTH(DATE($H$1,2,1)-WEEKDAY(DATE($H$1,2,1))+1+14)=2,DATE($H$1,2,1)-WEEKDAY(DATE($H$1,2,1))+1+14,"") | B7: =IF(MONTH(DATE($H$1,2,1)-WEEKDAY(DATE($H$1,2,1))+1+15)=2,DATE($H$1,2,1)-WEEKDAY(DATE($H$1,2,1))+1+15,"") | C7: =IF(MONTH(DATE($H$1,2,1)-WEEKDAY(DATE($H$1,2,1))+1+16)=2,DATE($H$1,2,1)-WEEKDAY(DATE($H$1,2,1))+1+16,"") | D7: =IF(MONTH(DATE($H$1,2,1)-WEEKDAY(DATE($H$1,2,1))+1+17)=2,DATE($H$1,2,1)-WEEKDAY(DATE($H$1,2,1))+1+17,"") | E7: =IF(MONTH(DATE($H$1,2,1)-WEEKDAY(DATE($H$1,2,1))+1+18)=2,DATE($H$1,2,1)-WEEKDAY(DATE($H$1,2,1))+1+18,"") | F7: =IF(MONTH(DATE($H$1,2,1)-WEEKDAY(DATE($H$1,2,1))+1+19)=2,DATE($H$1,2,1)-WEEKDAY(DATE($H$1,2,1))+1+19,"") | G7: =IF(MONTH(DATE($H$1,2,1)-WEEKDAY(DATE($H$1,2,1))+1+20)=2,DATE($H$1,2,1)-WEEKDAY(DATE($H$1,2,1))+1+20,"")
A8: =IF(MONTH(DATE($H$1,2,1)-WEEKDAY(DATE($H$1,2,1))+1+21)=2,DATE($H$1,2,1)-WEEKDAY(DATE($H$1,2,1))+1+21,"") | B8: =IF(MONTH(DATE($H$1,2,1)-WEEKDAY(DATE($H$1,2,1))+1+22)=2,DATE($H$1,2,1)-WEEKDAY(DATE($H$1,2,1))+1+22,"") | C8: =IF(MONTH(DATE($H$1,2,1)-WEEKDAY(DATE($H$1,2,1))+1+23)=2,DATE($H$1,2,1)-WEEKDAY(DATE($H$1,2,1))+1+23,"") | D8: =IF(MONTH(DATE($H$1,2,1)-WEEKDAY(DATE($H$1,2,1))+1+24)=2,DATE($H$1,2,1)-WEEKDAY(DATE($H$1,2,1))+1+24,"") | E8: =IF(MONTH(DATE($H$1,2,1)-WEEKDAY(DATE($H$1,2,1))+1+25)=2,DATE($H$1,2,1)-WEEKDAY(DATE($H$1,2,1))+1+25,"") | F8: =IF(MONTH(DATE($H$1,2,1)-WEEKDAY(DATE($H$1,2,1))+1+26)=2,DATE($H$1,2,1)-WEEKDAY(DATE($H$1,2,1))+1+26,"") | G8: =IF(MONTH(DATE($H$1,2,1)-WEEKDAY(DATE($H$1,2,1))+1+27)=2,DATE($H$1,2,1)-WEEKDAY(DATE($H$1,2,1))+1+27,"")
A9: =IF(MONTH(DATE($H$1,2,1)-WEEKDAY(DATE($H$1,2,1))+1+28)=2,DATE($H$1,2,1)-WEEKDAY(DATE($H$1,2,1))+1+28,"") | B9: =IF(MONTH(DATE($H$1,2,1)-WEEKDAY(DATE($H$1,2,1))+1+29)=2,DATE($H$1,2,1)-WEEKDAY(DATE($H$1,2,1))+1+29,"") | C9: =IF(MONTH(DATE($H$1,2,1)-WEEKDAY(DATE($H$1,2,1))+1+30)=2,DATE($H$1,2,1)-WEEKDAY(DATE($H$1,2,1))+1+30,"") | D9: =IF(MONTH(DATE($H$1,2,1)-WEEKDAY(DATE($H$1,2,1))+1+31)=2,DATE($H$1,2,1)-WEEKDAY(DATE($H$1,2,1))+1+31,"") | E9: =IF(MONTH(DATE($H$1,2,1)-WEEKDAY(DATE($H$1,2,1))+1+32)=2,DATE($H$1,2,1)-WEEKDAY(DATE($H$1,2,1))+1+32,"") | F9: =IF(MONTH(DATE($H$1,2,1)-WEEKDAY(DATE($H$1,2,1))+1+33)=2,DATE($H$1,2,1)-WEEKDAY(DATE($H$1,2,1))+1+33,"") | G9: =IF(MONTH(DATE($H$1,2,1)-WEEKDAY(DATE($H$1,2,1))+1+34)=2,DATE($H$1,2,1)-WEEKDAY(DATE($H$1,2,1))+1+34,"")
A10: =IF(MONTH(DATE($H$1,2,1)-WEEKDAY(DATE($H$1,2,1))+1+35)=2,DATE($H$1,2,1)-WEEKDAY(DATE($H$1,2,1))+1+35,"") | B10: =IF(MONTH(DATE($H$1,2,1)-WEEKDAY(DATE($H$1,2,1))+1+36)=2,DATE($H$1,2,1)-WEEKDAY(DATE($H$1,2,1))+1+36,"") | C10: =IF(MONTH(DATE($H$1,2,1)-WEEKDAY(DATE($H$1,2,1))+1+37)=2,DATE($H$1,2,1)-WEEKDAY(DATE($H$1,2,1))+1+37,"") | D10: =IF(MONTH(DATE($H$1,2,1)-WEEKDAY(DATE($H$1,2,1))+1+38)=2,DATE($H$1,2,1)-WEEKDAY(DATE($H$1,2,1))+1+38,"") | E10: =IF(MONTH(DATE($H$1,2,1)-WEEKDAY(DATE($H$1,2,1))+1+39)=2,DATE($H$1,2,1)-WEEKDAY(DATE($H$1,2,1))+1+39,"") | F10: =IF(MONTH(DATE($H$1,2,1)-WEEKDAY(DATE($H$1,2,1))+1+40)=2,DATE($H$1,2,1)-WEEKDAY(DATE($H$1,2,1))+1+40,"") | G10: =IF(MONTH(DATE($H$1,2,1)-WEEKDAY(DATE($H$1,2,1))+1+41)=2,DATE($H$1,2,1)-WEEKDAY(DATE($H$1,2,1))+1+41,"")
A11: Notes

Sheet Mar
A1: ="March "&$H$1 | H1: =Jan!$H$1
A3: March
A4: Sun | B4: Mon | C4: Tue | D4: Wed | E4: Thu | F4: Fri | G4: Sat
A5: =IF(MONTH(DATE($H$1,3,1)-WEEKDAY(DATE($H$1,3,1))+1+0)=3,DATE($H$1,3,1)-WEEKDAY(DATE($H$1,3,1))+1+0,"") | B5: =IF(MONTH(DATE($H$1,3,1)-WEEKDAY(DATE($H$1,3,1))+1+1)=3,DATE($H$1,3,1)-WEEKDAY(DATE($H$1,3,1))+1+1,"") | C5: =IF(MONTH(DATE($H$1,3,1)-WEEKDAY(DATE($H$1,3,1))+1+2)=3,DATE($H$1,3,1)-WEEKDAY(DATE($H$1,3,1))+1+2,"") | D5: =IF(MONTH(DATE($H$1,3,1)-WEEKDAY(DATE($H$1,3,1))+1+3)=3,DATE($H$1,3,1)-WEEKDAY(DATE($H$1,3,1))+1+3,"") | E5: =IF(MONTH(DATE($H$1,3,1)-WEEKDAY(DATE($H$1,3,1))+1+4)=3,DATE($H$1,3,1)-WEEKDAY(DATE($H$1,3,1))+1+4,"") | F5: =IF(MONTH(DATE($H$1,3,1)-WEEKDAY(DATE($H$1,3,1))+1+5)=3,DATE($H$1,3,1)-WEEKDAY(DATE($H$1,3,1))+1+5,"") | G5: =IF(MONTH(DATE($H$1,3,1)-WEEKDAY(DATE($H$1,3,1))+1+6)=3,DATE($H$1,3,1)-WEEKDAY(DATE($H$1,3,1))+1+6,"")
A6: =IF(MONTH(DATE($H$1,3,1)-WEEKDAY(DATE($H$1,3,1))+1+7)=3,DATE($H$1,3,1)-WEEKDAY(DATE($H$1,3,1))+1+7,"") | B6: =IF(MONTH(DATE($H$1,3,1)-WEEKDAY(DATE($H$1,3,1))+1+8)=3,DATE($H$1,3,1)-WEEKDAY(DATE($H$1,3,1))+1+8,"") | C6: =IF(MONTH(DATE($H$1,3,1)-WEEKDAY(DATE($H$1,3,1))+1+9)=3,DATE($H$1,3,1)-WEEKDAY(DATE($H$1,3,1))+1+9,"") | D6: =IF(MONTH(DATE($H$1,3,1)-WEEKDAY(DATE($H$1,3,1))+1+10)=3,DATE($H$1,3,1)-WEEKDAY(DATE($H$1,3,1))+1+10,"") | E6: =IF(MONTH(DATE($H$1,3,1)-WEEKDAY(DATE($H$1,3,1))+1+11)=3,DATE($H$1,3,1)-WEEKDAY(DATE($H$1,3,1))+1+11,"") | F6: =IF(MONTH(DATE($H$1,3,1)-WEEKDAY(DATE($H$1,3,1))+1+12)=3,DATE($H$1,3,1)-WEEKDAY(DATE($H$1,3,1))+1+12,"") | G6: =IF(MONTH(DATE($H$1,3,1)-WEEKDAY(DATE($H$1,3,1))+1+13)=3,DATE($H$1,3,1)-WEEKDAY(DATE($H$1,3,1))+1+13,"")
A7: =IF(MONTH(DATE($H$1,3,1)-WEEKDAY(DATE($H$1,3,1))+1+14)=3,DATE($H$1,3,1)-WEEKDAY(DATE($H$1,3,1))+1+14,"") | B7: =IF(MONTH(DATE($H$1,3,1)-WEEKDAY(DATE($H$1,3,1))+1+15)=3,DATE($H$1,3,1)-WEEKDAY(DATE($H$1,3,1))+1+15,"") | C7: =IF(MONTH(DATE($H$1,3,1)-WEEKDAY(DATE($H$1,3,1))+1+16)=3,DATE($H$1,3,1)-WEEKDAY(DATE($H$1,3,1))+1+16,"") | D7: =IF(MONTH(DATE($H$1,3,1)-WEEKDAY(DATE($H$1,3,1))+1+17)=3,DATE($H$1,3,1)-WEEKDAY(DATE($H$1,3,1))+1+17,"") | E7: =IF(MONTH(DATE($H$1,3,1)-WEEKDAY(DATE($H$1,3,1))+1+18)=3,DATE($H$1,3,1)-WEEKDAY(DATE($H$1,3,1))+1+18,"") | F7: =IF(MONTH(DATE($H$1,3,1)-WEEKDAY(DATE($H$1,3,1))+1+19)=3,DATE($H$1,3,1)-WEEKDAY(DATE($H$1,3,1))+1+19,"") | G7: =IF(MONTH(DATE($H$1,3,1)-WEEKDAY(DATE($H$1,3,1))+1+20)=3,DATE($H$1,3,1)-WEEKDAY(DATE($H$1,3,1))+1+20,"")
A8: =IF(MONTH(DATE($H$1,3,1)-WEEKDAY(DATE($H$1,3,1))+1+21)=3,DATE($H$1,3,1)-WEEKDAY(DATE($H$1,3,1))+1+21,"") | B8: =IF(MONTH(DATE($H$1,3,1)-WEEKDAY(DATE($H$1,3,1))+1+22)=3,DATE($H$1,3,1)-WEEKDAY(DATE($H$1,3,1))+1+22,"") | C8: =IF(MONTH(DATE($H$1,3,1)-WEEKDAY(DATE($H$1,3,1))+1+23)=3,DATE($H$1,3,1)-WEEKDAY(DATE($H$1,3,1))+1+23,"") | D8: =IF(MONTH(DATE($H$1,3,1)-WEEKDAY(DATE($H$1,3,1))+1+24)=3,DATE($H$1,3,1)-WEEKDAY(DATE($H$1,3,1))+1+24,"") | E8: =IF(MONTH(DATE($H$1,3,1)-WEEKDAY(DATE($H$1,3,1))+1+25)=3,DATE($H$1,3,1)-WEEKDAY(DATE($H$1,3,1))+1+25,"") | F8: =IF(MONTH(DATE($H$1,3,1)-WEEKDAY(DATE($H$1,3,1))+1+26)=3,DATE($H$1,3,1)-WEEKDAY(DATE($H$1,3,1))+1+26,"") | G8: =IF(MONTH(DATE($H$1,3,1)-WEEKDAY(DATE($H$1,3,1))+1+27)=3,DATE($H$1,3,1)-WEEKDAY(DATE($H$1,3,1))+1+27,"")
A9: =IF(MONTH(DATE($H$1,3,1)-WEEKDAY(DATE($H$1,3,1))+1+28)=3,DATE($H$1,3,1)-WEEKDAY(DATE($H$1,3,1))+1+28,"") | B9: =IF(MONTH(DATE($H$1,3,1)-WEEKDAY(DATE($H$1,3,1))+1+29)=3,DATE($H$1,3,1)-WEEKDAY(DATE($H$1,3,1))+1+29,"") | C9: =IF(MONTH(DATE($H$1,3,1)-WEEKDAY(DATE($H$1,3,1))+1+30)=3,DATE($H$1,3,1)-WEEKDAY(DATE($H$1,3,1))+1+30,"") | D9: =IF(MONTH(DATE($H$1,3,1)-WEEKDAY(DATE($H$1,3,1))+1+31)=3,DATE($H$1,3,1)-WEEKDAY(DATE($H$1,3,1))+1+31,"") | E9: =IF(MONTH(DATE($H$1,3,1)-WEEKDAY(DATE($H$1,3,1))+1+32)=3,DATE($H$1,3,1)-WEEKDAY(DATE($H$1,3,1))+1+32,"") | F9: =IF(MONTH(DATE($H$1,3,1)-WEEKDAY(DATE($H$1,3,1))+1+33)=3,DATE($H$1,3,1)-WEEKDAY(DATE($H$1,3,1))+1+33,"") | G9: =IF(MONTH(DATE($H$1,3,1)-WEEKDAY(DATE($H$1,3,1))+1+34)=3,DATE($H$1,3,1)-WEEKDAY(DATE($H$1,3,1))+1+34,"")
A10: =IF(MONTH(DATE($H$1,3,1)-WEEKDAY(DATE($H$1,3,1))+1+35)=3,DATE($H$1,3,1)-WEEKDAY(DATE($H$1,3,1))+1+35,"") | B10: =IF(MONTH(DATE($H$1,3,1)-WEEKDAY(DATE($H$1,3,1))+1+36)=3,DATE($H$1,3,1)-WEEKDAY(DATE($H$1,3,1))+1+36,"") | C10: =IF(MONTH(DATE($H$1,3,1)-WEEKDAY(DATE($H$1,3,1))+1+37)=3,DATE($H$1,3,1)-WEEKDAY(DATE($H$1,3,1))+1+37,"") | D10: =IF(MONTH(DATE($H$1,3,1)-WEEKDAY(DATE($H$1,3,1))+1+38)=3,DATE($H$1,3,1)-WEEKDAY(DATE($H$1,3,1))+1+38,"") | E10: =IF(MONTH(DATE($H$1,3,1)-WEEKDAY(DATE($H$1,3,1))+1+39)=3,DATE($H$1,3,1)-WEEKDAY(DATE($H$1,3,1))+1+39,"") | F10: =IF(MONTH(DATE($H$1,3,1)-WEEKDAY(DATE($H$1,3,1))+1+40)=3,DATE($H$1,3,1)-WEEKDAY(DATE($H$1,3,1))+1+40,"") | G10: =IF(MONTH(DATE($H$1,3,1)-WEEKDAY(DATE($H$1,3,1))+1+41)=3,DATE($H$1,3,1)-WEEKDAY(DATE($H$1,3,1))+1+41,"")
A11: Notes

Sheet Apr
A1: ="April "&$H$1 | H1: =Jan!$H$1
A3: April
A4: Sun | B4: Mon | C4: Tue | D4: Wed | E4: Thu | F4: Fri | G4: Sat
A5: =IF(MONTH(DATE($H$1,4,1)-WEEKDAY(DATE($H$1,4,1))+1+0)=4,DATE($H$1,4,1)-WEEKDAY(DATE($H$1,4,1))+1+0,"") | B5: =IF(MONTH(DATE($H$1,4,1)-WEEKDAY(DATE($H$1,4,1))+1+1)=4,DATE($H$1,4,1)-WEEKDAY(DATE($H$1,4,1))+1+1,"") | C5: =IF(MONTH(DATE($H$1,4,1)-WEEKDAY(DATE($H$1,4,1))+1+2)=4,DATE($H$1,4,1)-WEEKDAY(DATE($H$1,4,1))+1+2,"") | D5: =IF(MONTH(DATE($H$1,4,1)-WEEKDAY(DATE($H$1,4,1))+1+3)=4,DATE($H$1,4,1)-WEEKDAY(DATE($H$1,4,1))+1+3,"") | E5: =IF(MONTH(DATE($H$1,4,1)-WEEKDAY(DATE($H$1,4,1))+1+4)=4,DATE($H$1,4,1)-WEEKDAY(DATE($H$1,4,1))+1+4,"") | F5: =IF(MONTH(DATE($H$1,4,1)-WEEKDAY(DATE($H$1,4,1))+1+5)=4,DATE($H$1,4,1)-WEEKDAY(DATE($H$1,4,1))+1+5,"") | G5: =IF(MONTH(DATE($H$1,4,1)-WEEKDAY(DATE($H$1,4,1))+1+6)=4,DATE($H$1,4,1)-WEEKDAY(DATE($H$1,4,1))+1+6,"")
A6: =IF(MONTH(DATE($H$1,4,1)-WEEKDAY(DATE($H$1,4,1))+1+7)=4,DATE($H$1,4,1)-WEEKDAY(DATE($H$1,4,1))+1+7,"") | B6: =IF(MONTH(DATE($H$1,4,1)-WEEKDAY(DATE($H$1,4,1))+1+8)=4,DATE($H$1,4,1)-WEEKDAY(DATE($H$1,4,1))+1+8,"") | C6: =IF(MONTH(DATE($H$1,4,1)-WEEKDAY(DATE($H$1,4,1))+1+9)=4,DATE($H$1,4,1)-WEEKDAY(DATE($H$1,4,1))+1+9,"") | D6: =IF(MONTH(DATE($H$1,4,1)-WEEKDAY(DATE($H$1,4,1))+1+10)=4,DATE($H$1,4,1)-WEEKDAY(DATE($H$1,4,1))+1+10,"") | E6: =IF(MONTH(DATE($H$1,4,1)-WEEKDAY(DATE($H$1,4,1))+1+11)=4,DATE($H$1,4,1)-WEEKDAY(DATE($H$1,4,1))+1+11,"") | F6: =IF(MONTH(DATE($H$1,4,1)-WEEKDAY(DATE($H$1,4,1))+1+12)=4,DATE($H$1,4,1)-WEEKDAY(DATE($H$1,4,1))+1+12,"") | G6: =IF(MONTH(DATE($H$1,4,1)-WEEKDAY(DATE($H$1,4,1))+1+13)=4,DATE($H$1,4,1)-WEEKDAY(DATE($H$1,4,1))+1+13,"")
A7: =IF(MONTH(DATE($H$1,4,1)-WEEKDAY(DATE($H$1,4,1))+1+14)=4,DATE($H$1,4,1)-WEEKDAY(DATE($H$1,4,1))+1+14,"") | B7: =IF(MONTH(DATE($H$1,4,1)-WEEKDAY(DATE($H$1,4,1))+1+15)=4,DATE($H$1,4,1)-WEEKDAY(DATE($H$1,4,1))+1+15,"") | C7: =IF(MONTH(DATE($H$1,4,1)-WEEKDAY(DATE($H$1,4,1))+1+16)=4,DATE($H$1,4,1)-WEEKDAY(DATE($H$1,4,1))+1+16,"") | D7: =IF(MONTH(DATE($H$1,4,1)-WEEKDAY(DATE($H$1,4,1))+1+17)=4,DATE($H$1,4,1)-WEEKDAY(DATE($H$1,4,1))+1+17,"") | E7: =IF(MONTH(DATE($H$1,4,1)-WEEKDAY(DATE($H$1,4,1))+1+18)=4,DATE($H$1,4,1)-WEEKDAY(DATE($H$1,4,1))+1+18,"") | F7: =IF(MONTH(DATE($H$1,4,1)-WEEKDAY(DATE($H$1,4,1))+1+19)=4,DATE($H$1,4,1)-WEEKDAY(DATE($H$1,4,1))+1+19,"") | G7: =IF(MONTH(DATE($H$1,4,1)-WEEKDAY(DATE($H$1,4,1))+1+20)=4,DATE($H$1,4,1)-WEEKDAY(DATE($H$1,4,1))+1+20,"")
A8: =IF(MONTH(DATE($H$1,4,1)-WEEKDAY(DATE($H$1,4,1))+1+21)=4,DATE($H$1,4,1)-WEEKDAY(DATE($H$1,4,1))+1+21,"") | B8: =IF(MONTH(DATE($H$1,4,1)-WEEKDAY(DATE($H$1,4,1))+1+22)=4,DATE($H$1,4,1)-WEEKDAY(DATE($H$1,4,1))+1+22,"") | C8: =IF(MONTH(DATE($H$1,4,1)-WEEKDAY(DATE($H$1,4,1))+1+23)=4,DATE($H$1,4,1)-WEEKDAY(DATE($H$1,4,1))+1+23,"") | D8: =IF(MONTH(DATE($H$1,4,1)-WEEKDAY(DATE($H$1,4,1))+1+24)=4,DATE($H$1,4,1)-WEEKDAY(DATE($H$1,4,1))+1+24,"") | E8: =IF(MONTH(DATE($H$1,4,1)-WEEKDAY(DATE($H$1,4,1))+1+25)=4,DATE($H$1,4,1)-WEEKDAY(DATE($H$1,4,1))+1+25,"") | F8: =IF(MONTH(DATE($H$1,4,1)-WEEKDAY(DATE($H$1,4,1))+1+26)=4,DATE($H$1,4,1)-WEEKDAY(DATE($H$1,4,1))+1+26,"") | G8: =IF(MONTH(DATE($H$1,4,1)-WEEKDAY(DATE($H$1,4,1))+1+27)=4,DATE($H$1,4,1)-WEEKDAY(DATE($H$1,4,1))+1+27,"")
A9: =IF(MONTH(DATE($H$1,4,1)-WEEKDAY(DATE($H$1,4,1))+1+28)=4,DATE($H$1,4,1)-WEEKDAY(DATE($H$1,4,1))+1+28,"") | B9: =IF(MONTH(DATE($H$1,4,1)-WEEKDAY(DATE($H$1,4,1))+1+29)=4,DATE($H$1,4,1)-WEEKDAY(DATE($H$1,4,1))+1+29,"") | C9: =IF(MONTH(DATE($H$1,4,1)-WEEKDAY(DATE($H$1,4,1))+1+30)=4,DATE($H$1,4,1)-WEEKDAY(DATE($H$1,4,1))+1+30,"") | D9: =IF(MONTH(DATE($H$1,4,1)-WEEKDAY(DATE($H$1,4,1))+1+31)=4,DATE($H$1,4,1)-WEEKDAY(DATE($H$1,4,1))+1+31,"") | E9: =IF(MONTH(DATE($H$1,4,1)-WEEKDAY(DATE($H$1,4,1))+1+32)=4,DATE($H$1,4,1)-WEEKDAY(DATE($H$1,4,1))+1+32,"") | F9: =IF(MONTH(DATE($H$1,4,1)-WEEKDAY(DATE($H$1,4,1))+1+33)=4,DATE($H$1,4,1)-WEEKDAY(DATE($H$1,4,1))+1+33,"") | G9: =IF(MONTH(DATE($H$1,4,1)-WEEKDAY(DATE($H$1,4,1))+1+34)=4,DATE($H$1,4,1)-WEEKDAY(DATE($H$1,4,1))+1+34,"")
A10: =IF(MONTH(DATE($H$1,4,1)-WEEKDAY(DATE($H$1,4,1))+1+35)=4,DATE($H$1,4,1)-WEEKDAY(DATE($H$1,4,1))+1+35,"") | B10: =IF(MONTH(DATE($H$1,4,1)-WEEKDAY(DATE($H$1,4,1))+1+36)=4,DATE($H$1,4,1)-WEEKDAY(DATE($H$1,4,1))+1+36,"") | C10: =IF(MONTH(DATE($H$1,4,1)-WEEKDAY(DATE($H$1,4,1))+1+37)=4,DATE($H$1,4,1)-WEEKDAY(DATE($H$1,4,1))+1+37,"") | D10: =IF(MONTH(DATE($H$1,4,1)-WEEKDAY(DATE($H$1,4,1))+1+38)=4,DATE($H$1,4,1)-WEEKDAY(DATE($H$1,4,1))+1+38,"") | E10: =IF(MONTH(DATE($H$1,4,1)-WEEKDAY(DATE($H$1,4,1))+1+39)=4,DATE($H$1,4,1)-WEEKDAY(DATE($H$1,4,1))+1+39,"") | F10: =IF(MONTH(DATE($H$1,4,1)-WEEKDAY(DATE($H$1,4,1))+1+40)=4,DATE($H$1,4,1)-WEEKDAY(DATE($H$1,4,1))+1+40,"") | G10: =IF(MONTH(DATE($H$1,4,1)-WEEKDAY(DATE($H$1,4,1))+1+41)=4,DATE($H$1,4,1)-WEEKDAY(DATE($H$1,4,1))+1+41,"")
A11: Notes

Sheet May
A1: ="May "&$H$1 | H1: =Jan!$H$1
A3: May
A4: Sun | B4: Mon | C4: Tue | D4: Wed | E4: Thu | F4: Fri | G4: Sat
A5: =IF(MONTH(DATE($H$1,5,1)-WEEKDAY(DATE($H$1,5,1))+1+0)=5,DATE($H$1,5,1)-WEEKDAY(DATE($H$1,5,1))+1+0,"") | B5: =IF(MONTH(DATE($H$1,5,1)-WEEKDAY(DATE($H$1,5,1))+1+1)=5,DATE($H$1,5,1)-WEEKDAY(DATE($H$1,5,1))+1+1,"") | C5: =IF(MONTH(DATE($H$1,5,1)-WEEKDAY(DATE($H$1,5,1))+1+2)=5,DATE($H$1,5,1)-WEEKDAY(DATE($H$1,5,1))+1+2,"") | D5: =IF(MONTH(DATE($H$1,5,1)-WEEKDAY(DATE($H$1,5,1))+1+3)=5,DATE($H$1,5,1)-WEEKDAY(DATE($H$1,5,1))+1+3,"") | E5: =IF(MONTH(DATE($H$1,5,1)-WEEKDAY(DATE($H$1,5,1))+1+4)=5,DATE($H$1,5,1)-WEEKDAY(DATE($H$1,5,1))+1+4,"") | F5: =IF(MONTH(DATE($H$1,5,1)-WEEKDAY(DATE($H$1,5,1))+1+5)=5,DATE($H$1,5,1)-WEEKDAY(DATE($H$1,5,1))+1+5,"") | G5: =IF(MONTH(DATE($H$1,5,1)-WEEKDAY(DATE($H$1,5,1))+1+6)=5,DATE($H$1,5,1)-WEEKDAY(DATE($H$1,5,1))+1+6,"")
A6: =IF(MONTH(DATE($H$1,5,1)-WEEKDAY(DATE($H$1,5,1))+1+7)=5,DATE($H$1,5,1)-WEEKDAY(DATE($H$1,5,1))+1+7,"") | B6: =IF(MONTH(DATE($H$1,5,1)-WEEKDAY(DATE($H$1,5,1))+1+8)=5,DATE($H$1,5,1)-WEEKDAY(DATE($H$1,5,1))+1+8,"") | C6: =IF(MONTH(DATE($H$1,5,1)-WEEKDAY(DATE($H$1,5,1))+1+9)=5,DATE($H$1,5,1)-WEEKDAY(DATE($H$1,5,1))+1+9,"") | D6: =IF(MONTH(DATE($H$1,5,1)-WEEKDAY(DATE($H$1,5,1))+1+10)=5,DATE($H$1,5,1)-WEEKDAY(DATE($H$1,5,1))+1+10,"") | E6: =IF(MONTH(DATE($H$1,5,1)-WEEKDAY(DATE($H$1,5,1))+1+11)=5,DATE($H$1,5,1)-WEEKDAY(DATE($H$1,5,1))+1+11,"") | F6: =IF(MONTH(DATE($H$1,5,1)-WEEKDAY(DATE($H$1,5,1))+1+12)=5,DATE($H$1,5,1)-WEEKDAY(DATE($H$1,5,1))+1+12,"") | G6: =IF(MONTH(DATE($H$1,5,1)-WEEKDAY(DATE($H$1,5,1))+1+13)=5,DATE($H$1,5,1)-WEEKDAY(DATE($H$1,5,1))+1+13,"")
A7: =IF(MONTH(DATE($H$1,5,1)-WEEKDAY(DATE($H$1,5,1))+1+14)=5,DATE($H$1,5,1)-WEEKDAY(DATE($H$1,5,1))+1+14,"") | B7: =IF(MONTH(DATE($H$1,5,1)-WEEKDAY(DATE($H$1,5,1))+1+15)=5,DATE($H$1,5,1)-WEEKDAY(DATE($H$1,5,1))+1+15,"") | C7: =IF(MONTH(DATE($H$1,5,1)-WEEKDAY(DATE($H$1,5,1))+1+16)=5,DATE($H$1,5,1)-WEEKDAY(DATE($H$1,5,1))+1+16,"") | D7: =IF(MONTH(DATE($H$1,5,1)-WEEKDAY(DATE($H$1,5,1))+1+17)=5,DATE($H$1,5,1)-WEEKDAY(DATE($H$1,5,1))+1+17,"") | E7: =IF(MONTH(DATE($H$1,5,1)-WEEKDAY(DATE($H$1,5,1))+1+18)=5,DATE($H$1,5,1)-WEEKDAY(DATE($H$1,5,1))+1+18,"") | F7: =IF(MONTH(DATE($H$1,5,1)-WEEKDAY(DATE($H$1,5,1))+1+19)=5,DATE($H$1,5,1)-WEEKDAY(DATE($H$1,5,1))+1+19,"") | G7: =IF(MONTH(DATE($H$1,5,1)-WEEKDAY(DATE($H$1,5,1))+1+20)=5,DATE($H$1,5,1)-WEEKDAY(DATE($H$1,5,1))+1+20,"")
A8: =IF(MONTH(DATE($H$1,5,1)-WEEKDAY(DATE($H$1,5,1))+1+21)=5,DATE($H$1,5,1)-WEEKDAY(DATE($H$1,5,1))+1+21,"") | B8: =IF(MONTH(DATE($H$1,5,1)-WEEKDAY(DATE($H$1,5,1))+1+22)=5,DATE($H$1,5,1)-WEEKDAY(DATE($H$1,5,1))+1+22,"") | C8: =IF(MONTH(DATE($H$1,5,1)-WEEKDAY(DATE($H$1,5,1))+1+23)=5,DATE($H$1,5,1)-WEEKDAY(DATE($H$1,5,1))+1+23,"") | D8: =IF(MONTH(DATE($H$1,5,1)-WEEKDAY(DATE($H$1,5,1))+1+24)=5,DATE($H$1,5,1)-WEEKDAY(DATE($H$1,5,1))+1+24,"") | E8: =IF(MONTH(DATE($H$1,5,1)-WEEKDAY(DATE($H$1,5,1))+1+25)=5,DATE($H$1,5,1)-WEEKDAY(DATE($H$1,5,1))+1+25,"") | F8: =IF(MONTH(DATE($H$1,5,1)-WEEKDAY(DATE($H$1,5,1))+1+26)=5,DATE($H$1,5,1)-WEEKDAY(DATE($H$1,5,1))+1+26,"") | G8: =IF(MONTH(DATE($H$1,5,1)-WEEKDAY(DATE($H$1,5,1))+1+27)=5,DATE($H$1,5,1)-WEEKDAY(DATE($H$1,5,1))+1+27,"")
A9: =IF(MONTH(DATE($H$1,5,1)-WEEKDAY(DATE($H$1,5,1))+1+28)=5,DATE($H$1,5,1)-WEEKDAY(DATE($H$1,5,1))+1+28,"") | B9: =IF(MONTH(DATE($H$1,5,1)-WEEKDAY(DATE($H$1,5,1))+1+29)=5,DATE($H$1,5,1)-WEEKDAY(DATE($H$1,5,1))+1+29,"") | C9: =IF(MONTH(DATE($H$1,5,1)-WEEKDAY(DATE($H$1,5,1))+1+30)=5,DATE($H$1,5,1)-WEEKDAY(DATE($H$1,5,1))+1+30,"") | D9: =IF(MONTH(DATE($H$1,5,1)-WEEKDAY(DATE($H$1,5,1))+1+31)=5,DATE($H$1,5,1)-WEEKDAY(DATE($H$1,5,1))+1+31,"") | E9: =IF(MONTH(DATE($H$1,5,1)-WEEKDAY(DATE($H$1,5,1))+1+32)=5,DATE($H$1,5,1)-WEEKDAY(DATE($H$1,5,1))+1+32,"") | F9: =IF(MONTH(DATE($H$1,5,1)-WEEKDAY(DATE($H$1,5,1))+1+33)=5,DATE($H$1,5,1)-WEEKDAY(DATE($H$1,5,1))+1+33,"") | G9: =IF(MONTH(DATE($H$1,5,1)-WEEKDAY(DATE($H$1,5,1))+1+34)=5,DATE($H$1,5,1)-WEEKDAY(DATE($H$1,5,1))+1+34,"")
A10: =IF(MONTH(DATE($H$1,5,1)-WEEKDAY(DATE($H$1,5,1))+1+35)=5,DATE($H$1,5,1)-WEEKDAY(DATE($H$1,5,1))+1+35,"") | B10: =IF(MONTH(DATE($H$1,5,1)-WEEKDAY(DATE($H$1,5,1))+1+36)=5,DATE($H$1,5,1)-WEEKDAY(DATE($H$1,5,1))+1+36,"") | C10: =IF(MONTH(DATE($H$1,5,1)-WEEKDAY(DATE($H$1,5,1))+1+37)=5,DATE($H$1,5,1)-WEEKDAY(DATE($H$1,5,1))+1+37,"") | D10: =IF(MONTH(DATE($H$1,5,1)-WEEKDAY(DATE($H$1,5,1))+1+38)=5,DATE($H$1,5,1)-WEEKDAY(DATE($H$1,5,1))+1+38,"") | E10: =IF(MONTH(DATE($H$1,5,1)-WEEKDAY(DATE($H$1,5,1))+1+39)=5,DATE($H$1,5,1)-WEEKDAY(DATE($H$1,5,1))+1+39,"") | F10: =IF(MONTH(DATE($H$1,5,1)-WEEKDAY(DATE($H$1,5,1))+1+40)=5,DATE($H$1,5,1)-WEEKDAY(DATE($H$1,5,1))+1+40,"") | G10: =IF(MONTH(DATE($H$1,5,1)-WEEKDAY(DATE($H$1,5,1))+1+41)=5,DATE($H$1,5,1)-WEEKDAY(DATE($H$1,5,1))+1+41,"")
A11: Notes

Sheet Jun
A1: ="June "&$H$1 | H1: =Jan!$H$1
A3: June
A4: Sun | B4: Mon | C4: Tue | D4: Wed | E4: Thu | F4: Fri | G4: Sat
A5: =IF(MONTH(DATE($H$1,6,1)-WEEKDAY(DATE($H$1,6,1))+1+0)=6,DATE($H$1,6,1)-WEEKDAY(DATE($H$1,6,1))+1+0,"") | B5: =IF(MONTH(DATE($H$1,6,1)-WEEKDAY(DATE($H$1,6,1))+1+1)=6,DATE($H$1,6,1)-WEEKDAY(DATE($H$1,6,1))+1+1,"") | C5: =IF(MONTH(DATE($H$1,6,1)-WEEKDAY(DATE($H$1,6,1))+1+2)=6,DATE($H$1,6,1)-WEEKDAY(DATE($H$1,6,1))+1+2,"") | D5: =IF(MONTH(DATE($H$1,6,1)-WEEKDAY(DATE($H$1,6,1))+1+3)=6,DATE($H$1,6,1)-WEEKDAY(DATE($H$1,6,1))+1+3,"") | E5: =IF(MONTH(DATE($H$1,6,1)-WEEKDAY(DATE($H$1,6,1))+1+4)=6,DATE($H$1,6,1)-WEEKDAY(DATE($H$1,6,1))+1+4,"") | F5: =IF(MONTH(DATE($H$1,6,1)-WEEKDAY(DATE($H$1,6,1))+1+5)=6,DATE($H$1,6,1)-WEEKDAY(DATE($H$1,6,1))+1+5,"") | G5: =IF(MONTH(DATE($H$1,6,1)-WEEKDAY(DATE($H$1,6,1))+1+6)=6,DATE($H$1,6,1)-WEEKDAY(DATE($H$1,6,1))+1+6,"")
A6: =IF(MONTH(DATE($H$1,6,1)-WEEKDAY(DATE($H$1,6,1))+1+7)=6,DATE($H$1,6,1)-WEEKDAY(DATE($H$1,6,1))+1+7,"") | B6: =IF(MONTH(DATE($H$1,6,1)-WEEKDAY(DATE($H$1,6,1))+1+8)=6,DATE($H$1,6,1)-WEEKDAY(DATE($H$1,6,1))+1+8,"") | C6: =IF(MONTH(DATE($H$1,6,1)-WEEKDAY(DATE($H$1,6,1))+1+9)=6,DATE($H$1,6,1)-WEEKDAY(DATE($H$1,6,1))+1+9,"") | D6: =IF(MONTH(DATE($H$1,6,1)-WEEKDAY(DATE($H$1,6,1))+1+10)=6,DATE($H$1,6,1)-WEEKDAY(DATE($H$1,6,1))+1+10,"") | E6: =IF(MONTH(DATE($H$1,6,1)-WEEKDAY(DATE($H$1,6,1))+1+11)=6,DATE($H$1,6,1)-WEEKDAY(DATE($H$1,6,1))+1+11,"") | F6: =IF(MONTH(DATE($H$1,6,1)-WEEKDAY(DATE($H$1,6,1))+1+12)=6,DATE($H$1,6,1)-WEEKDAY(DATE($H$1,6,1))+1+12,"") | G6: =IF(MONTH(DATE($H$1,6,1)-WEEKDAY(DATE($H$1,6,1))+1+13)=6,DATE($H$1,6,1)-WEEKDAY(DATE($H$1,6,1))+1+13,"")
A7: =IF(MONTH(DATE($H$1,6,1)-WEEKDAY(DATE($H$1,6,1))+1+14)=6,DATE($H$1,6,1)-WEEKDAY(DATE($H$1,6,1))+1+14,"") | B7: =IF(MONTH(DATE($H$1,6,1)-WEEKDAY(DATE($H$1,6,1))+1+15)=6,DATE($H$1,6,1)-WEEKDAY(DATE($H$1,6,1))+1+15,"") | C7: =IF(MONTH(DATE($H$1,6,1)-WEEKDAY(DATE($H$1,6,1))+1+16)=6,DATE($H$1,6,1)-WEEKDAY(DATE($H$1,6,1))+1+16,"") | D7: =IF(MONTH(DATE($H$1,6,1)-WEEKDAY(DATE($H$1,6,1))+1+17)=6,DATE($H$1,6,1)-WEEKDAY(DATE($H$1,6,1))+1+17,"") | E7: =IF(MONTH(DATE($H$1,6,1)-WEEKDAY(DATE($H$1,6,1))+1+18)=6,DATE($H$1,6,1)-WEEKDAY(DATE($H$1,6,1))+1+18,"") | F7: =IF(MONTH(DATE($H$1,6,1)-WEEKDAY(DATE($H$1,6,1))+1+19)=6,DATE($H$1,6,1)-WEEKDAY(DATE($H$1,6,1))+1+19,"") | G7: =IF(MONTH(DATE($H$1,6,1)-WEEKDAY(DATE($H$1,6,1))+1+20)=6,DATE($H$1,6,1)-WEEKDAY(DATE($H$1,6,1))+1+20,"")
A8: =IF(MONTH(DATE($H$1,6,1)-WEEKDAY(DATE($H$1,6,1))+1+21)=6,DATE($H$1,6,1)-WEEKDAY(DATE($H$1,6,1))+1+21,"") | B8: =IF(MONTH(DATE($H$1,6,1)-WEEKDAY(DATE($H$1,6,1))+1+22)=6,DATE($H$1,6,1)-WEEKDAY(DATE($H$1,6,1))+1+22,"") | C8: =IF(MONTH(DATE($H$1,6,1)-WEEKDAY(DATE($H$1,6,1))+1+23)=6,DATE($H$1,6,1)-WEEKDAY(DATE($H$1,6,1))+1+23,"") | D8: =IF(MONTH(DATE($H$1,6,1)-WEEKDAY(DATE($H$1,6,1))+1+24)=6,DATE($H$1,6,1)-WEEKDAY(DATE($H$1,6,1))+1+24,"") | E8: =IF(MONTH(DATE($H$1,6,1)-WEEKDAY(DATE($H$1,6,1))+1+25)=6,DATE($H$1,6,1)-WEEKDAY(DATE($H$1,6,1))+1+25,"") | F8: =IF(MONTH(DATE($H$1,6,1)-WEEKDAY(DATE($H$1,6,1))+1+26)=6,DATE($H$1,6,1)-WEEKDAY(DATE($H$1,6,1))+1+26,"") | G8: =IF(MONTH(DATE($H$1,6,1)-WEEKDAY(DATE($H$1,6,1))+1+27)=6,DATE($H$1,6,1)-WEEKDAY(DATE($H$1,6,1))+1+27,"")
A9: =IF(MONTH(DATE($H$1,6,1)-WEEKDAY(DATE($H$1,6,1))+1+28)=6,DATE($H$1,6,1)-WEEKDAY(DATE($H$1,6,1))+1+28,"") | B9: =IF(MONTH(DATE($H$1,6,1)-WEEKDAY(DATE($H$1,6,1))+1+29)=6,DATE($H$1,6,1)-WEEKDAY(DATE($H$1,6,1))+1+29,"") | C9: =IF(MONTH(DATE($H$1,6,1)-WEEKDAY(DATE($H$1,6,1))+1+30)=6,DATE($H$1,6,1)-WEEKDAY(DATE($H$1,6,1))+1+30,"") | D9: =IF(MONTH(DATE($H$1,6,1)-WEEKDAY(DATE($H$1,6,1))+1+31)=6,DATE($H$1,6,1)-WEEKDAY(DATE($H$1,6,1))+1+31,"") | E9: =IF(MONTH(DATE($H$1,6,1)-WEEKDAY(DATE($H$1,6,1))+1+32)=6,DATE($H$1,6,1)-WEEKDAY(DATE($H$1,6,1))+1+32,"") | F9: =IF(MONTH(DATE($H$1,6,1)-WEEKDAY(DATE($H$1,6,1))+1+33)=6,DATE($H$1,6,1)-WEEKDAY(DATE($H$1,6,1))+1+33,"") | G9: =IF(MONTH(DATE($H$1,6,1)-WEEKDAY(DATE($H$1,6,1))+1+34)=6,DATE($H$1,6,1)-WEEKDAY(DATE($H$1,6,1))+1+34,"")
A10: =IF(MONTH(DATE($H$1,6,1)-WEEKDAY(DATE($H$1,6,1))+1+35)=6,DATE($H$1,6,1)-WEEKDAY(DATE($H$1,6,1))+1+35,"") | B10: =IF(MONTH(DATE($H$1,6,1)-WEEKDAY(DATE($H$1,6,1))+1+36)=6,DATE($H$1,6,1)-WEEKDAY(DATE($H$1,6,1))+1+36,"") | C10: =IF(MONTH(DATE($H$1,6,1)-WEEKDAY(DATE($H$1,6,1))+1+37)=6,DATE($H$1,6,1)-WEEKDAY(DATE($H$1,6,1))+1+37,"") | D10: =IF(MONTH(DATE($H$1,6,1)-WEEKDAY(DATE($H$1,6,1))+1+38)=6,DATE($H$1,6,1)-WEEKDAY(DATE($H$1,6,1))+1+38,"") | E10: =IF(MONTH(DATE($H$1,6,1)-WEEKDAY(DATE($H$1,6,1))+1+39)=6,DATE($H$1,6,1)-WEEKDAY(DATE($H$1,6,1))+1+39,"") | F10: =IF(MONTH(DATE($H$1,6,1)-WEEKDAY(DATE($H$1,6,1))+1+40)=6,DATE($H$1,6,1)-WEEKDAY(DATE($H$1,6,1))+1+40,"") | G10: =IF(MONTH(DATE($H$1,6,1)-WEEKDAY(DATE($H$1,6,1))+1+41)=6,DATE($H$1,6,1)-WEEKDAY(DATE($H$1,6,1))+1+41,"")
A11: Notes

Sheet Jul
A1: ="July "&$H$1 | H1: =Jan!$H$1
A3: July
A4: Sun | B4: Mon | C4: Tue | D4: Wed | E4: Thu | F4: Fri | G4: Sat
A5: =IF(MONTH(DATE($H$1,7,1)-WEEKDAY(DATE($H$1,7,1))+1+0)=7,DATE($H$1,7,1)-WEEKDAY(DATE($H$1,7,1))+1+0,"") | B5: =IF(MONTH(DATE($H$1,7,1)-WEEKDAY(DATE($H$1,7,1))+1+1)=7,DATE($H$1,7,1)-WEEKDAY(DATE($H$1,7,1))+1+1,"") | C5: =IF(MONTH(DATE($H$1,7,1)-WEEKDAY(DATE($H$1,7,1))+1+2)=7,DATE($H$1,7,1)-WEEKDAY(DATE($H$1,7,1))+1+2,"") | D5: =IF(MONTH(DATE($H$1,7,1)-WEEKDAY(DATE($H$1,7,1))+1+3)=7,DATE($H$1,7,1)-WEEKDAY(DATE($H$1,7,1))+1+3,"") | E5: =IF(MONTH(DATE($H$1,7,1)-WEEKDAY(DATE($H$1,7,1))+1+4)=7,DATE($H$1,7,1)-WEEKDAY(DATE($H$1,7,1))+1+4,"") | F5: =IF(MONTH(DATE($H$1,7,1)-WEEKDAY(DATE($H$1,7,1))+1+5)=7,DATE($H$1,7,1)-WEEKDAY(DATE($H$1,7,1))+1+5,"") | G5: =IF(MONTH(DATE($H$1,7,1)-WEEKDAY(DATE($H$1,7,1))+1+6)=7,DATE($H$1,7,1)-WEEKDAY(DATE($H$1,7,1))+1+6,"")
A6: =IF(MONTH(DATE($H$1,7,1)-WEEKDAY(DATE($H$1,7,1))+1+7)=7,DATE($H$1,7,1)-WEEKDAY(DATE($H$1,7,1))+1+7,"") | B6: =IF(MONTH(DATE($H$1,7,1)-WEEKDAY(DATE($H$1,7,1))+1+8)=7,DATE($H$1,7,1)-WEEKDAY(DATE($H$1,7,1))+1+8,"") | C6: =IF(MONTH(DATE($H$1,7,1)-WEEKDAY(DATE($H$1,7,1))+1+9)=7,DATE($H$1,7,1)-WEEKDAY(DATE($H$1,7,1))+1+9,"") | D6: =IF(MONTH(DATE($H$1,7,1)-WEEKDAY(DATE($H$1,7,1))+1+10)=7,DATE($H$1,7,1)-WEEKDAY(DATE($H$1,7,1))+1+10,"") | E6: =IF(MONTH(DATE($H$1,7,1)-WEEKDAY(DATE($H$1,7,1))+1+11)=7,DATE($H$1,7,1)-WEEKDAY(DATE($H$1,7,1))+1+11,"") | F6: =IF(MONTH(DATE($H$1,7,1)-WEEKDAY(DATE($H$1,7,1))+1+12)=7,DATE($H$1,7,1)-WEEKDAY(DATE($H$1,7,1))+1+12,"") | G6: =IF(MONTH(DATE($H$1,7,1)-WEEKDAY(DATE($H$1,7,1))+1+13)=7,DATE($H$1,7,1)-WEEKDAY(DATE($H$1,7,1))+1+13,"")
A7: =IF(MONTH(DATE($H$1,7,1)-WEEKDAY(DATE($H$1,7,1))+1+14)=7,DATE($H$1,7,1)-WEEKDAY(DATE($H$1,7,1))+1+14,"") | B7: =IF(MONTH(DATE($H$1,7,1)-WEEKDAY(DATE($H$1,7,1))+1+15)=7,DATE($H$1,7,1)-WEEKDAY(DATE($H$1,7,1))+1+15,"") | C7: =IF(MONTH(DATE($H$1,7,1)-WEEKDAY(DATE($H$1,7,1))+1+16)=7,DATE($H$1,7,1)-WEEKDAY(DATE($H$1,7,1))+1+16,"") | D7: =IF(MONTH(DATE($H$1,7,1)-WEEKDAY(DATE($H$1,7,1))+1+17)=7,DATE($H$1,7,1)-WEEKDAY(DATE($H$1,7,1))+1+17,"") | E7: =IF(MONTH(DATE($H$1,7,1)-WEEKDAY(DATE($H$1,7,1))+1+18)=7,DATE($H$1,7,1)-WEEKDAY(DATE($H$1,7,1))+1+18,"") | F7: =IF(MONTH(DATE($H$1,7,1)-WEEKDAY(DATE($H$1,7,1))+1+19)=7,DATE($H$1,7,1)-WEEKDAY(DATE($H$1,7,1))+1+19,"") | G7: =IF(MONTH(DATE($H$1,7,1)-WEEKDAY(DATE($H$1,7,1))+1+20)=7,DATE($H$1,7,1)-WEEKDAY(DATE($H$1,7,1))+1+20,"")
A8: =IF(MONTH(DATE($H$1,7,1)-WEEKDAY(DATE($H$1,7,1))+1+21)=7,DATE($H$1,7,1)-WEEKDAY(DATE($H$1,7,1))+1+21,"") | B8: =IF(MONTH(DATE($H$1,7,1)-WEEKDAY(DATE($H$1,7,1))+1+22)=7,DATE($H$1,7,1)-WEEKDAY(DATE($H$1,7,1))+1+22,"") | C8: =IF(MONTH(DATE($H$1,7,1)-WEEKDAY(DATE($H$1,7,1))+1+23)=7,DATE($H$1,7,1)-WEEKDAY(DATE($H$1,7,1))+1+23,"") | D8: =IF(MONTH(DATE($H$1,7,1)-WEEKDAY(DATE($H$1,7,1))+1+24)=7,DATE($H$1,7,1)-WEEKDAY(DATE($H$1,7,1))+1+24,"") | E8: =IF(MONTH(DATE($H$1,7,1)-WEEKDAY(DATE($H$1,7,1))+1+25)=7,DATE($H$1,7,1)-WEEKDAY(DATE($H$1,7,1))+1+25,"") | F8: =IF(MONTH(DATE($H$1,7,1)-WEEKDAY(DATE($H$1,7,1))+1+26)=7,DATE($H$1,7,1)-WEEKDAY(DATE($H$1,7,1))+1+26,"") | G8: =IF(MONTH(DATE($H$1,7,1)-WEEKDAY(DATE($H$1,7,1))+1+27)=7,DATE($H$1,7,1)-WEEKDAY(DATE($H$1,7,1))+1+27,"")
A9: =IF(MONTH(DATE($H$1,7,1)-WEEKDAY(DATE($H$1,7,1))+1+28)=7,DATE($H$1,7,1)-WEEKDAY(DATE($H$1,7,1))+1+28,"") | B9: =IF(MONTH(DATE($H$1,7,1)-WEEKDAY(DATE($H$1,7,1))+1+29)=7,DATE($H$1,7,1)-WEEKDAY(DATE($H$1,7,1))+1+29,"") | C9: =IF(MONTH(DATE($H$1,7,1)-WEEKDAY(DATE($H$1,7,1))+1+30)=7,DATE($H$1,7,1)-WEEKDAY(DATE($H$1,7,1))+1+30,"") | D9: =IF(MONTH(DATE($H$1,7,1)-WEEKDAY(DATE($H$1,7,1))+1+31)=7,DATE($H$1,7,1)-WEEKDAY(DATE($H$1,7,1))+1+31,"") | E9: =IF(MONTH(DATE($H$1,7,1)-WEEKDAY(DATE($H$1,7,1))+1+32)=7,DATE($H$1,7,1)-WEEKDAY(DATE($H$1,7,1))+1+32,"") | F9: =IF(MONTH(DATE($H$1,7,1)-WEEKDAY(DATE($H$1,7,1))+1+33)=7,DATE($H$1,7,1)-WEEKDAY(DATE($H$1,7,1))+1+33,"") | G9: =IF(MONTH(DATE($H$1,7,1)-WEEKDAY(DATE($H$1,7,1))+1+34)=7,DATE($H$1,7,1)-WEEKDAY(DATE($H$1,7,1))+1+34,"")
A10: =IF(MONTH(DATE($H$1,7,1)-WEEKDAY(DATE($H$1,7,1))+1+35)=7,DATE($H$1,7,1)-WEEKDAY(DATE($H$1,7,1))+1+35,"") | B10: =IF(MONTH(DATE($H$1,7,1)-WEEKDAY(DATE($H$1,7,1))+1+36)=7,DATE($H$1,7,1)-WEEKDAY(DATE($H$1,7,1))+1+36,"") | C10: =IF(MONTH(DATE($H$1,7,1)-WEEKDAY(DATE($H$1,7,1))+1+37)=7,DATE($H$1,7,1)-WEEKDAY(DATE($H$1,7,1))+1+37,"") | D10: =IF(MONTH(DATE($H$1,7,1)-WEEKDAY(DATE($H$1,7,1))+1+38)=7,DATE($H$1,7,1)-WEEKDAY(DATE($H$1,7,1))+1+38,"") | E10: =IF(MONTH(DATE($H$1,7,1)-WEEKDAY(DATE($H$1,7,1))+1+39)=7,DATE($H$1,7,1)-WEEKDAY(DATE($H$1,7,1))+1+39,"") | F10: =IF(MONTH(DATE($H$1,7,1)-WEEKDAY(DATE($H$1,7,1))+1+40)=7,DATE($H$1,7,1)-WEEKDAY(DATE($H$1,7,1))+1+40,"") | G10: =IF(MONTH(DATE($H$1,7,1)-WEEKDAY(DATE($H$1,7,1))+1+41)=7,DATE($H$1,7,1)-WEEKDAY(DATE($H$1,7,1))+1+41,"")
A11: Notes

Sheet Aug
A1: ="August "&$H$1 | H1: =Jan!$H$1
A3: August
A4: Sun | B4: Mon | C4: Tue | D4: Wed | E4: Thu | F4: Fri | G4: Sat
A5: =IF(MONTH(DATE($H$1,8,1)-WEEKDAY(DATE($H$1,8,1))+1+0)=8,DATE($H$1,8,1)-WEEKDAY(DATE($H$1,8,1))+1+0,"") | B5: =IF(MONTH(DATE($H$1,8,1)-WEEKDAY(DATE($H$1,8,1))+1+1)=8,DATE($H$1,8,1)-WEEKDAY(DATE($H$1,8,1))+1+1,"") | C5: =IF(MONTH(DATE($H$1,8,1)-WEEKDAY(DATE($H$1,8,1))+1+2)=8,DATE($H$1,8,1)-WEEKDAY(DATE($H$1,8,1))+1+2,"") | D5: =IF(MONTH(DATE($H$1,8,1)-WEEKDAY(DATE($H$1,8,1))+1+3)=8,DATE($H$1,8,1)-WEEKDAY(DATE($H$1,8,1))+1+3,"") | E5: =IF(MONTH(DATE($H$1,8,1)-WEEKDAY(DATE($H$1,8,1))+1+4)=8,DATE($H$1,8,1)-WEEKDAY(DATE($H$1,8,1))+1+4,"") | F5: =IF(MONTH(DATE($H$1,8,1)-WEEKDAY(DATE($H$1,8,1))+1+5)=8,DATE($H$1,8,1)-WEEKDAY(DATE($H$1,8,1))+1+5,"") | G5: =IF(MONTH(DATE($H$1,8,1)-WEEKDAY(DATE($H$1,8,1))+1+6)=8,DATE($H$1,8,1)-WEEKDAY(DATE($H$1,8,1))+1+6,"")
A6: =IF(MONTH(DATE($H$1,8,1)-WEEKDAY(DATE($H$1,8,1))+1+7)=8,DATE($H$1,8,1)-WEEKDAY(DATE($H$1,8,1))+1+7,"") | B6: =IF(MONTH(DATE($H$1,8,1)-WEEKDAY(DATE($H$1,8,1))+1+8)=8,DATE($H$1,8,1)-WEEKDAY(DATE($H$1,8,1))+1+8,"") | C6: =IF(MONTH(DATE($H$1,8,1)-WEEKDAY(DATE($H$1,8,1))+1+9)=8,DATE($H$1,8,1)-WEEKDAY(DATE($H$1,8,1))+1+9,"") | D6: =IF(MONTH(DATE($H$1,8,1)-WEEKDAY(DATE($H$1,8,1))+1+10)=8,DATE($H$1,8,1)-WEEKDAY(DATE($H$1,8,1))+1+10,"") | E6: =IF(MONTH(DATE($H$1,8,1)-WEEKDAY(DATE($H$1,8,1))+1+11)=8,DATE($H$1,8,1)-WEEKDAY(DATE($H$1,8,1))+1+11,"") | F6: =IF(MONTH(DATE($H$1,8,1)-WEEKDAY(DATE($H$1,8,1))+1+12)=8,DATE($H$1,8,1)-WEEKDAY(DATE($H$1,8,1))+1+12,"") | G6: =IF(MONTH(DATE($H$1,8,1)-WEEKDAY(DATE($H$1,8,1))+1+13)=8,DATE($H$1,8,1)-WEEKDAY(DATE($H$1,8,1))+1+13,"")
A7: =IF(MONTH(DATE($H$1,8,1)-WEEKDAY(DATE($H$1,8,1))+1+14)=8,DATE($H$1,8,1)-WEEKDAY(DATE($H$1,8,1))+1+14,"") | B7: =IF(MONTH(DATE($H$1,8,1)-WEEKDAY(DATE($H$1,8,1))+1+15)=8,DATE($H$1,8,1)-WEEKDAY(DATE($H$1,8,1))+1+15,"") | C7: =IF(MONTH(DATE($H$1,8,1)-WEEKDAY(DATE($H$1,8,1))+1+16)=8,DATE($H$1,8,1)-WEEKDAY(DATE($H$1,8,1))+1+16,"") | D7: =IF(MONTH(DATE($H$1,8,1)-WEEKDAY(DATE($H$1,8,1))+1+17)=8,DATE($H$1,8,1)-WEEKDAY(DATE($H$1,8,1))+1+17,"") | E7: =IF(MONTH(DATE($H$1,8,1)-WEEKDAY(DATE($H$1,8,1))+1+18)=8,DATE($H$1,8,1)-WEEKDAY(DATE($H$1,8,1))+1+18,"") | F7: =IF(MONTH(DATE($H$1,8,1)-WEEKDAY(DATE($H$1,8,1))+1+19)=8,DATE($H$1,8,1)-WEEKDAY(DATE($H$1,8,1))+1+19,"") | G7: =IF(MONTH(DATE($H$1,8,1)-WEEKDAY(DATE($H$1,8,1))+1+20)=8,DATE($H$1,8,1)-WEEKDAY(DATE($H$1,8,1))+1+20,"")
A8: =IF(MONTH(DATE($H$1,8,1)-WEEKDAY(DATE($H$1,8,1))+1+21)=8,DATE($H$1,8,1)-WEEKDAY(DATE($H$1,8,1))+1+21,"") | B8: =IF(MONTH(DATE($H$1,8,1)-WEEKDAY(DATE($H$1,8,1))+1+22)=8,DATE($H$1,8,1)-WEEKDAY(DATE($H$1,8,1))+1+22,"") | C8: =IF(MONTH(DATE($H$1,8,1)-WEEKDAY(DATE($H$1,8,1))+1+23)=8,DATE($H$1,8,1)-WEEKDAY(DATE($H$1,8,1))+1+23,"") | D8: =IF(MONTH(DATE($H$1,8,1)-WEEKDAY(DATE($H$1,8,1))+1+24)=8,DATE($H$1,8,1)-WEEKDAY(DATE($H$1,8,1))+1+24,"") | E8: =IF(MONTH(DATE($H$1,8,1)-WEEKDAY(DATE($H$1,8,1))+1+25)=8,DATE($H$1,8,1)-WEEKDAY(DATE($H$1,8,1))+1+25,"") | F8: =IF(MONTH(DATE($H$1,8,1)-WEEKDAY(DATE($H$1,8,1))+1+26)=8,DATE($H$1,8,1)-WEEKDAY(DATE($H$1,8,1))+1+26,"") | G8: =IF(MONTH(DATE($H$1,8,1)-WEEKDAY(DATE($H$1,8,1))+1+27)=8,DATE($H$1,8,1)-WEEKDAY(DATE($H$1,8,1))+1+27,"")
A9: =IF(MONTH(DATE($H$1,8,1)-WEEKDAY(DATE($H$1,8,1))+1+28)=8,DATE($H$1,8,1)-WEEKDAY(DATE($H$1,8,1))+1+28,"") | B9: =IF(MONTH(DATE($H$1,8,1)-WEEKDAY(DATE($H$1,8,1))+1+29)=8,DATE($H$1,8,1)-WEEKDAY(DATE($H$1,8,1))+1+29,"") | C9: =IF(MONTH(DATE($H$1,8,1)-WEEKDAY(DATE($H$1,8,1))+1+30)=8,DATE($H$1,8,1)-WEEKDAY(DATE($H$1,8,1))+1+30,"") | D9: =IF(MONTH(DATE($H$1,8,1)-WEEKDAY(DATE($H$1,8,1))+1+31)=8,DATE($H$1,8,1)-WEEKDAY(DATE($H$1,8,1))+1+31,"") | E9: =IF(MONTH(DATE($H$1,8,1)-WEEKDAY(DATE($H$1,8,1))+1+32)=8,DATE($H$1,8,1)-WEEKDAY(DATE($H$1,8,1))+1+32,"") | F9: =IF(MONTH(DATE($H$1,8,1)-WEEKDAY(DATE($H$1,8,1))+1+33)=8,DATE($H$1,8,1)-WEEKDAY(DATE($H$1,8,1))+1+33,"") | G9: =IF(MONTH(DATE($H$1,8,1)-WEEKDAY(DATE($H$1,8,1))+1+34)=8,DATE($H$1,8,1)-WEEKDAY(DATE($H$1,8,1))+1+34,"")
A10: =IF(MONTH(DATE($H$1,8,1)-WEEKDAY(DATE($H$1,8,1))+1+35)=8,DATE($H$1,8,1)-WEEKDAY(DATE($H$1,8,1))+1+35,"") | B10: =IF(MONTH(DATE($H$1,8,1)-WEEKDAY(DATE($H$1,8,1))+1+36)=8,DATE($H$1,8,1)-WEEKDAY(DATE($H$1,8,1))+1+36,"") | C10: =IF(MONTH(DATE($H$1,8,1)-WEEKDAY(DATE($H$1,8,1))+1+37)=8,DATE($H$1,8,1)-WEEKDAY(DATE($H$1,8,1))+1+37,"") | D10: =IF(MONTH(DATE($H$1,8,1)-WEEKDAY(DATE($H$1,8,1))+1+38)=8,DATE($H$1,8,1)-WEEKDAY(DATE($H$1,8,1))+1+38,"") | E10: =IF(MONTH(DATE($H$1,8,1)-WEEKDAY(DATE($H$1,8,1))+1+39)=8,DATE($H$1,8,1)-WEEKDAY(DATE($H$1,8,1))+1+39,"") | F10: =IF(MONTH(DATE($H$1,8,1)-WEEKDAY(DATE($H$1,8,1))+1+40)=8,DATE($H$1,8,1)-WEEKDAY(DATE($H$1,8,1))+1+40,"") | G10: =IF(MONTH(DATE($H$1,8,1)-WEEKDAY(DATE($H$1,8,1))+1+41)=8,DATE($H$1,8,1)-WEEKDAY(DATE($H$1,8,1))+1+41,"")
A11: Notes

Sheet Sep
A1: ="September "&$H$1 | H1: =Jan!$H$1
A3: September
A4: Sun | B4: Mon | C4: Tue | D4: Wed | E4: Thu | F4: Fri | G4: Sat
A5: =IF(MONTH(DATE($H$1,9,1)-WEEKDAY(DATE($H$1,9,1))+1+0)=9,DATE($H$1,9,1)-WEEKDAY(DATE($H$1,9,1))+1+0,"") | B5: =IF(MONTH(DATE($H$1,9,1)-WEEKDAY(DATE($H$1,9,1))+1+1)=9,DATE($H$1,9,1)-WEEKDAY(DATE($H$1,9,1))+1+1,"") | C5: =IF(MONTH(DATE($H$1,9,1)-WEEKDAY(DATE($H$1,9,1))+1+2)=9,DATE($H$1,9,1)-WEEKDAY(DATE($H$1,9,1))+1+2,"") | D5: =IF(MONTH(DATE($H$1,9,1)-WEEKDAY(DATE($H$1,9,1))+1+3)=9,DATE($H$1,9,1)-WEEKDAY(DATE($H$1,9,1))+1+3,"") | E5: =IF(MONTH(DATE($H$1,9,1)-WEEKDAY(DATE($H$1,9,1))+1+4)=9,DATE($H$1,9,1)-WEEKDAY(DATE($H$1,9,1))+1+4,"") | F5: =IF(MONTH(DATE($H$1,9,1)-WEEKDAY(DATE($H$1,9,1))+1+5)=9,DATE($H$1,9,1)-WEEKDAY(DATE($H$1,9,1))+1+5,"") | G5: =IF(MONTH(DATE($H$1,9,1)-WEEKDAY(DATE($H$1,9,1))+1+6)=9,DATE($H$1,9,1)-WEEKDAY(DATE($H$1,9,1))+1+6,"")
A6: =IF(MONTH(DATE($H$1,9,1)-WEEKDAY(DATE($H$1,9,1))+1+7)=9,DATE($H$1,9,1)-WEEKDAY(DATE($H$1,9,1))+1+7,"") | B6: =IF(MONTH(DATE($H$1,9,1)-WEEKDAY(DATE($H$1,9,1))+1+8)=9,DATE($H$1,9,1)-WEEKDAY(DATE($H$1,9,1))+1+8,"") | C6: =IF(MONTH(DATE($H$1,9,1)-WEEKDAY(DATE($H$1,9,1))+1+9)=9,DATE($H$1,9,1)-WEEKDAY(DATE($H$1,9,1))+1+9,"") | D6: =IF(MONTH(DATE($H$1,9,1)-WEEKDAY(DATE($H$1,9,1))+1+10)=9,DATE($H$1,9,1)-WEEKDAY(DATE($H$1,9,1))+1+10,"") | E6: =IF(MONTH(DATE($H$1,9,1)-WEEKDAY(DATE($H$1,9,1))+1+11)=9,DATE($H$1,9,1)-WEEKDAY(DATE($H$1,9,1))+1+11,"") | F6: =IF(MONTH(DATE($H$1,9,1)-WEEKDAY(DATE($H$1,9,1))+1+12)=9,DATE($H$1,9,1)-WEEKDAY(DATE($H$1,9,1))+1+12,"") | G6: =IF(MONTH(DATE($H$1,9,1)-WEEKDAY(DATE($H$1,9,1))+1+13)=9,DATE($H$1,9,1)-WEEKDAY(DATE($H$1,9,1))+1+13,"")
A7: =IF(MONTH(DATE($H$1,9,1)-WEEKDAY(DATE($H$1,9,1))+1+14)=9,DATE($H$1,9,1)-WEEKDAY(DATE($H$1,9,1))+1+14,"") | B7: =IF(MONTH(DATE($H$1,9,1)-WEEKDAY(DATE($H$1,9,1))+1+15)=9,DATE($H$1,9,1)-WEEKDAY(DATE($H$1,9,1))+1+15,"") | C7: =IF(MONTH(DATE($H$1,9,1)-WEEKDAY(DATE($H$1,9,1))+1+16)=9,DATE($H$1,9,1)-WEEKDAY(DATE($H$1,9,1))+1+16,"") | D7: =IF(MONTH(DATE($H$1,9,1)-WEEKDAY(DATE($H$1,9,1))+1+17)=9,DATE($H$1,9,1)-WEEKDAY(DATE($H$1,9,1))+1+17,"") | E7: =IF(MONTH(DATE($H$1,9,1)-WEEKDAY(DATE($H$1,9,1))+1+18)=9,DATE($H$1,9,1)-WEEKDAY(DATE($H$1,9,1))+1+18,"") | F7: =IF(MONTH(DATE($H$1,9,1)-WEEKDAY(DATE($H$1,9,1))+1+19)=9,DATE($H$1,9,1)-WEEKDAY(DATE($H$1,9,1))+1+19,"") | G7: =IF(MONTH(DATE($H$1,9,1)-WEEKDAY(DATE($H$1,9,1))+1+20)=9,DATE($H$1,9,1)-WEEKDAY(DATE($H$1,9,1))+1+20,"")
A8: =IF(MONTH(DATE($H$1,9,1)-WEEKDAY(DATE($H$1,9,1))+1+21)=9,DATE($H$1,9,1)-WEEKDAY(DATE($H$1,9,1))+1+21,"") | B8: =IF(MONTH(DATE($H$1,9,1)-WEEKDAY(DATE($H$1,9,1))+1+22)=9,DATE($H$1,9,1)-WEEKDAY(DATE($H$1,9,1))+1+22,"") | C8: =IF(MONTH(DATE($H$1,9,1)-WEEKDAY(DATE($H$1,9,1))+1+23)=9,DATE($H$1,9,1)-WEEKDAY(DATE($H$1,9,1))+1+23,"") | D8: =IF(MONTH(DATE($H$1,9,1)-WEEKDAY(DATE($H$1,9,1))+1+24)=9,DATE($H$1,9,1)-WEEKDAY(DATE($H$1,9,1))+1+24,"") | E8: =IF(MONTH(DATE($H$1,9,1)-WEEKDAY(DATE($H$1,9,1))+1+25)=9,DATE($H$1,9,1)-WEEKDAY(DATE($H$1,9,1))+1+25,"") | F8: =IF(MONTH(DATE($H$1,9,1)-WEEKDAY(DATE($H$1,9,1))+1+26)=9,DATE($H$1,9,1)-WEEKDAY(DATE($H$1,9,1))+1+26,"") | G8: =IF(MONTH(DATE($H$1,9,1)-WEEKDAY(DATE($H$1,9,1))+1+27)=9,DATE($H$1,9,1)-WEEKDAY(DATE($H$1,9,1))+1+27,"")
A9: =IF(MONTH(DATE($H$1,9,1)-WEEKDAY(DATE($H$1,9,1))+1+28)=9,DATE($H$1,9,1)-WEEKDAY(DATE($H$1,9,1))+1+28,"") | B9: =IF(MONTH(DATE($H$1,9,1)-WEEKDAY(DATE($H$1,9,1))+1+29)=9,DATE($H$1,9,1)-WEEKDAY(DATE($H$1,9,1))+1+29,"") | C9: =IF(MONTH(DATE($H$1,9,1)-WEEKDAY(DATE($H$1,9,1))+1+30)=9,DATE($H$1,9,1)-WEEKDAY(DATE($H$1,9,1))+1+30,"") | D9: =IF(MONTH(DATE($H$1,9,1)-WEEKDAY(DATE($H$1,9,1))+1+31)=9,DATE($H$1,9,1)-WEEKDAY(DATE($H$1,9,1))+1+31,"") | E9: =IF(MONTH(DATE($H$1,9,1)-WEEKDAY(DATE($H$1,9,1))+1+32)=9,DATE($H$1,9,1)-WEEKDAY(DATE($H$1,9,1))+1+32,"") | F9: =IF(MONTH(DATE($H$1,9,1)-WEEKDAY(DATE($H$1,9,1))+1+33)=9,DATE($H$1,9,1)-WEEKDAY(DATE($H$1,9,1))+1+33,"") | G9: =IF(MONTH(DATE($H$1,9,1)-WEEKDAY(DATE($H$1,9,1))+1+34)=9,DATE($H$1,9,1)-WEEKDAY(DATE($H$1,9,1))+1+34,"")
A10: =IF(MONTH(DATE($H$1,9,1)-WEEKDAY(DATE($H$1,9,1))+1+35)=9,DATE($H$1,9,1)-WEEKDAY(DATE($H$1,9,1))+1+35,"") | B10: =IF(MONTH(DATE($H$1,9,1)-WEEKDAY(DATE($H$1,9,1))+1+36)=9,DATE($H$1,9,1)-WEEKDAY(DATE($H$1,9,1))+1+36,"") | C10: =IF(MONTH(DATE($H$1,9,1)-WEEKDAY(DATE($H$1,9,1))+1+37)=9,DATE($H$1,9,1)-WEEKDAY(DATE($H$1,9,1))+1+37,"") | D10: =IF(MONTH(DATE($H$1,9,1)-WEEKDAY(DATE($H$1,9,1))+1+38)=9,DATE($H$1,9,1)-WEEKDAY(DATE($H$1,9,1))+1+38,"") | E10: =IF(MONTH(DATE($H$1,9,1)-WEEKDAY(DATE($H$1,9,1))+1+39)=9,DATE($H$1,9,1)-WEEKDAY(DATE($H$1,9,1))+1+39,"") | F10: =IF(MONTH(DATE($H$1,9,1)-WEEKDAY(DATE($H$1,9,1))+1+40)=9,DATE($H$1,9,1)-WEEKDAY(DATE($H$1,9,1))+1+40,"") | G10: =IF(MONTH(DATE($H$1,9,1)-WEEKDAY(DATE($H$1,9,1))+1+41)=9,DATE($H$1,9,1)-WEEKDAY(DATE($H$1,9,1))+1+41,"")
A11: Notes

Sheet Oct
A1: ="October "&$H$1 | H1: =Jan!$H$1
A3: October
A4: Sun | B4: Mon | C4: Tue | D4: Wed | E4: Thu | F4: Fri | G4: Sat
A5: =IF(MONTH(DATE($H$1,10,1)-WEEKDAY(DATE($H$1,10,1))+1+0)=10,DATE($H$1,10,1)-WEEKDAY(DATE($H$1,10,1))+1+0,"") | B5: =IF(MONTH(DATE($H$1,10,1)-WEEKDAY(DATE($H$1,10,1))+1+1)=10,DATE($H$1,10,1)-WEEKDAY(DATE($H$1,10,1))+1+1,"") | C5: =IF(MONTH(DATE($H$1,10,1)-WEEKDAY(DATE($H$1,10,1))+1+2)=10,DATE($H$1,10,1)-WEEKDAY(DATE($H$1,10,1))+1+2,"") | D5: =IF(MONTH(DATE($H$1,10,1)-WEEKDAY(DATE($H$1,10,1))+1+3)=10,DATE($H$1,10,1)-WEEKDAY(DATE($H$1,10,1))+1+3,"") | E5: =IF(MONTH(DATE($H$1,10,1)-WEEKDAY(DATE($H$1,10,1))+1+4)=10,DATE($H$1,10,1)-WEEKDAY(DATE($H$1,10,1))+1+4,"") | F5: =IF(MONTH(DATE($H$1,10,1)-WEEKDAY(DATE($H$1,10,1))+1+5)=10,DATE($H$1,10,1)-WEEKDAY(DATE($H$1,10,1))+1+5,"") | G5: =IF(MONTH(DATE($H$1,10,1)-WEEKDAY(DATE($H$1,10,1))+1+6)=10,DATE($H$1,10,1)-WEEKDAY(DATE($H$1,10,1))+1+6,"")
A6: =IF(MONTH(DATE($H$1,10,1)-WEEKDAY(DATE($H$1,10,1))+1+7)=10,DATE($H$1,10,1)-WEEKDAY(DATE($H$1,10,1))+1+7,"") | B6: =IF(MONTH(DATE($H$1,10,1)-WEEKDAY(DATE($H$1,10,1))+1+8)=10,DATE($H$1,10,1)-WEEKDAY(DATE($H$1,10,1))+1+8,"") | C6: =IF(MONTH(DATE($H$1,10,1)-WEEKDAY(DATE($H$1,10,1))+1+9)=10,DATE($H$1,10,1)-WEEKDAY(DATE($H$1,10,1))+1+9,"") | D6: =IF(MONTH(DATE($H$1,10,1)-WEEKDAY(DATE($H$1,10,1))+1+10)=10,DATE($H$1,10,1)-WEEKDAY(DATE($H$1,10,1))+1+10,"") | E6: =IF(MONTH(DATE($H$1,10,1)-WEEKDAY(DATE($H$1,10,1))+1+11)=10,DATE($H$1,10,1)-WEEKDAY(DATE($H$1,10,1))+1+11,"") | F6: =IF(MONTH(DATE($H$1,10,1)-WEEKDAY(DATE($H$1,10,1))+1+12)=10,DATE($H$1,10,1)-WEEKDAY(DATE($H$1,10,1))+1+12,"") | G6: =IF(MONTH(DATE($H$1,10,1)-WEEKDAY(DATE($H$1,10,1))+1+13)=10,DATE($H$1,10,1)-WEEKDAY(DATE($H$1,10,1))+1+13,"")
A7: =IF(MONTH(DATE($H$1,10,1)-WEEKDAY(DATE($H$1,10,1))+1+14)=10,DATE($H$1,10,1)-WEEKDAY(DATE($H$1,10,1))+1+14,"") | B7: =IF(MONTH(DATE($H$1,10,1)-WEEKDAY(DATE($H$1,10,1))+1+15)=10,DATE($H$1,10,1)-WEEKDAY(DATE($H$1,10,1))+1+15,"") | C7: =IF(MONTH(DATE($H$1,10,1)-WEEKDAY(DATE($H$1,10,1))+1+16)=10,DATE($H$1,10,1)-WEEKDAY(DATE($H$1,10,1))+1+16,"") | D7: =IF(MONTH(DATE($H$1,10,1)-WEEKDAY(DATE($H$1,10,1))+1+17)=10,DATE($H$1,10,1)-WEEKDAY(DATE($H$1,10,1))+1+17,"") | E7: =IF(MONTH(DATE($H$1,10,1)-WEEKDAY(DATE($H$1,10,1))+1+18)=10,DATE($H$1,10,1)-WEEKDAY(DATE($H$1,10,1))+1+18,"") | F7: =IF(MONTH(DATE($H$1,10,1)-WEEKDAY(DATE($H$1,10,1))+1+19)=10,DATE($H$1,10,1)-WEEKDAY(DATE($H$1,10,1))+1+19,"") | G7: =IF(MONTH(DATE($H$1,10,1)-WEEKDAY(DATE($H$1,10,1))+1+20)=10,DATE($H$1,10,1)-WEEKDAY(DATE($H$1,10,1))+1+20,"")
A8: =IF(MONTH(DATE($H$1,10,1)-WEEKDAY(DATE($H$1,10,1))+1+21)=10,DATE($H$1,10,1)-WEEKDAY(DATE($H$1,10,1))+1+21,"") | B8: =IF(MONTH(DATE($H$1,10,1)-WEEKDAY(DATE($H$1,10,1))+1+22)=10,DATE($H$1,10,1)-WEEKDAY(DATE($H$1,10,1))+1+22,"") | C8: =IF(MONTH(DATE($H$1,10,1)-WEEKDAY(DATE($H$1,10,1))+1+23)=10,DATE($H$1,10,1)-WEEKDAY(DATE($H$1,10,1))+1+23,"") | D8: =IF(MONTH(DATE($H$1,10,1)-WEEKDAY(DATE($H$1,10,1))+1+24)=10,DATE($H$1,10,1)-WEEKDAY(DATE($H$1,10,1))+1+24,"") | E8: =IF(MONTH(DATE($H$1,10,1)-WEEKDAY(DATE($H$1,10,1))+1+25)=10,DATE($H$1,10,1)-WEEKDAY(DATE($H$1,10,1))+1+25,"") | F8: =IF(MONTH(DATE($H$1,10,1)-WEEKDAY(DATE($H$1,10,1))+1+26)=10,DATE($H$1,10,1)-WEEKDAY(DATE($H$1,10,1))+1+26,"") | G8: =IF(MONTH(DATE($H$1,10,1)-WEEKDAY(DATE($H$1,10,1))+1+27)=10,DATE($H$1,10,1)-WEEKDAY(DATE($H$1,10,1))+1+27,"")
A9: =IF(MONTH(DATE($H$1,10,1)-WEEKDAY(DATE($H$1,10,1))+1+28)=10,DATE($H$1,10,1)-WEEKDAY(DATE($H$1,10,1))+1+28,"") | B9: =IF(MONTH(DATE($H$1,10,1)-WEEKDAY(DATE($H$1,10,1))+1+29)=10,DATE($H$1,10,1)-WEEKDAY(DATE($H$1,10,1))+1+29,"") | C9: =IF(MONTH(DATE($H$1,10,1)-WEEKDAY(DATE($H$1,10,1))+1+30)=10,DATE($H$1,10,1)-WEEKDAY(DATE($H$1,10,1))+1+30,"") | D9: =IF(MONTH(DATE($H$1,10,1)-WEEKDAY(DATE($H$1,10,1))+1+31)=10,DATE($H$1,10,1)-WEEKDAY(DATE($H$1,10,1))+1+31,"") | E9: =IF(MONTH(DATE($H$1,10,1)-WEEKDAY(DATE($H$1,10,1))+1+32)=10,DATE($H$1,10,1)-WEEKDAY(DATE($H$1,10,1))+1+32,"") | F9: =IF(MONTH(DATE($H$1,10,1)-WEEKDAY(DATE($H$1,10,1))+1+33)=10,DATE($H$1,10,1)-WEEKDAY(DATE($H$1,10,1))+1+33,"") | G9: =IF(MONTH(DATE($H$1,10,1)-WEEKDAY(DATE($H$1,10,1))+1+34)=10,DATE($H$1,10,1)-WEEKDAY(DATE($H$1,10,1))+1+34,"")
A10: =IF(MONTH(DATE($H$1,10,1)-WEEKDAY(DATE($H$1,10,1))+1+35)=10,DATE($H$1,10,1)-WEEKDAY(DATE($H$1,10,1))+1+35,"") | B10: =IF(MONTH(DATE($H$1,10,1)-WEEKDAY(DATE($H$1,10,1))+1+36)=10,DATE($H$1,10,1)-WEEKDAY(DATE($H$1,10,1))+1+36,"") | C10: =IF(MONTH(DATE($H$1,10,1)-WEEKDAY(DATE($H$1,10,1))+1+37)=10,DATE($H$1,10,1)-WEEKDAY(DATE($H$1,10,1))+1+37,"") | D10: =IF(MONTH(DATE($H$1,10,1)-WEEKDAY(DATE($H$1,10,1))+1+38)=10,DATE($H$1,10,1)-WEEKDAY(DATE($H$1,10,1))+1+38,"") | E10: =IF(MONTH(DATE($H$1,10,1)-WEEKDAY(DATE($H$1,10,1))+1+39)=10,DATE($H$1,10,1)-WEEKDAY(DATE($H$1,10,1))+1+39,"") | F10: =IF(MONTH(DATE($H$1,10,1)-WEEKDAY(DATE($H$1,10,1))+1+40)=10,DATE($H$1,10,1)-WEEKDAY(DATE($H$1,10,1))+1+40,"") | G10: =IF(MONTH(DATE($H$1,10,1)-WEEKDAY(DATE($H$1,10,1))+1+41)=10,DATE($H$1,10,1)-WEEKDAY(DATE($H$1,10,1))+1+41,"")
A11: Notes

Sheet Nov
A1: ="November "&$H$1 | H1: =Jan!$H$1
A3: November
A4: Sun | B4: Mon | C4: Tue | D4: Wed | E4: Thu | F4: Fri | G4: Sat
A5: =IF(MONTH(DATE($H$1,11,1)-WEEKDAY(DATE($H$1,11,1))+1+0)=11,DATE($H$1,11,1)-WEEKDAY(DATE($H$1,11,1))+1+0,"") | B5: =IF(MONTH(DATE($H$1,11,1)-WEEKDAY(DATE($H$1,11,1))+1+1)=11,DATE($H$1,11,1)-WEEKDAY(DATE($H$1,11,1))+1+1,"") | C5: =IF(MONTH(DATE($H$1,11,1)-WEEKDAY(DATE($H$1,11,1))+1+2)=11,DATE($H$1,11,1)-WEEKDAY(DATE($H$1,11,1))+1+2,"") | D5: =IF(MONTH(DATE($H$1,11,1)-WEEKDAY(DATE($H$1,11,1))+1+3)=11,DATE($H$1,11,1)-WEEKDAY(DATE($H$1,11,1))+1+3,"") | E5: =IF(MONTH(DATE($H$1,11,1)-WEEKDAY(DATE($H$1,11,1))+1+4)=11,DATE($H$1,11,1)-WEEKDAY(DATE($H$1,11,1))+1+4,"") | F5: =IF(MONTH(DATE($H$1,11,1)-WEEKDAY(DATE($H$1,11,1))+1+5)=11,DATE($H$1,11,1)-WEEKDAY(DATE($H$1,11,1))+1+5,"") | G5: =IF(MONTH(DATE($H$1,11,1)-WEEKDAY(DATE($H$1,11,1))+1+6)=11,DATE($H$1,11,1)-WEEKDAY(DATE($H$1,11,1))+1+6,"")
A6: =IF(MONTH(DATE($H$1,11,1)-WEEKDAY(DATE($H$1,11,1))+1+7)=11,DATE($H$1,11,1)-WEEKDAY(DATE($H$1,11,1))+1+7,"") | B6: =IF(MONTH(DATE($H$1,11,1)-WEEKDAY(DATE($H$1,11,1))+1+8)=11,DATE($H$1,11,1)-WEEKDAY(DATE($H$1,11,1))+1+8,"") | C6: =IF(MONTH(DATE($H$1,11,1)-WEEKDAY(DATE($H$1,11,1))+1+9)=11,DATE($H$1,11,1)-WEEKDAY(DATE($H$1,11,1))+1+9,"") | D6: =IF(MONTH(DATE($H$1,11,1)-WEEKDAY(DATE($H$1,11,1))+1+10)=11,DATE($H$1,11,1)-WEEKDAY(DATE($H$1,11,1))+1+10,"") | E6: =IF(MONTH(DATE($H$1,11,1)-WEEKDAY(DATE($H$1,11,1))+1+11)=11,DATE($H$1,11,1)-WEEKDAY(DATE($H$1,11,1))+1+11,"") | F6: =IF(MONTH(DATE($H$1,11,1)-WEEKDAY(DATE($H$1,11,1))+1+12)=11,DATE($H$1,11,1)-WEEKDAY(DATE($H$1,11,1))+1+12,"") | G6: =IF(MONTH(DATE($H$1,11,1)-WEEKDAY(DATE($H$1,11,1))+1+13)=11,DATE($H$1,11,1)-WEEKDAY(DATE($H$1,11,1))+1+13,"")
A7: =IF(MONTH(DATE($H$1,11,1)-WEEKDAY(DATE($H$1,11,1))+1+14)=11,DATE($H$1,11,1)-WEEKDAY(DATE($H$1,11,1))+1+14,"") | B7: =IF(MONTH(DATE($H$1,11,1)-WEEKDAY(DATE($H$1,11,1))+1+15)=11,DATE($H$1,11,1)-WEEKDAY(DATE($H$1,11,1))+1+15,"") | C7: =IF(MONTH(DATE($H$1,11,1)-WEEKDAY(DATE($H$1,11,1))+1+16)=11,DATE($H$1,11,1)-WEEKDAY(DATE($H$1,11,1))+1+16,"") | D7: =IF(MONTH(DATE($H$1,11,1)-WEEKDAY(DATE($H$1,11,1))+1+17)=11,DATE($H$1,11,1)-WEEKDAY(DATE($H$1,11,1))+1+17,"") | E7: =IF(MONTH(DATE($H$1,11,1)-WEEKDAY(DATE($H$1,11,1))+1+18)=11,DATE($H$1,11,1)-WEEKDAY(DATE($H$1,11,1))+1+18,"") | F7: =IF(MONTH(DATE($H$1,11,1)-WEEKDAY(DATE($H$1,11,1))+1+19)=11,DATE($H$1,11,1)-WEEKDAY(DATE($H$1,11,1))+1+19,"") | G7: =IF(MONTH(DATE($H$1,11,1)-WEEKDAY(DATE($H$1,11,1))+1+20)=11,DATE($H$1,11,1)-WEEKDAY(DATE($H$1,11,1))+1+20,"")
A8: =IF(MONTH(DATE($H$1,11,1)-WEEKDAY(DATE($H$1,11,1))+1+21)=11,DATE($H$1,11,1)-WEEKDAY(DATE($H$1,11,1))+1+21,"") | B8: =IF(MONTH(DATE($H$1,11,1)-WEEKDAY(DATE($H$1,11,1))+1+22)=11,DATE($H$1,11,1)-WEEKDAY(DATE($H$1,11,1))+1+22,"") | C8: =IF(MONTH(DATE($H$1,11,1)-WEEKDAY(DATE($H$1,11,1))+1+23)=11,DATE($H$1,11,1)-WEEKDAY(DATE($H$1,11,1))+1+23,"") | D8: =IF(MONTH(DATE($H$1,11,1)-WEEKDAY(DATE($H$1,11,1))+1+24)=11,DATE($H$1,11,1)-WEEKDAY(DATE($H$1,11,1))+1+24,"") | E8: =IF(MONTH(DATE($H$1,11,1)-WEEKDAY(DATE($H$1,11,1))+1+25)=11,DATE($H$1,11,1)-WEEKDAY(DATE($H$1,11,1))+1+25,"") | F8: =IF(MONTH(DATE($H$1,11,1)-WEEKDAY(DATE($H$1,11,1))+1+26)=11,DATE($H$1,11,1)-WEEKDAY(DATE($H$1,11,1))+1+26,"") | G8: =IF(MONTH(DATE($H$1,11,1)-WEEKDAY(DATE($H$1,11,1))+1+27)=11,DATE($H$1,11,1)-WEEKDAY(DATE($H$1,11,1))+1+27,"")
A9: =IF(MONTH(DATE($H$1,11,1)-WEEKDAY(DATE($H$1,11,1))+1+28)=11,DATE($H$1,11,1)-WEEKDAY(DATE($H$1,11,1))+1+28,"") | B9: =IF(MONTH(DATE($H$1,11,1)-WEEKDAY(DATE($H$1,11,1))+1+29)=11,DATE($H$1,11,1)-WEEKDAY(DATE($H$1,11,1))+1+29,"") | C9: =IF(MONTH(DATE($H$1,11,1)-WEEKDAY(DATE($H$1,11,1))+1+30)=11,DATE($H$1,11,1)-WEEKDAY(DATE($H$1,11,1))+1+30,"") | D9: =IF(MONTH(DATE($H$1,11,1)-WEEKDAY(DATE($H$1,11,1))+1+31)=11,DATE($H$1,11,1)-WEEKDAY(DATE($H$1,11,1))+1+31,"") | E9: =IF(MONTH(DATE($H$1,11,1)-WEEKDAY(DATE($H$1,11,1))+1+32)=11,DATE($H$1,11,1)-WEEKDAY(DATE($H$1,11,1))+1+32,"") | F9: =IF(MONTH(DATE($H$1,11,1)-WEEKDAY(DATE($H$1,11,1))+1+33)=11,DATE($H$1,11,1)-WEEKDAY(DATE($H$1,11,1))+1+33,"") | G9: =IF(MONTH(DATE($H$1,11,1)-WEEKDAY(DATE($H$1,11,1))+1+34)=11,DATE($H$1,11,1)-WEEKDAY(DATE($H$1,11,1))+1+34,"")
A10: =IF(MONTH(DATE($H$1,11,1)-WEEKDAY(DATE($H$1,11,1))+1+35)=11,DATE($H$1,11,1)-WEEKDAY(DATE($H$1,11,1))+1+35,"") | B10: =IF(MONTH(DATE($H$1,11,1)-WEEKDAY(DATE($H$1,11,1))+1+36)=11,DATE($H$1,11,1)-WEEKDAY(DATE($H$1,11,1))+1+36,"") | C10: =IF(MONTH(DATE($H$1,11,1)-WEEKDAY(DATE($H$1,11,1))+1+37)=11,DATE($H$1,11,1)-WEEKDAY(DATE($H$1,11,1))+1+37,"") | D10: =IF(MONTH(DATE($H$1,11,1)-WEEKDAY(DATE($H$1,11,1))+1+38)=11,DATE($H$1,11,1)-WEEKDAY(DATE($H$1,11,1))+1+38,"") | E10: =IF(MONTH(DATE($H$1,11,1)-WEEKDAY(DATE($H$1,11,1))+1+39)=11,DATE($H$1,11,1)-WEEKDAY(DATE($H$1,11,1))+1+39,"") | F10: =IF(MONTH(DATE($H$1,11,1)-WEEKDAY(DATE($H$1,11,1))+1+40)=11,DATE($H$1,11,1)-WEEKDAY(DATE($H$1,11,1))+1+40,"") | G10: =IF(MONTH(DATE($H$1,11,1)-WEEKDAY(DATE($H$1,11,1))+1+41)=11,DATE($H$1,11,1)-WEEKDAY(DATE($H$1,11,1))+1+41,"")
A11: Notes

Sheet Dec
A1: ="December "&$H$1 | H1: =Jan!$H$1
A3: December
A4: Sun | B4: Mon | C4: Tue | D4: Wed | E4: Thu | F4: Fri | G4: Sat
A5: =IF(MONTH(DATE($H$1,12,1)-WEEKDAY(DATE($H$1,12,1))+1+0)=12,DATE($H$1,12,1)-WEEKDAY(DATE($H$1,12,1))+1+0,"") | B5: =IF(MONTH(DATE($H$1,12,1)-WEEKDAY(DATE($H$1,12,1))+1+1)=12,DATE($H$1,12,1)-WEEKDAY(DATE($H$1,12,1))+1+1,"") | C5: =IF(MONTH(DATE($H$1,12,1)-WEEKDAY(DATE($H$1,12,1))+1+2)=12,DATE($H$1,12,1)-WEEKDAY(DATE($H$1,12,1))+1+2,"") | D5: =IF(MONTH(DATE($H$1,12,1)-WEEKDAY(DATE($H$1,12,1))+1+3)=12,DATE($H$1,12,1)-WEEKDAY(DATE($H$1,12,1))+1+3,"") | E5: =IF(MONTH(DATE($H$1,12,1)-WEEKDAY(DATE($H$1,12,1))+1+4)=12,DATE($H$1,12,1)-WEEKDAY(DATE($H$1,12,1))+1+4,"") | F5: =IF(MONTH(DATE($H$1,12,1)-WEEKDAY(DATE($H$1,12,1))+1+5)=12,DATE($H$1,12,1)-WEEKDAY(DATE($H$1,12,1))+1+5,"") | G5: =IF(MONTH(DATE($H$1,12,1)-WEEKDAY(DATE($H$1,12,1))+1+6)=12,DATE($H$1,12,1)-WEEKDAY(DATE($H$1,12,1))+1+6,"")
A6: =IF(MONTH(DATE($H$1,12,1)-WEEKDAY(DATE($H$1,12,1))+1+7)=12,DATE($H$1,12,1)-WEEKDAY(DATE($H$1,12,1))+1+7,"") | B6: =IF(MONTH(DATE($H$1,12,1)-WEEKDAY(DATE($H$1,12,1))+1+8)=12,DATE($H$1,12,1)-WEEKDAY(DATE($H$1,12,1))+1+8,"") | C6: =IF(MONTH(DATE($H$1,12,1)-WEEKDAY(DATE($H$1,12,1))+1+9)=12,DATE($H$1,12,1)-WEEKDAY(DATE($H$1,12,1))+1+9,"") | D6: =IF(MONTH(DATE($H$1,12,1)-WEEKDAY(DATE($H$1,12,1))+1+10)=12,DATE($H$1,12,1)-WEEKDAY(DATE($H$1,12,1))+1+10,"") | E6: =IF(MONTH(DATE($H$1,12,1)-WEEKDAY(DATE($H$1,12,1))+1+11)=12,DATE($H$1,12,1)-WEEKDAY(DATE($H$1,12,1))+1+11,"") | F6: =IF(MONTH(DATE($H$1,12,1)-WEEKDAY(DATE($H$1,12,1))+1+12)=12,DATE($H$1,12,1)-WEEKDAY(DATE($H$1,12,1))+1+12,"") | G6: =IF(MONTH(DATE($H$1,12,1)-WEEKDAY(DATE($H$1,12,1))+1+13)=12,DATE($H$1,12,1)-WEEKDAY(DATE($H$1,12,1))+1+13,"")
A7: =IF(MONTH(DATE($H$1,12,1)-WEEKDAY(DATE($H$1,12,1))+1+14)=12,DATE($H$1,12,1)-WEEKDAY(DATE($H$1,12,1))+1+14,"") | B7: =IF(MONTH(DATE($H$1,12,1)-WEEKDAY(DATE($H$1,12,1))+1+15)=12,DATE($H$1,12,1)-WEEKDAY(DATE($H$1,12,1))+1+15,"") | C7: =IF(MONTH(DATE($H$1,12,1)-WEEKDAY(DATE($H$1,12,1))+1+16)=12,DATE($H$1,12,1)-WEEKDAY(DATE($H$1,12,1))+1+16,"") | D7: =IF(MONTH(DATE($H$1,12,1)-WEEKDAY(DATE($H$1,12,1))+1+17)=12,DATE($H$1,12,1)-WEEKDAY(DATE($H$1,12,1))+1+17,"") | E7: =IF(MONTH(DATE($H$1,12,1)-WEEKDAY(DATE($H$1,12,1))+1+18)=12,DATE($H$1,12,1)-WEEKDAY(DATE($H$1,12,1))+1+18,"") | F7: =IF(MONTH(DATE($H$1,12,1)-WEEKDAY(DATE($H$1,12,1))+1+19)=12,DATE($H$1,12,1)-WEEKDAY(DATE($H$1,12,1))+1+19,"") | G7: =IF(MONTH(DATE($H$1,12,1)-WEEKDAY(DATE($H$1,12,1))+1+20)=12,DATE($H$1,12,1)-WEEKDAY(DATE($H$1,12,1))+1+20,"")
A8: =IF(MONTH(DATE($H$1,12,1)-WEEKDAY(DATE($H$1,12,1))+1+21)=12,DATE($H$1,12,1)-WEEKDAY(DATE($H$1,12,1))+1+21,"") | B8: =IF(MONTH(DATE($H$1,12,1)-WEEKDAY(DATE($H$1,12,1))+1+22)=12,DATE($H$1,12,1)-WEEKDAY(DATE($H$1,12,1))+1+22,"") | C8: =IF(MONTH(DATE($H$1,12,1)-WEEKDAY(DATE($H$1,12,1))+1+23)=12,DATE($H$1,12,1)-WEEKDAY(DATE($H$1,12,1))+1+23,"") | D8: =IF(MONTH(DATE($H$1,12,1)-WEEKDAY(DATE($H$1,12,1))+1+24)=12,DATE($H$1,12,1)-WEEKDAY(DATE($H$1,12,1))+1+24,"") | E8: =IF(MONTH(DATE($H$1,12,1)-WEEKDAY(DATE($H$1,12,1))+1+25)=12,DATE($H$1,12,1)-WEEKDAY(DATE($H$1,12,1))+1+25,"") | F8: =IF(MONTH(DATE($H$1,12,1)-WEEKDAY(DATE($H$1,12,1))+1+26)=12,DATE($H$1,12,1)-WEEKDAY(DATE($H$1,12,1))+1+26,"") | G8: =IF(MONTH(DATE($H$1,12,1)-WEEKDAY(DATE($H$1,12,1))+1+27)=12,DATE($H$1,12,1)-WEEKDAY(DATE($H$1,12,1))+1+27,"")
A9: =IF(MONTH(DATE($H$1,12,1)-WEEKDAY(DATE($H$1,12,1))+1+28)=12,DATE($H$1,12,1)-WEEKDAY(DATE($H$1,12,1))+1+28,"") | B9: =IF(MONTH(DATE($H$1,12,1)-WEEKDAY(DATE($H$1,12,1))+1+29)=12,DATE($H$1,12,1)-WEEKDAY(DATE($H$1,12,1))+1+29,"") | C9: =IF(MONTH(DATE($H$1,12,1)-WEEKDAY(DATE($H$1,12,1))+1+30)=12,DATE($H$1,12,1)-WEEKDAY(DATE($H$1,12,1))+1+30,"") | D9: =IF(MONTH(DATE($H$1,12,1)-WEEKDAY(DATE($H$1,12,1))+1+31)=12,DATE($H$1,12,1)-WEEKDAY(DATE($H$1,12,1))+1+31,"") | E9: =IF(MONTH(DATE($H$1,12,1)-WEEKDAY(DATE($H$1,12,1))+1+32)=12,DATE($H$1,12,1)-WEEKDAY(DATE($H$1,12,1))+1+32,"") | F9: =IF(MONTH(DATE($H$1,12,1)-WEEKDAY(DATE($H$1,12,1))+1+33)=12,DATE($H$1,12,1)-WEEKDAY(DATE($H$1,12,1))+1+33,"") | G9: =IF(MONTH(DATE($H$1,12,1)-WEEKDAY(DATE($H$1,12,1))+1+34)=12,DATE($H$1,12,1)-WEEKDAY(DATE($H$1,12,1))+1+34,"")
A10: =IF(MONTH(DATE($H$1,12,1)-WEEKDAY(DATE($H$1,12,1))+1+35)=12,DATE($H$1,12,1)-WEEKDAY(DATE($H$1,12,1))+1+35,"") | B10: =IF(MONTH(DATE($H$1,12,1)-WEEKDAY(DATE($H$1,12,1))+1+36)=12,DATE($H$1,12,1)-WEEKDAY(DATE($H$1,12,1))+1+36,"") | C10: =IF(MONTH(DATE($H$1,12,1)-WEEKDAY(DATE($H$1,12,1))+1+37)=12,DATE($H$1,12,1)-WEEKDAY(DATE($H$1,12,1))+1+37,"") | D10: =IF(MONTH(DATE($H$1,12,1)-WEEKDAY(DATE($H$1,12,1))+1+38)=12,DATE($H$1,12,1)-WEEKDAY(DATE($H$1,12,1))+1+38,"") | E10: =IF(MONTH(DATE($H$1,12,1)-WEEKDAY(DATE($H$1,12,1))+1+39)=12,DATE($H$1,12,1)-WEEKDAY(DATE($H$1,12,1))+1+39,"") | F10: =IF(MONTH(DATE($H$1,12,1)-WEEKDAY(DATE($H$1,12,1))+1+40)=12,DATE($H$1,12,1)-WEEKDAY(DATE($H$1,12,1))+1+40,"") | G10: =IF(MONTH(DATE($H$1,12,1)-WEEKDAY(DATE($H$1,12,1))+1+41)=12,DATE($H$1,12,1)-WEEKDAY(DATE($H$1,12,1))+1+41,"")
A11: Notes
