Workbook

Sheet Aging Summary
A1: Accounts Receivable Aging Report
A2: Calculated from the Invoices tab as of the date below. Shows how much each customer owes and how overdue it is.
A3: As of | B3: =TODAY()
A5: Customer | B5: Current | C5: 1–30 days | D5: 31–60 days | E5: 61–90 days | F5: 90+ days | G5: Total due
A6: Acme Co. | B6: =IF($A6="","",SUMIFS(Invoices!$G:$G,Invoices!$A:$A,$A6&"",Invoices!$I:$I,"Current")) | C6: =IF($A6="","",SUMIFS(Invoices!$G:$G,Invoices!$A:$A,$A6&"",Invoices!$I:$I,"1-30")) | D6: =IF($A6="","",SUMIFS(Invoices!$G:$G,Invoices!$A:$A,$A6&"",Invoices!$I:$I,"31-60")) | E6: =IF($A6="","",SUMIFS(Invoices!$G:$G,Invoices!$A:$A,$A6&"",Invoices!$I:$I,"61-90")) | F6: =IF($A6="","",SUMIFS(Invoices!$G:$G,Invoices!$A:$A,$A6&"",Invoices!$I:$I,"90+")) | G6: =IF($A6="","",SUM(B6:F6))
A7: Beta LLC | B7: =IF($A7="","",SUMIFS(Invoices!$G:$G,Invoices!$A:$A,$A7&"",Invoices!$I:$I,"Current")) | C7: =IF($A7="","",SUMIFS(Invoices!$G:$G,Invoices!$A:$A,$A7&"",Invoices!$I:$I,"1-30")) | D7: =IF($A7="","",SUMIFS(Invoices!$G:$G,Invoices!$A:$A,$A7&"",Invoices!$I:$I,"31-60")) | E7: =IF($A7="","",SUMIFS(Invoices!$G:$G,Invoices!$A:$A,$A7&"",Invoices!$I:$I,"61-90")) | F7: =IF($A7="","",SUMIFS(Invoices!$G:$G,Invoices!$A:$A,$A7&"",Invoices!$I:$I,"90+")) | G7: =IF($A7="","",SUM(B7:F7))
A8: Gamma Inc. | B8: =IF($A8="","",SUMIFS(Invoices!$G:$G,Invoices!$A:$A,$A8&"",Invoices!$I:$I,"Current")) | C8: =IF($A8="","",SUMIFS(Invoices!$G:$G,Invoices!$A:$A,$A8&"",Invoices!$I:$I,"1-30")) | D8: =IF($A8="","",SUMIFS(Invoices!$G:$G,Invoices!$A:$A,$A8&"",Invoices!$I:$I,"31-60")) | E8: =IF($A8="","",SUMIFS(Invoices!$G:$G,Invoices!$A:$A,$A8&"",Invoices!$I:$I,"61-90")) | F8: =IF($A8="","",SUMIFS(Invoices!$G:$G,Invoices!$A:$A,$A8&"",Invoices!$I:$I,"90+")) | G8: =IF($A8="","",SUM(B8:F8))
A9: Delta Partners | B9: =IF($A9="","",SUMIFS(Invoices!$G:$G,Invoices!$A:$A,$A9&"",Invoices!$I:$I,"Current")) | C9: =IF($A9="","",SUMIFS(Invoices!$G:$G,Invoices!$A:$A,$A9&"",Invoices!$I:$I,"1-30")) | D9: =IF($A9="","",SUMIFS(Invoices!$G:$G,Invoices!$A:$A,$A9&"",Invoices!$I:$I,"31-60")) | E9: =IF($A9="","",SUMIFS(Invoices!$G:$G,Invoices!$A:$A,$A9&"",Invoices!$I:$I,"61-90")) | F9: =IF($A9="","",SUMIFS(Invoices!$G:$G,Invoices!$A:$A,$A9&"",Invoices!$I:$I,"90+")) | G9: =IF($A9="","",SUM(B9:F9))
A10: Epsilon Labs | B10: =IF($A10="","",SUMIFS(Invoices!$G:$G,Invoices!$A:$A,$A10&"",Invoices!$I:$I,"Current")) | C10: =IF($A10="","",SUMIFS(Invoices!$G:$G,Invoices!$A:$A,$A10&"",Invoices!$I:$I,"1-30")) | D10: =IF($A10="","",SUMIFS(Invoices!$G:$G,Invoices!$A:$A,$A10&"",Invoices!$I:$I,"31-60")) | E10: =IF($A10="","",SUMIFS(Invoices!$G:$G,Invoices!$A:$A,$A10&"",Invoices!$I:$I,"61-90")) | F10: =IF($A10="","",SUMIFS(Invoices!$G:$G,Invoices!$A:$A,$A10&"",Invoices!$I:$I,"90+")) | G10: =IF($A10="","",SUM(B10:F10))
A11: Zeta Foods | B11: =IF($A11="","",SUMIFS(Invoices!$G:$G,Invoices!$A:$A,$A11&"",Invoices!$I:$I,"Current")) | C11: =IF($A11="","",SUMIFS(Invoices!$G:$G,Invoices!$A:$A,$A11&"",Invoices!$I:$I,"1-30")) | D11: =IF($A11="","",SUMIFS(Invoices!$G:$G,Invoices!$A:$A,$A11&"",Invoices!$I:$I,"31-60")) | E11: =IF($A11="","",SUMIFS(Invoices!$G:$G,Invoices!$A:$A,$A11&"",Invoices!$I:$I,"61-90")) | F11: =IF($A11="","",SUMIFS(Invoices!$G:$G,Invoices!$A:$A,$A11&"",Invoices!$I:$I,"90+")) | G11: =IF($A11="","",SUM(B11:F11))
B12: =IF($A12="","",SUMIFS(Invoices!$G:$G,Invoices!$A:$A,$A12&"",Invoices!$I:$I,"Current")) | C12: =IF($A12="","",SUMIFS(Invoices!$G:$G,Invoices!$A:$A,$A12&"",Invoices!$I:$I,"1-30")) | D12: =IF($A12="","",SUMIFS(Invoices!$G:$G,Invoices!$A:$A,$A12&"",Invoices!$I:$I,"31-60")) | E12: =IF($A12="","",SUMIFS(Invoices!$G:$G,Invoices!$A:$A,$A12&"",Invoices!$I:$I,"61-90")) | F12: =IF($A12="","",SUMIFS(Invoices!$G:$G,Invoices!$A:$A,$A12&"",Invoices!$I:$I,"90+")) | G12: =IF($A12="","",SUM(B12:F12))
B13: =IF($A13="","",SUMIFS(Invoices!$G:$G,Invoices!$A:$A,$A13&"",Invoices!$I:$I,"Current")) | C13: =IF($A13="","",SUMIFS(Invoices!$G:$G,Invoices!$A:$A,$A13&"",Invoices!$I:$I,"1-30")) | D13: =IF($A13="","",SUMIFS(Invoices!$G:$G,Invoices!$A:$A,$A13&"",Invoices!$I:$I,"31-60")) | E13: =IF($A13="","",SUMIFS(Invoices!$G:$G,Invoices!$A:$A,$A13&"",Invoices!$I:$I,"61-90")) | F13: =IF($A13="","",SUMIFS(Invoices!$G:$G,Invoices!$A:$A,$A13&"",Invoices!$I:$I,"90+")) | G13: =IF($A13="","",SUM(B13:F13))
B14: =IF($A14="","",SUMIFS(Invoices!$G:$G,Invoices!$A:$A,$A14&"",Invoices!$I:$I,"Current")) | C14: =IF($A14="","",SUMIFS(Invoices!$G:$G,Invoices!$A:$A,$A14&"",Invoices!$I:$I,"1-30")) | D14: =IF($A14="","",SUMIFS(Invoices!$G:$G,Invoices!$A:$A,$A14&"",Invoices!$I:$I,"31-60")) | E14: =IF($A14="","",SUMIFS(Invoices!$G:$G,Invoices!$A:$A,$A14&"",Invoices!$I:$I,"61-90")) | F14: =IF($A14="","",SUMIFS(Invoices!$G:$G,Invoices!$A:$A,$A14&"",Invoices!$I:$I,"90+")) | G14: =IF($A14="","",SUM(B14:F14))
B15: =IF($A15="","",SUMIFS(Invoices!$G:$G,Invoices!$A:$A,$A15&"",Invoices!$I:$I,"Current")) | C15: =IF($A15="","",SUMIFS(Invoices!$G:$G,Invoices!$A:$A,$A15&"",Invoices!$I:$I,"1-30")) | D15: =IF($A15="","",SUMIFS(Invoices!$G:$G,Invoices!$A:$A,$A15&"",Invoices!$I:$I,"31-60")) | E15: =IF($A15="","",SUMIFS(Invoices!$G:$G,Invoices!$A:$A,$A15&"",Invoices!$I:$I,"61-90")) | F15: =IF($A15="","",SUMIFS(Invoices!$G:$G,Invoices!$A:$A,$A15&"",Invoices!$I:$I,"90+")) | G15: =IF($A15="","",SUM(B15:F15))
B16: =IF($A16="","",SUMIFS(Invoices!$G:$G,Invoices!$A:$A,$A16&"",Invoices!$I:$I,"Current")) | C16: =IF($A16="","",SUMIFS(Invoices!$G:$G,Invoices!$A:$A,$A16&"",Invoices!$I:$I,"1-30")) | D16: =IF($A16="","",SUMIFS(Invoices!$G:$G,Invoices!$A:$A,$A16&"",Invoices!$I:$I,"31-60")) | E16: =IF($A16="","",SUMIFS(Invoices!$G:$G,Invoices!$A:$A,$A16&"",Invoices!$I:$I,"61-90")) | F16: =IF($A16="","",SUMIFS(Invoices!$G:$G,Invoices!$A:$A,$A16&"",Invoices!$I:$I,"90+")) | G16: =IF($A16="","",SUM(B16:F16))
B17: =IF($A17="","",SUMIFS(Invoices!$G:$G,Invoices!$A:$A,$A17&"",Invoices!$I:$I,"Current")) | C17: =IF($A17="","",SUMIFS(Invoices!$G:$G,Invoices!$A:$A,$A17&"",Invoices!$I:$I,"1-30")) | D17: =IF($A17="","",SUMIFS(Invoices!$G:$G,Invoices!$A:$A,$A17&"",Invoices!$I:$I,"31-60")) | E17: =IF($A17="","",SUMIFS(Invoices!$G:$G,Invoices!$A:$A,$A17&"",Invoices!$I:$I,"61-90")) | F17: =IF($A17="","",SUMIFS(Invoices!$G:$G,Invoices!$A:$A,$A17&"",Invoices!$I:$I,"90+")) | G17: =IF($A17="","",SUM(B17:F17))
B18: =IF($A18="","",SUMIFS(Invoices!$G:$G,Invoices!$A:$A,$A18&"",Invoices!$I:$I,"Current")) | C18: =IF($A18="","",SUMIFS(Invoices!$G:$G,Invoices!$A:$A,$A18&"",Invoices!$I:$I,"1-30")) | D18: =IF($A18="","",SUMIFS(Invoices!$G:$G,Invoices!$A:$A,$A18&"",Invoices!$I:$I,"31-60")) | E18: =IF($A18="","",SUMIFS(Invoices!$G:$G,Invoices!$A:$A,$A18&"",Invoices!$I:$I,"61-90")) | F18: =IF($A18="","",SUMIFS(Invoices!$G:$G,Invoices!$A:$A,$A18&"",Invoices!$I:$I,"90+")) | G18: =IF($A18="","",SUM(B18:F18))
B19: =IF($A19="","",SUMIFS(Invoices!$G:$G,Invoices!$A:$A,$A19&"",Invoices!$I:$I,"Current")) | C19: =IF($A19="","",SUMIFS(Invoices!$G:$G,Invoices!$A:$A,$A19&"",Invoices!$I:$I,"1-30")) | D19: =IF($A19="","",SUMIFS(Invoices!$G:$G,Invoices!$A:$A,$A19&"",Invoices!$I:$I,"31-60")) | E19: =IF($A19="","",SUMIFS(Invoices!$G:$G,Invoices!$A:$A,$A19&"",Invoices!$I:$I,"61-90")) | F19: =IF($A19="","",SUMIFS(Invoices!$G:$G,Invoices!$A:$A,$A19&"",Invoices!$I:$I,"90+")) | G19: =IF($A19="","",SUM(B19:F19))
B20: =IF($A20="","",SUMIFS(Invoices!$G:$G,Invoices!$A:$A,$A20&"",Invoices!$I:$I,"Current")) | C20: =IF($A20="","",SUMIFS(Invoices!$G:$G,Invoices!$A:$A,$A20&"",Invoices!$I:$I,"1-30")) | D20: =IF($A20="","",SUMIFS(Invoices!$G:$G,Invoices!$A:$A,$A20&"",Invoices!$I:$I,"31-60")) | E20: =IF($A20="","",SUMIFS(Invoices!$G:$G,Invoices!$A:$A,$A20&"",Invoices!$I:$I,"61-90")) | F20: =IF($A20="","",SUMIFS(Invoices!$G:$G,Invoices!$A:$A,$A20&"",Invoices!$I:$I,"90+")) | G20: =IF($A20="","",SUM(B20:F20))
B21: =IF($A21="","",SUMIFS(Invoices!$G:$G,Invoices!$A:$A,$A21&"",Invoices!$I:$I,"Current")) | C21: =IF($A21="","",SUMIFS(Invoices!$G:$G,Invoices!$A:$A,$A21&"",Invoices!$I:$I,"1-30")) | D21: =IF($A21="","",SUMIFS(Invoices!$G:$G,Invoices!$A:$A,$A21&"",Invoices!$I:$I,"31-60")) | E21: =IF($A21="","",SUMIFS(Invoices!$G:$G,Invoices!$A:$A,$A21&"",Invoices!$I:$I,"61-90")) | F21: =IF($A21="","",SUMIFS(Invoices!$G:$G,Invoices!$A:$A,$A21&"",Invoices!$I:$I,"90+")) | G21: =IF($A21="","",SUM(B21:F21))
B22: =IF($A22="","",SUMIFS(Invoices!$G:$G,Invoices!$A:$A,$A22&"",Invoices!$I:$I,"Current")) | C22: =IF($A22="","",SUMIFS(Invoices!$G:$G,Invoices!$A:$A,$A22&"",Invoices!$I:$I,"1-30")) | D22: =IF($A22="","",SUMIFS(Invoices!$G:$G,Invoices!$A:$A,$A22&"",Invoices!$I:$I,"31-60")) | E22: =IF($A22="","",SUMIFS(Invoices!$G:$G,Invoices!$A:$A,$A22&"",Invoices!$I:$I,"61-90")) | F22: =IF($A22="","",SUMIFS(Invoices!$G:$G,Invoices!$A:$A,$A22&"",Invoices!$I:$I,"90+")) | G22: =IF($A22="","",SUM(B22:F22))
B23: =IF($A23="","",SUMIFS(Invoices!$G:$G,Invoices!$A:$A,$A23&"",Invoices!$I:$I,"Current")) | C23: =IF($A23="","",SUMIFS(Invoices!$G:$G,Invoices!$A:$A,$A23&"",Invoices!$I:$I,"1-30")) | D23: =IF($A23="","",SUMIFS(Invoices!$G:$G,Invoices!$A:$A,$A23&"",Invoices!$I:$I,"31-60")) | E23: =IF($A23="","",SUMIFS(Invoices!$G:$G,Invoices!$A:$A,$A23&"",Invoices!$I:$I,"61-90")) | F23: =IF($A23="","",SUMIFS(Invoices!$G:$G,Invoices!$A:$A,$A23&"",Invoices!$I:$I,"90+")) | G23: =IF($A23="","",SUM(B23:F23))
... B25: =IF($A25="","",SUMIFS(Invoices!$G:$G,Invoices!$A:$A,$A25&"",Invoices!$I:$I,"Current")) | C25: =IF($A25="","",SUMIFS(Invoices!$G:$G,Invoices!$A:$A,$A25&"",Invoices!$I:$I,"1-30")) | D25: =IF($A25="","",SUMIFS(Invoices!$G:$G,Invoices!$A:$A,$A25&"",Invoices!$I:$I,"31-60")) | E25: =IF($A25="","",SUMIFS(Invoices!$G:$G,Invoices!$A:$A,$A25&"",Invoices!$I:$I,"61-90")) | F25: =IF($A25="","",SUMIFS(Invoices!$G:$G,Invoices!$A:$A,$A25&"",Invoices!$I:$I,"90+")) | G25: =IF($A25="","",SUM(B25:F25))
A26: TOTAL | B26: =SUM(B6:B25) | C26: =SUM(C6:C25) | D26: =SUM(D6:D25) | E26: =SUM(E6:E25) | F26: =SUM(F6:F25) | G26: =SUM(G6:G25)
A27: % of total | B27: =IF($G$26=0,0,B26/$G$26) | C27: =IF($G$26=0,0,C26/$G$26) | D27: =IF($G$26=0,0,D26/$G$26) | E27: =IF($G$26=0,0,E26/$G$26) | F27: =IF($G$26=0,0,F26/$G$26)

Sheet Invoices
A1: Open Invoices
A2: Enter every invoice and payments received. Days past due and the aging bucket calculate from the Aging Summary date.
A4: Customer | B4: Invoice # | C4: Invoice date | D4: Due date | E4: Amount | F4: Paid | G4: Balance | H4: Days past due | I4: Bucket | J4: Notes
A5: Acme Co. | B5: INV-1041 | C5: 46245 | D5: =IF(C5="","",C5+30) | E5: 4800 | F5: 0 | G5: =IF(E5="","",E5-N(F5)) | H5: =IF(OR(G5="",G5<=0,D5=""),"",MAX(0,'Aging Summary'!$B$3-D5)) | I5: =IF(H5="",IF(G5<>"",IF(G5<=0,"Paid",""),""),IF(H5=0,"Current",IF(H5<=30,"1-30",IF(H5<=60,"31-60",IF(H5<=90,"61-90","90+")))))
A6: Acme Co. | B6: INV-1052 | C6: 46290 | D6: =IF(C6="","",C6+30) | E6: 2200 | F6: 0 | G6: =IF(E6="","",E6-N(F6)) | H6: =IF(OR(G6="",G6<=0,D6=""),"",MAX(0,'Aging Summary'!$B$3-D6)) | I6: =IF(H6="",IF(G6<>"",IF(G6<=0,"Paid",""),""),IF(H6=0,"Current",IF(H6<=30,"1-30",IF(H6<=60,"31-60",IF(H6<=90,"61-90","90+")))))
A7: Beta LLC | B7: INV-1039 | C7: 46220 | D7: =IF(C7="","",C7+30) | E7: 3150 | F7: 1000 | G7: =IF(E7="","",E7-N(F7)) | H7: =IF(OR(G7="",G7<=0,D7=""),"",MAX(0,'Aging Summary'!$B$3-D7)) | I7: =IF(H7="",IF(G7<>"",IF(G7<=0,"Paid",""),""),IF(H7=0,"Current",IF(H7<=30,"1-30",IF(H7<=60,"31-60",IF(H7<=90,"61-90","90+")))))
A8: Gamma Inc. | B8: INV-1027 | C8: 46175 | D8: =IF(C8="","",C8+30) | E8: 1800 | F8: 0 | G8: =IF(E8="","",E8-N(F8)) | H8: =IF(OR(G8="",G8<=0,D8=""),"",MAX(0,'Aging Summary'!$B$3-D8)) | I8: =IF(H8="",IF(G8<>"",IF(G8<=0,"Paid",""),""),IF(H8=0,"Current",IF(H8<=30,"1-30",IF(H8<=60,"31-60",IF(H8<=90,"61-90","90+")))))
A9: Delta Partners | B9: INV-1055 | C9: 46303 | D9: =IF(C9="","",C9+30) | E9: 6400 | F9: 0 | G9: =IF(E9="","",E9-N(F9)) | H9: =IF(OR(G9="",G9<=0,D9=""),"",MAX(0,'Aging Summary'!$B$3-D9)) | I9: =IF(H9="",IF(G9<>"",IF(G9<=0,"Paid",""),""),IF(H9=0,"Current",IF(H9<=30,"1-30",IF(H9<=60,"31-60",IF(H9<=90,"61-90","90+")))))
A10: Epsilon Labs | B10: INV-1048 | C10: 46265 | D10: =IF(C10="","",C10+30) | E10: 950 | F10: 950 | G10: =IF(E10="","",E10-N(F10)) | H10: =IF(OR(G10="",G10<=0,D10=""),"",MAX(0,'Aging Summary'!$B$3-D10)) | I10: =IF(H10="",IF(G10<>"",IF(G10<=0,"Paid",""),""),IF(H10=0,"Current",IF(H10<=30,"1-30",IF(H10<=60,"31-60",IF(H10<=90,"61-90","90+")))))
A11: Epsilon Labs | B11: INV-1050 | C11: 46275 | D11: =IF(C11="","",C11+30) | E11: 1275 | F11: 0 | G11: =IF(E11="","",E11-N(F11)) | H11: =IF(OR(G11="",G11<=0,D11=""),"",MAX(0,'Aging Summary'!$B$3-D11)) | I11: =IF(H11="",IF(G11<>"",IF(G11<=0,"Paid",""),""),IF(H11=0,"Current",IF(H11<=30,"1-30",IF(H11<=60,"31-60",IF(H11<=90,"61-90","90+")))))
A12: Zeta Foods | B12: INV-1044 | C12: 46253 | D12: =IF(C12="","",C12+30) | E12: 2600 | F12: 600 | G12: =IF(E12="","",E12-N(F12)) | H12: =IF(OR(G12="",G12<=0,D12=""),"",MAX(0,'Aging Summary'!$B$3-D12)) | I12: =IF(H12="",IF(G12<>"",IF(G12<=0,"Paid",""),""),IF(H12=0,"Current",IF(H12<=30,"1-30",IF(H12<=60,"31-60",IF(H12<=90,"61-90","90+")))))
G13: =IF(E13="","",E13-N(F13)) | H13: =IF(OR(G13="",G13<=0,D13=""),"",MAX(0,'Aging Summary'!$B$3-D13)) | I13: =IF(H13="",IF(G13<>"",IF(G13<=0,"Paid",""),""),IF(H13=0,"Current",IF(H13<=30,"1-30",IF(H13<=60,"31-60",IF(H13<=90,"61-90","90+")))))
G14: =IF(E14="","",E14-N(F14)) | H14: =IF(OR(G14="",G14<=0,D14=""),"",MAX(0,'Aging Summary'!$B$3-D14)) | I14: =IF(H14="",IF(G14<>"",IF(G14<=0,"Paid",""),""),IF(H14=0,"Current",IF(H14<=30,"1-30",IF(H14<=60,"31-60",IF(H14<=90,"61-90","90+")))))
G15: =IF(E15="","",E15-N(F15)) | H15: =IF(OR(G15="",G15<=0,D15=""),"",MAX(0,'Aging Summary'!$B$3-D15)) | I15: =IF(H15="",IF(G15<>"",IF(G15<=0,"Paid",""),""),IF(H15=0,"Current",IF(H15<=30,"1-30",IF(H15<=60,"31-60",IF(H15<=90,"61-90","90+")))))
G16: =IF(E16="","",E16-N(F16)) | H16: =IF(OR(G16="",G16<=0,D16=""),"",MAX(0,'Aging Summary'!$B$3-D16)) | I16: =IF(H16="",IF(G16<>"",IF(G16<=0,"Paid",""),""),IF(H16=0,"Current",IF(H16<=30,"1-30",IF(H16<=60,"31-60",IF(H16<=90,"61-90","90+")))))
G17: =IF(E17="","",E17-N(F17)) | H17: =IF(OR(G17="",G17<=0,D17=""),"",MAX(0,'Aging Summary'!$B$3-D17)) | I17: =IF(H17="",IF(G17<>"",IF(G17<=0,"Paid",""),""),IF(H17=0,"Current",IF(H17<=30,"1-30",IF(H17<=60,"31-60",IF(H17<=90,"61-90","90+")))))
G18: =IF(E18="","",E18-N(F18)) | H18: =IF(OR(G18="",G18<=0,D18=""),"",MAX(0,'Aging Summary'!$B$3-D18)) | I18: =IF(H18="",IF(G18<>"",IF(G18<=0,"Paid",""),""),IF(H18=0,"Current",IF(H18<=30,"1-30",IF(H18<=60,"31-60",IF(H18<=90,"61-90","90+")))))
G19: =IF(E19="","",E19-N(F19)) | H19: =IF(OR(G19="",G19<=0,D19=""),"",MAX(0,'Aging Summary'!$B$3-D19)) | I19: =IF(H19="",IF(G19<>"",IF(G19<=0,"Paid",""),""),IF(H19=0,"Current",IF(H19<=30,"1-30",IF(H19<=60,"31-60",IF(H19<=90,"61-90","90+")))))
G20: =IF(E20="","",E20-N(F20)) | H20: =IF(OR(G20="",G20<=0,D20=""),"",MAX(0,'Aging Summary'!$B$3-D20)) | I20: =IF(H20="",IF(G20<>"",IF(G20<=0,"Paid",""),""),IF(H20=0,"Current",IF(H20<=30,"1-30",IF(H20<=60,"31-60",IF(H20<=90,"61-90","90+")))))
G21: =IF(E21="","",E21-N(F21)) | H21: =IF(OR(G21="",G21<=0,D21=""),"",MAX(0,'Aging Summary'!$B$3-D21)) | I21: =IF(H21="",IF(G21<>"",IF(G21<=0,"Paid",""),""),IF(H21=0,"Current",IF(H21<=30,"1-30",IF(H21<=60,"31-60",IF(H21<=90,"61-90","90+")))))
G22: =IF(E22="","",E22-N(F22)) | H22: =IF(OR(G22="",G22<=0,D22=""),"",MAX(0,'Aging Summary'!$B$3-D22)) | I22: =IF(H22="",IF(G22<>"",IF(G22<=0,"Paid",""),""),IF(H22=0,"Current",IF(H22<=30,"1-30",IF(H22<=60,"31-60",IF(H22<=90,"61-90","90+")))))
G23: =IF(E23="","",E23-N(F23)) | H23: =IF(OR(G23="",G23<=0,D23=""),"",MAX(0,'Aging Summary'!$B$3-D23)) | I23: =IF(H23="",IF(G23<>"",IF(G23<=0,"Paid",""),""),IF(H23=0,"Current",IF(H23<=30,"1-30",IF(H23<=60,"31-60",IF(H23<=90,"61-90","90+")))))
G24: =IF(E24="","",E24-N(F24)) | H24: =IF(OR(G24="",G24<=0,D24=""),"",MAX(0,'Aging Summary'!$B$3-D24)) | I24: =IF(H24="",IF(G24<>"",IF(G24<=0,"Paid",""),""),IF(H24=0,"Current",IF(H24<=30,"1-30",IF(H24<=60,"31-60",IF(H24<=90,"61-90","90+")))))
... G304: =IF(E304="","",E304-N(F304)) | H304: =IF(OR(G304="",G304<=0,D304=""),"",MAX(0,'Aging Summary'!$B$3-D304)) | I304: =IF(H304="",IF(G304<>"",IF(G304<=0,"Paid",""),""),IF(H304=0,"Current",IF(H304<=30,"1-30",IF(H304<=60,"31-60",IF(H304<=90,"61-90","90+")))))
