Workbook

Sheet Expenses
A1: Expense Report | J1: Mileage rate ($/mi): | K1: 0.7
A2: Yellow cells are inputs. Reimbursable amounts calculate automatically.
A3: Date | B3: Category | C3: Description | D3: Miles | E3: Amount | F3: Reimbursable
F4: =IF(B4="Mileage",D4*$K$1,E4)
F5: =IF(B5="Mileage",D5*$K$1,E5)
F6: =IF(B6="Mileage",D6*$K$1,E6)
F7: =IF(B7="Mileage",D7*$K$1,E7)
F8: =IF(B8="Mileage",D8*$K$1,E8)
F9: =IF(B9="Mileage",D9*$K$1,E9)
F10: =IF(B10="Mileage",D10*$K$1,E10)
F11: =IF(B11="Mileage",D11*$K$1,E11)
F12: =IF(B12="Mileage",D12*$K$1,E12)
F13: =IF(B13="Mileage",D13*$K$1,E13)
F14: =IF(B14="Mileage",D14*$K$1,E14)
F15: =IF(B15="Mileage",D15*$K$1,E15)
... F33: =IF(B33="Mileage",D33*$K$1,E33)
A34: TOTALS | D34: =SUM(D4:D33) | F34: =SUM(F4:F33)

Sheet Summary
A1: Expense Summary
A3: Metric | B3: Amount
A4: Total reimbursable | B4: =SUM(Expenses!F4:F33)
A5: Total miles driven | B5: =SUM(Expenses!D4:D33)
A6: Mileage reimbursement | B6: =B5*Expenses!$K$1
A7: Travel | B7: =SUMIF(Expenses!B4:B33,"Travel",Expenses!E4:E33)
A8: Meals | B8: =SUMIF(Expenses!B4:B33,"Meals",Expenses!E4:E33)
A9: Lodging | B9: =SUMIF(Expenses!B4:B33,"Lodging",Expenses!E4:E33)
A10: Supplies | B10: =SUMIF(Expenses!B4:B33,"Supplies",Expenses!E4:E33)
A11: Other | B11: =SUMIF(Expenses!B4:B33,"Other",Expenses!E4:E33)
