Workbook

Sheet Applications
A1: Job Application Tracker
A2: Yellow cells are inputs. Follow-up flags appear automatically.
A3: Company | B3: Role | C3: Date Applied | D3: Source | E3: Status | F3: Follow-up Date | G3: Follow-up Due | H3: Notes
G4: =IF(AND(F4<>"",F4<TODAY(),NOT(OR(E4="Rejected",E4="Withdrawn",E4="Offer"))),"FOLLOW UP","")
G5: =IF(AND(F5<>"",F5<TODAY(),NOT(OR(E5="Rejected",E5="Withdrawn",E5="Offer"))),"FOLLOW UP","")
G6: =IF(AND(F6<>"",F6<TODAY(),NOT(OR(E6="Rejected",E6="Withdrawn",E6="Offer"))),"FOLLOW UP","")
G7: =IF(AND(F7<>"",F7<TODAY(),NOT(OR(E7="Rejected",E7="Withdrawn",E7="Offer"))),"FOLLOW UP","")
G8: =IF(AND(F8<>"",F8<TODAY(),NOT(OR(E8="Rejected",E8="Withdrawn",E8="Offer"))),"FOLLOW UP","")
G9: =IF(AND(F9<>"",F9<TODAY(),NOT(OR(E9="Rejected",E9="Withdrawn",E9="Offer"))),"FOLLOW UP","")
G10: =IF(AND(F10<>"",F10<TODAY(),NOT(OR(E10="Rejected",E10="Withdrawn",E10="Offer"))),"FOLLOW UP","")
G11: =IF(AND(F11<>"",F11<TODAY(),NOT(OR(E11="Rejected",E11="Withdrawn",E11="Offer"))),"FOLLOW UP","")
G12: =IF(AND(F12<>"",F12<TODAY(),NOT(OR(E12="Rejected",E12="Withdrawn",E12="Offer"))),"FOLLOW UP","")
G13: =IF(AND(F13<>"",F13<TODAY(),NOT(OR(E13="Rejected",E13="Withdrawn",E13="Offer"))),"FOLLOW UP","")
G14: =IF(AND(F14<>"",F14<TODAY(),NOT(OR(E14="Rejected",E14="Withdrawn",E14="Offer"))),"FOLLOW UP","")
G15: =IF(AND(F15<>"",F15<TODAY(),NOT(OR(E15="Rejected",E15="Withdrawn",E15="Offer"))),"FOLLOW UP","")
... G53: =IF(AND(F53<>"",F53<TODAY(),NOT(OR(E53="Rejected",E53="Withdrawn",E53="Offer"))),"FOLLOW UP","")

Sheet Pipeline
A1: Pipeline Summary
A3: Status | B3: Count
A4: Wishlist | B4: =COUNTIF(Applications!E4:E53,"Wishlist")
A5: Applied | B5: =COUNTIF(Applications!E4:E53,"Applied")
A6: Phone Screen | B6: =COUNTIF(Applications!E4:E53,"Phone Screen")
A7: Interview | B7: =COUNTIF(Applications!E4:E53,"Interview")
A8: Final Round | B8: =COUNTIF(Applications!E4:E53,"Final Round")
A9: Offer | B9: =COUNTIF(Applications!E4:E53,"Offer")
A10: Rejected | B10: =COUNTIF(Applications!E4:E53,"Rejected")
A11: Withdrawn | B11: =COUNTIF(Applications!E4:E53,"Withdrawn")
A13: Active applications | B13: =B5+B6+B7+B8
