Workbook

Sheet Board
A1: Kanban Board
A2: Cards update from the Tasks tab. Change a task's status there to move it between columns.
A4: To Do | C4: Doing | E4: Review | G4: Done
A5: =COUNTIF(Tasks!$B$5:$B$104,"To Do")&" task(s)" | C5: =COUNTIF(Tasks!$B$5:$B$104,"Doing")&" task(s)" | E5: =COUNTIF(Tasks!$B$5:$B$104,"Review")&" task(s)" | G5: =COUNTIF(Tasks!$B$5:$B$104,"Done")&" task(s)"
A6: =IFERROR(INDEX(Tasks!$A$5:$A$104,MATCH(1,Tasks!$G$5:$G$104,0))&IF(INDEX(Tasks!$D$5:$D$104,MATCH(1,Tasks!$G$5:$G$104,0))="",""," · "&INDEX(Tasks!$D$5:$D$104,MATCH(1,Tasks!$G$5:$G$104,0))),"") | C6: =IFERROR(INDEX(Tasks!$A$5:$A$104,MATCH(1,Tasks!$H$5:$H$104,0))&IF(INDEX(Tasks!$D$5:$D$104,MATCH(1,Tasks!$H$5:$H$104,0))="",""," · "&INDEX(Tasks!$D$5:$D$104,MATCH(1,Tasks!$H$5:$H$104,0))),"") | E6: =IFERROR(INDEX(Tasks!$A$5:$A$104,MATCH(1,Tasks!$I$5:$I$104,0))&IF(INDEX(Tasks!$D$5:$D$104,MATCH(1,Tasks!$I$5:$I$104,0))="",""," · "&INDEX(Tasks!$D$5:$D$104,MATCH(1,Tasks!$I$5:$I$104,0))),"") | G6: =IFERROR(INDEX(Tasks!$A$5:$A$104,MATCH(1,Tasks!$J$5:$J$104,0))&IF(INDEX(Tasks!$D$5:$D$104,MATCH(1,Tasks!$J$5:$J$104,0))="",""," · "&INDEX(Tasks!$D$5:$D$104,MATCH(1,Tasks!$J$5:$J$104,0))),"")
A7: =IFERROR(INDEX(Tasks!$A$5:$A$104,MATCH(2,Tasks!$G$5:$G$104,0))&IF(INDEX(Tasks!$D$5:$D$104,MATCH(2,Tasks!$G$5:$G$104,0))="",""," · "&INDEX(Tasks!$D$5:$D$104,MATCH(2,Tasks!$G$5:$G$104,0))),"") | C7: =IFERROR(INDEX(Tasks!$A$5:$A$104,MATCH(2,Tasks!$H$5:$H$104,0))&IF(INDEX(Tasks!$D$5:$D$104,MATCH(2,Tasks!$H$5:$H$104,0))="",""," · "&INDEX(Tasks!$D$5:$D$104,MATCH(2,Tasks!$H$5:$H$104,0))),"") | E7: =IFERROR(INDEX(Tasks!$A$5:$A$104,MATCH(2,Tasks!$I$5:$I$104,0))&IF(INDEX(Tasks!$D$5:$D$104,MATCH(2,Tasks!$I$5:$I$104,0))="",""," · "&INDEX(Tasks!$D$5:$D$104,MATCH(2,Tasks!$I$5:$I$104,0))),"") | G7: =IFERROR(INDEX(Tasks!$A$5:$A$104,MATCH(2,Tasks!$J$5:$J$104,0))&IF(INDEX(Tasks!$D$5:$D$104,MATCH(2,Tasks!$J$5:$J$104,0))="",""," · "&INDEX(Tasks!$D$5:$D$104,MATCH(2,Tasks!$J$5:$J$104,0))),"")
A8: =IFERROR(INDEX(Tasks!$A$5:$A$104,MATCH(3,Tasks!$G$5:$G$104,0))&IF(INDEX(Tasks!$D$5:$D$104,MATCH(3,Tasks!$G$5:$G$104,0))="",""," · "&INDEX(Tasks!$D$5:$D$104,MATCH(3,Tasks!$G$5:$G$104,0))),"") | C8: =IFERROR(INDEX(Tasks!$A$5:$A$104,MATCH(3,Tasks!$H$5:$H$104,0))&IF(INDEX(Tasks!$D$5:$D$104,MATCH(3,Tasks!$H$5:$H$104,0))="",""," · "&INDEX(Tasks!$D$5:$D$104,MATCH(3,Tasks!$H$5:$H$104,0))),"") | E8: =IFERROR(INDEX(Tasks!$A$5:$A$104,MATCH(3,Tasks!$I$5:$I$104,0))&IF(INDEX(Tasks!$D$5:$D$104,MATCH(3,Tasks!$I$5:$I$104,0))="",""," · "&INDEX(Tasks!$D$5:$D$104,MATCH(3,Tasks!$I$5:$I$104,0))),"") | G8: =IFERROR(INDEX(Tasks!$A$5:$A$104,MATCH(3,Tasks!$J$5:$J$104,0))&IF(INDEX(Tasks!$D$5:$D$104,MATCH(3,Tasks!$J$5:$J$104,0))="",""," · "&INDEX(Tasks!$D$5:$D$104,MATCH(3,Tasks!$J$5:$J$104,0))),"")
A9: =IFERROR(INDEX(Tasks!$A$5:$A$104,MATCH(4,Tasks!$G$5:$G$104,0))&IF(INDEX(Tasks!$D$5:$D$104,MATCH(4,Tasks!$G$5:$G$104,0))="",""," · "&INDEX(Tasks!$D$5:$D$104,MATCH(4,Tasks!$G$5:$G$104,0))),"") | C9: =IFERROR(INDEX(Tasks!$A$5:$A$104,MATCH(4,Tasks!$H$5:$H$104,0))&IF(INDEX(Tasks!$D$5:$D$104,MATCH(4,Tasks!$H$5:$H$104,0))="",""," · "&INDEX(Tasks!$D$5:$D$104,MATCH(4,Tasks!$H$5:$H$104,0))),"") | E9: =IFERROR(INDEX(Tasks!$A$5:$A$104,MATCH(4,Tasks!$I$5:$I$104,0))&IF(INDEX(Tasks!$D$5:$D$104,MATCH(4,Tasks!$I$5:$I$104,0))="",""," · "&INDEX(Tasks!$D$5:$D$104,MATCH(4,Tasks!$I$5:$I$104,0))),"") | G9: =IFERROR(INDEX(Tasks!$A$5:$A$104,MATCH(4,Tasks!$J$5:$J$104,0))&IF(INDEX(Tasks!$D$5:$D$104,MATCH(4,Tasks!$J$5:$J$104,0))="",""," · "&INDEX(Tasks!$D$5:$D$104,MATCH(4,Tasks!$J$5:$J$104,0))),"")
A10: =IFERROR(INDEX(Tasks!$A$5:$A$104,MATCH(5,Tasks!$G$5:$G$104,0))&IF(INDEX(Tasks!$D$5:$D$104,MATCH(5,Tasks!$G$5:$G$104,0))="",""," · "&INDEX(Tasks!$D$5:$D$104,MATCH(5,Tasks!$G$5:$G$104,0))),"") | C10: =IFERROR(INDEX(Tasks!$A$5:$A$104,MATCH(5,Tasks!$H$5:$H$104,0))&IF(INDEX(Tasks!$D$5:$D$104,MATCH(5,Tasks!$H$5:$H$104,0))="",""," · "&INDEX(Tasks!$D$5:$D$104,MATCH(5,Tasks!$H$5:$H$104,0))),"") | E10: =IFERROR(INDEX(Tasks!$A$5:$A$104,MATCH(5,Tasks!$I$5:$I$104,0))&IF(INDEX(Tasks!$D$5:$D$104,MATCH(5,Tasks!$I$5:$I$104,0))="",""," · "&INDEX(Tasks!$D$5:$D$104,MATCH(5,Tasks!$I$5:$I$104,0))),"") | G10: =IFERROR(INDEX(Tasks!$A$5:$A$104,MATCH(5,Tasks!$J$5:$J$104,0))&IF(INDEX(Tasks!$D$5:$D$104,MATCH(5,Tasks!$J$5:$J$104,0))="",""," · "&INDEX(Tasks!$D$5:$D$104,MATCH(5,Tasks!$J$5:$J$104,0))),"")
A11: =IFERROR(INDEX(Tasks!$A$5:$A$104,MATCH(6,Tasks!$G$5:$G$104,0))&IF(INDEX(Tasks!$D$5:$D$104,MATCH(6,Tasks!$G$5:$G$104,0))="",""," · "&INDEX(Tasks!$D$5:$D$104,MATCH(6,Tasks!$G$5:$G$104,0))),"") | C11: =IFERROR(INDEX(Tasks!$A$5:$A$104,MATCH(6,Tasks!$H$5:$H$104,0))&IF(INDEX(Tasks!$D$5:$D$104,MATCH(6,Tasks!$H$5:$H$104,0))="",""," · "&INDEX(Tasks!$D$5:$D$104,MATCH(6,Tasks!$H$5:$H$104,0))),"") | E11: =IFERROR(INDEX(Tasks!$A$5:$A$104,MATCH(6,Tasks!$I$5:$I$104,0))&IF(INDEX(Tasks!$D$5:$D$104,MATCH(6,Tasks!$I$5:$I$104,0))="",""," · "&INDEX(Tasks!$D$5:$D$104,MATCH(6,Tasks!$I$5:$I$104,0))),"") | G11: =IFERROR(INDEX(Tasks!$A$5:$A$104,MATCH(6,Tasks!$J$5:$J$104,0))&IF(INDEX(Tasks!$D$5:$D$104,MATCH(6,Tasks!$J$5:$J$104,0))="",""," · "&INDEX(Tasks!$D$5:$D$104,MATCH(6,Tasks!$J$5:$J$104,0))),"")
A12: =IFERROR(INDEX(Tasks!$A$5:$A$104,MATCH(7,Tasks!$G$5:$G$104,0))&IF(INDEX(Tasks!$D$5:$D$104,MATCH(7,Tasks!$G$5:$G$104,0))="",""," · "&INDEX(Tasks!$D$5:$D$104,MATCH(7,Tasks!$G$5:$G$104,0))),"") | C12: =IFERROR(INDEX(Tasks!$A$5:$A$104,MATCH(7,Tasks!$H$5:$H$104,0))&IF(INDEX(Tasks!$D$5:$D$104,MATCH(7,Tasks!$H$5:$H$104,0))="",""," · "&INDEX(Tasks!$D$5:$D$104,MATCH(7,Tasks!$H$5:$H$104,0))),"") | E12: =IFERROR(INDEX(Tasks!$A$5:$A$104,MATCH(7,Tasks!$I$5:$I$104,0))&IF(INDEX(Tasks!$D$5:$D$104,MATCH(7,Tasks!$I$5:$I$104,0))="",""," · "&INDEX(Tasks!$D$5:$D$104,MATCH(7,Tasks!$I$5:$I$104,0))),"") | G12: =IFERROR(INDEX(Tasks!$A$5:$A$104,MATCH(7,Tasks!$J$5:$J$104,0))&IF(INDEX(Tasks!$D$5:$D$104,MATCH(7,Tasks!$J$5:$J$104,0))="",""," · "&INDEX(Tasks!$D$5:$D$104,MATCH(7,Tasks!$J$5:$J$104,0))),"")
A13: =IFERROR(INDEX(Tasks!$A$5:$A$104,MATCH(8,Tasks!$G$5:$G$104,0))&IF(INDEX(Tasks!$D$5:$D$104,MATCH(8,Tasks!$G$5:$G$104,0))="",""," · "&INDEX(Tasks!$D$5:$D$104,MATCH(8,Tasks!$G$5:$G$104,0))),"") | C13: =IFERROR(INDEX(Tasks!$A$5:$A$104,MATCH(8,Tasks!$H$5:$H$104,0))&IF(INDEX(Tasks!$D$5:$D$104,MATCH(8,Tasks!$H$5:$H$104,0))="",""," · "&INDEX(Tasks!$D$5:$D$104,MATCH(8,Tasks!$H$5:$H$104,0))),"") | E13: =IFERROR(INDEX(Tasks!$A$5:$A$104,MATCH(8,Tasks!$I$5:$I$104,0))&IF(INDEX(Tasks!$D$5:$D$104,MATCH(8,Tasks!$I$5:$I$104,0))="",""," · "&INDEX(Tasks!$D$5:$D$104,MATCH(8,Tasks!$I$5:$I$104,0))),"") | G13: =IFERROR(INDEX(Tasks!$A$5:$A$104,MATCH(8,Tasks!$J$5:$J$104,0))&IF(INDEX(Tasks!$D$5:$D$104,MATCH(8,Tasks!$J$5:$J$104,0))="",""," · "&INDEX(Tasks!$D$5:$D$104,MATCH(8,Tasks!$J$5:$J$104,0))),"")
A14: =IFERROR(INDEX(Tasks!$A$5:$A$104,MATCH(9,Tasks!$G$5:$G$104,0))&IF(INDEX(Tasks!$D$5:$D$104,MATCH(9,Tasks!$G$5:$G$104,0))="",""," · "&INDEX(Tasks!$D$5:$D$104,MATCH(9,Tasks!$G$5:$G$104,0))),"") | C14: =IFERROR(INDEX(Tasks!$A$5:$A$104,MATCH(9,Tasks!$H$5:$H$104,0))&IF(INDEX(Tasks!$D$5:$D$104,MATCH(9,Tasks!$H$5:$H$104,0))="",""," · "&INDEX(Tasks!$D$5:$D$104,MATCH(9,Tasks!$H$5:$H$104,0))),"") | E14: =IFERROR(INDEX(Tasks!$A$5:$A$104,MATCH(9,Tasks!$I$5:$I$104,0))&IF(INDEX(Tasks!$D$5:$D$104,MATCH(9,Tasks!$I$5:$I$104,0))="",""," · "&INDEX(Tasks!$D$5:$D$104,MATCH(9,Tasks!$I$5:$I$104,0))),"") | G14: =IFERROR(INDEX(Tasks!$A$5:$A$104,MATCH(9,Tasks!$J$5:$J$104,0))&IF(INDEX(Tasks!$D$5:$D$104,MATCH(9,Tasks!$J$5:$J$104,0))="",""," · "&INDEX(Tasks!$D$5:$D$104,MATCH(9,Tasks!$J$5:$J$104,0))),"")
A15: =IFERROR(INDEX(Tasks!$A$5:$A$104,MATCH(10,Tasks!$G$5:$G$104,0))&IF(INDEX(Tasks!$D$5:$D$104,MATCH(10,Tasks!$G$5:$G$104,0))="",""," · "&INDEX(Tasks!$D$5:$D$104,MATCH(10,Tasks!$G$5:$G$104,0))),"") | C15: =IFERROR(INDEX(Tasks!$A$5:$A$104,MATCH(10,Tasks!$H$5:$H$104,0))&IF(INDEX(Tasks!$D$5:$D$104,MATCH(10,Tasks!$H$5:$H$104,0))="",""," · "&INDEX(Tasks!$D$5:$D$104,MATCH(10,Tasks!$H$5:$H$104,0))),"") | E15: =IFERROR(INDEX(Tasks!$A$5:$A$104,MATCH(10,Tasks!$I$5:$I$104,0))&IF(INDEX(Tasks!$D$5:$D$104,MATCH(10,Tasks!$I$5:$I$104,0))="",""," · "&INDEX(Tasks!$D$5:$D$104,MATCH(10,Tasks!$I$5:$I$104,0))),"") | G15: =IFERROR(INDEX(Tasks!$A$5:$A$104,MATCH(10,Tasks!$J$5:$J$104,0))&IF(INDEX(Tasks!$D$5:$D$104,MATCH(10,Tasks!$J$5:$J$104,0))="",""," · "&INDEX(Tasks!$D$5:$D$104,MATCH(10,Tasks!$J$5:$J$104,0))),"")
A16: =IFERROR(INDEX(Tasks!$A$5:$A$104,MATCH(11,Tasks!$G$5:$G$104,0))&IF(INDEX(Tasks!$D$5:$D$104,MATCH(11,Tasks!$G$5:$G$104,0))="",""," · "&INDEX(Tasks!$D$5:$D$104,MATCH(11,Tasks!$G$5:$G$104,0))),"") | C16: =IFERROR(INDEX(Tasks!$A$5:$A$104,MATCH(11,Tasks!$H$5:$H$104,0))&IF(INDEX(Tasks!$D$5:$D$104,MATCH(11,Tasks!$H$5:$H$104,0))="",""," · "&INDEX(Tasks!$D$5:$D$104,MATCH(11,Tasks!$H$5:$H$104,0))),"") | E16: =IFERROR(INDEX(Tasks!$A$5:$A$104,MATCH(11,Tasks!$I$5:$I$104,0))&IF(INDEX(Tasks!$D$5:$D$104,MATCH(11,Tasks!$I$5:$I$104,0))="",""," · "&INDEX(Tasks!$D$5:$D$104,MATCH(11,Tasks!$I$5:$I$104,0))),"") | G16: =IFERROR(INDEX(Tasks!$A$5:$A$104,MATCH(11,Tasks!$J$5:$J$104,0))&IF(INDEX(Tasks!$D$5:$D$104,MATCH(11,Tasks!$J$5:$J$104,0))="",""," · "&INDEX(Tasks!$D$5:$D$104,MATCH(11,Tasks!$J$5:$J$104,0))),"")
A17: =IFERROR(INDEX(Tasks!$A$5:$A$104,MATCH(12,Tasks!$G$5:$G$104,0))&IF(INDEX(Tasks!$D$5:$D$104,MATCH(12,Tasks!$G$5:$G$104,0))="",""," · "&INDEX(Tasks!$D$5:$D$104,MATCH(12,Tasks!$G$5:$G$104,0))),"") | C17: =IFERROR(INDEX(Tasks!$A$5:$A$104,MATCH(12,Tasks!$H$5:$H$104,0))&IF(INDEX(Tasks!$D$5:$D$104,MATCH(12,Tasks!$H$5:$H$104,0))="",""," · "&INDEX(Tasks!$D$5:$D$104,MATCH(12,Tasks!$H$5:$H$104,0))),"") | E17: =IFERROR(INDEX(Tasks!$A$5:$A$104,MATCH(12,Tasks!$I$5:$I$104,0))&IF(INDEX(Tasks!$D$5:$D$104,MATCH(12,Tasks!$I$5:$I$104,0))="",""," · "&INDEX(Tasks!$D$5:$D$104,MATCH(12,Tasks!$I$5:$I$104,0))),"") | G17: =IFERROR(INDEX(Tasks!$A$5:$A$104,MATCH(12,Tasks!$J$5:$J$104,0))&IF(INDEX(Tasks!$D$5:$D$104,MATCH(12,Tasks!$J$5:$J$104,0))="",""," · "&INDEX(Tasks!$D$5:$D$104,MATCH(12,Tasks!$J$5:$J$104,0))),"")
A18: =IFERROR(INDEX(Tasks!$A$5:$A$104,MATCH(13,Tasks!$G$5:$G$104,0))&IF(INDEX(Tasks!$D$5:$D$104,MATCH(13,Tasks!$G$5:$G$104,0))="",""," · "&INDEX(Tasks!$D$5:$D$104,MATCH(13,Tasks!$G$5:$G$104,0))),"") | C18: =IFERROR(INDEX(Tasks!$A$5:$A$104,MATCH(13,Tasks!$H$5:$H$104,0))&IF(INDEX(Tasks!$D$5:$D$104,MATCH(13,Tasks!$H$5:$H$104,0))="",""," · "&INDEX(Tasks!$D$5:$D$104,MATCH(13,Tasks!$H$5:$H$104,0))),"") | E18: =IFERROR(INDEX(Tasks!$A$5:$A$104,MATCH(13,Tasks!$I$5:$I$104,0))&IF(INDEX(Tasks!$D$5:$D$104,MATCH(13,Tasks!$I$5:$I$104,0))="",""," · "&INDEX(Tasks!$D$5:$D$104,MATCH(13,Tasks!$I$5:$I$104,0))),"") | G18: =IFERROR(INDEX(Tasks!$A$5:$A$104,MATCH(13,Tasks!$J$5:$J$104,0))&IF(INDEX(Tasks!$D$5:$D$104,MATCH(13,Tasks!$J$5:$J$104,0))="",""," · "&INDEX(Tasks!$D$5:$D$104,MATCH(13,Tasks!$J$5:$J$104,0))),"")
A19: =IFERROR(INDEX(Tasks!$A$5:$A$104,MATCH(14,Tasks!$G$5:$G$104,0))&IF(INDEX(Tasks!$D$5:$D$104,MATCH(14,Tasks!$G$5:$G$104,0))="",""," · "&INDEX(Tasks!$D$5:$D$104,MATCH(14,Tasks!$G$5:$G$104,0))),"") | C19: =IFERROR(INDEX(Tasks!$A$5:$A$104,MATCH(14,Tasks!$H$5:$H$104,0))&IF(INDEX(Tasks!$D$5:$D$104,MATCH(14,Tasks!$H$5:$H$104,0))="",""," · "&INDEX(Tasks!$D$5:$D$104,MATCH(14,Tasks!$H$5:$H$104,0))),"") | E19: =IFERROR(INDEX(Tasks!$A$5:$A$104,MATCH(14,Tasks!$I$5:$I$104,0))&IF(INDEX(Tasks!$D$5:$D$104,MATCH(14,Tasks!$I$5:$I$104,0))="",""," · "&INDEX(Tasks!$D$5:$D$104,MATCH(14,Tasks!$I$5:$I$104,0))),"") | G19: =IFERROR(INDEX(Tasks!$A$5:$A$104,MATCH(14,Tasks!$J$5:$J$104,0))&IF(INDEX(Tasks!$D$5:$D$104,MATCH(14,Tasks!$J$5:$J$104,0))="",""," · "&INDEX(Tasks!$D$5:$D$104,MATCH(14,Tasks!$J$5:$J$104,0))),"")
A20: =IFERROR(INDEX(Tasks!$A$5:$A$104,MATCH(15,Tasks!$G$5:$G$104,0))&IF(INDEX(Tasks!$D$5:$D$104,MATCH(15,Tasks!$G$5:$G$104,0))="",""," · "&INDEX(Tasks!$D$5:$D$104,MATCH(15,Tasks!$G$5:$G$104,0))),"") | C20: =IFERROR(INDEX(Tasks!$A$5:$A$104,MATCH(15,Tasks!$H$5:$H$104,0))&IF(INDEX(Tasks!$D$5:$D$104,MATCH(15,Tasks!$H$5:$H$104,0))="",""," · "&INDEX(Tasks!$D$5:$D$104,MATCH(15,Tasks!$H$5:$H$104,0))),"") | E20: =IFERROR(INDEX(Tasks!$A$5:$A$104,MATCH(15,Tasks!$I$5:$I$104,0))&IF(INDEX(Tasks!$D$5:$D$104,MATCH(15,Tasks!$I$5:$I$104,0))="",""," · "&INDEX(Tasks!$D$5:$D$104,MATCH(15,Tasks!$I$5:$I$104,0))),"") | G20: =IFERROR(INDEX(Tasks!$A$5:$A$104,MATCH(15,Tasks!$J$5:$J$104,0))&IF(INDEX(Tasks!$D$5:$D$104,MATCH(15,Tasks!$J$5:$J$104,0))="",""," · "&INDEX(Tasks!$D$5:$D$104,MATCH(15,Tasks!$J$5:$J$104,0))),"")
A21: =IFERROR(INDEX(Tasks!$A$5:$A$104,MATCH(16,Tasks!$G$5:$G$104,0))&IF(INDEX(Tasks!$D$5:$D$104,MATCH(16,Tasks!$G$5:$G$104,0))="",""," · "&INDEX(Tasks!$D$5:$D$104,MATCH(16,Tasks!$G$5:$G$104,0))),"") | C21: =IFERROR(INDEX(Tasks!$A$5:$A$104,MATCH(16,Tasks!$H$5:$H$104,0))&IF(INDEX(Tasks!$D$5:$D$104,MATCH(16,Tasks!$H$5:$H$104,0))="",""," · "&INDEX(Tasks!$D$5:$D$104,MATCH(16,Tasks!$H$5:$H$104,0))),"") | E21: =IFERROR(INDEX(Tasks!$A$5:$A$104,MATCH(16,Tasks!$I$5:$I$104,0))&IF(INDEX(Tasks!$D$5:$D$104,MATCH(16,Tasks!$I$5:$I$104,0))="",""," · "&INDEX(Tasks!$D$5:$D$104,MATCH(16,Tasks!$I$5:$I$104,0))),"") | G21: =IFERROR(INDEX(Tasks!$A$5:$A$104,MATCH(16,Tasks!$J$5:$J$104,0))&IF(INDEX(Tasks!$D$5:$D$104,MATCH(16,Tasks!$J$5:$J$104,0))="",""," · "&INDEX(Tasks!$D$5:$D$104,MATCH(16,Tasks!$J$5:$J$104,0))),"")
A22: =IFERROR(INDEX(Tasks!$A$5:$A$104,MATCH(17,Tasks!$G$5:$G$104,0))&IF(INDEX(Tasks!$D$5:$D$104,MATCH(17,Tasks!$G$5:$G$104,0))="",""," · "&INDEX(Tasks!$D$5:$D$104,MATCH(17,Tasks!$G$5:$G$104,0))),"") | C22: =IFERROR(INDEX(Tasks!$A$5:$A$104,MATCH(17,Tasks!$H$5:$H$104,0))&IF(INDEX(Tasks!$D$5:$D$104,MATCH(17,Tasks!$H$5:$H$104,0))="",""," · "&INDEX(Tasks!$D$5:$D$104,MATCH(17,Tasks!$H$5:$H$104,0))),"") | E22: =IFERROR(INDEX(Tasks!$A$5:$A$104,MATCH(17,Tasks!$I$5:$I$104,0))&IF(INDEX(Tasks!$D$5:$D$104,MATCH(17,Tasks!$I$5:$I$104,0))="",""," · "&INDEX(Tasks!$D$5:$D$104,MATCH(17,Tasks!$I$5:$I$104,0))),"") | G22: =IFERROR(INDEX(Tasks!$A$5:$A$104,MATCH(17,Tasks!$J$5:$J$104,0))&IF(INDEX(Tasks!$D$5:$D$104,MATCH(17,Tasks!$J$5:$J$104,0))="",""," · "&INDEX(Tasks!$D$5:$D$104,MATCH(17,Tasks!$J$5:$J$104,0))),"")
A23: =IFERROR(INDEX(Tasks!$A$5:$A$104,MATCH(18,Tasks!$G$5:$G$104,0))&IF(INDEX(Tasks!$D$5:$D$104,MATCH(18,Tasks!$G$5:$G$104,0))="",""," · "&INDEX(Tasks!$D$5:$D$104,MATCH(18,Tasks!$G$5:$G$104,0))),"") | C23: =IFERROR(INDEX(Tasks!$A$5:$A$104,MATCH(18,Tasks!$H$5:$H$104,0))&IF(INDEX(Tasks!$D$5:$D$104,MATCH(18,Tasks!$H$5:$H$104,0))="",""," · "&INDEX(Tasks!$D$5:$D$104,MATCH(18,Tasks!$H$5:$H$104,0))),"") | E23: =IFERROR(INDEX(Tasks!$A$5:$A$104,MATCH(18,Tasks!$I$5:$I$104,0))&IF(INDEX(Tasks!$D$5:$D$104,MATCH(18,Tasks!$I$5:$I$104,0))="",""," · "&INDEX(Tasks!$D$5:$D$104,MATCH(18,Tasks!$I$5:$I$104,0))),"") | G23: =IFERROR(INDEX(Tasks!$A$5:$A$104,MATCH(18,Tasks!$J$5:$J$104,0))&IF(INDEX(Tasks!$D$5:$D$104,MATCH(18,Tasks!$J$5:$J$104,0))="",""," · "&INDEX(Tasks!$D$5:$D$104,MATCH(18,Tasks!$J$5:$J$104,0))),"")
A24: =IFERROR(INDEX(Tasks!$A$5:$A$104,MATCH(19,Tasks!$G$5:$G$104,0))&IF(INDEX(Tasks!$D$5:$D$104,MATCH(19,Tasks!$G$5:$G$104,0))="",""," · "&INDEX(Tasks!$D$5:$D$104,MATCH(19,Tasks!$G$5:$G$104,0))),"") | C24: =IFERROR(INDEX(Tasks!$A$5:$A$104,MATCH(19,Tasks!$H$5:$H$104,0))&IF(INDEX(Tasks!$D$5:$D$104,MATCH(19,Tasks!$H$5:$H$104,0))="",""," · "&INDEX(Tasks!$D$5:$D$104,MATCH(19,Tasks!$H$5:$H$104,0))),"") | E24: =IFERROR(INDEX(Tasks!$A$5:$A$104,MATCH(19,Tasks!$I$5:$I$104,0))&IF(INDEX(Tasks!$D$5:$D$104,MATCH(19,Tasks!$I$5:$I$104,0))="",""," · "&INDEX(Tasks!$D$5:$D$104,MATCH(19,Tasks!$I$5:$I$104,0))),"") | G24: =IFERROR(INDEX(Tasks!$A$5:$A$104,MATCH(19,Tasks!$J$5:$J$104,0))&IF(INDEX(Tasks!$D$5:$D$104,MATCH(19,Tasks!$J$5:$J$104,0))="",""," · "&INDEX(Tasks!$D$5:$D$104,MATCH(19,Tasks!$J$5:$J$104,0))),"")
A25: =IFERROR(INDEX(Tasks!$A$5:$A$104,MATCH(20,Tasks!$G$5:$G$104,0))&IF(INDEX(Tasks!$D$5:$D$104,MATCH(20,Tasks!$G$5:$G$104,0))="",""," · "&INDEX(Tasks!$D$5:$D$104,MATCH(20,Tasks!$G$5:$G$104,0))),"") | C25: =IFERROR(INDEX(Tasks!$A$5:$A$104,MATCH(20,Tasks!$H$5:$H$104,0))&IF(INDEX(Tasks!$D$5:$D$104,MATCH(20,Tasks!$H$5:$H$104,0))="",""," · "&INDEX(Tasks!$D$5:$D$104,MATCH(20,Tasks!$H$5:$H$104,0))),"") | E25: =IFERROR(INDEX(Tasks!$A$5:$A$104,MATCH(20,Tasks!$I$5:$I$104,0))&IF(INDEX(Tasks!$D$5:$D$104,MATCH(20,Tasks!$I$5:$I$104,0))="",""," · "&INDEX(Tasks!$D$5:$D$104,MATCH(20,Tasks!$I$5:$I$104,0))),"") | G25: =IFERROR(INDEX(Tasks!$A$5:$A$104,MATCH(20,Tasks!$J$5:$J$104,0))&IF(INDEX(Tasks!$D$5:$D$104,MATCH(20,Tasks!$J$5:$J$104,0))="",""," · "&INDEX(Tasks!$D$5:$D$104,MATCH(20,Tasks!$J$5:$J$104,0))),"")
A26: =IFERROR(INDEX(Tasks!$A$5:$A$104,MATCH(21,Tasks!$G$5:$G$104,0))&IF(INDEX(Tasks!$D$5:$D$104,MATCH(21,Tasks!$G$5:$G$104,0))="",""," · "&INDEX(Tasks!$D$5:$D$104,MATCH(21,Tasks!$G$5:$G$104,0))),"") | C26: =IFERROR(INDEX(Tasks!$A$5:$A$104,MATCH(21,Tasks!$H$5:$H$104,0))&IF(INDEX(Tasks!$D$5:$D$104,MATCH(21,Tasks!$H$5:$H$104,0))="",""," · "&INDEX(Tasks!$D$5:$D$104,MATCH(21,Tasks!$H$5:$H$104,0))),"") | E26: =IFERROR(INDEX(Tasks!$A$5:$A$104,MATCH(21,Tasks!$I$5:$I$104,0))&IF(INDEX(Tasks!$D$5:$D$104,MATCH(21,Tasks!$I$5:$I$104,0))="",""," · "&INDEX(Tasks!$D$5:$D$104,MATCH(21,Tasks!$I$5:$I$104,0))),"") | G26: =IFERROR(INDEX(Tasks!$A$5:$A$104,MATCH(21,Tasks!$J$5:$J$104,0))&IF(INDEX(Tasks!$D$5:$D$104,MATCH(21,Tasks!$J$5:$J$104,0))="",""," · "&INDEX(Tasks!$D$5:$D$104,MATCH(21,Tasks!$J$5:$J$104,0))),"")
A27: =IFERROR(INDEX(Tasks!$A$5:$A$104,MATCH(22,Tasks!$G$5:$G$104,0))&IF(INDEX(Tasks!$D$5:$D$104,MATCH(22,Tasks!$G$5:$G$104,0))="",""," · "&INDEX(Tasks!$D$5:$D$104,MATCH(22,Tasks!$G$5:$G$104,0))),"") | C27: =IFERROR(INDEX(Tasks!$A$5:$A$104,MATCH(22,Tasks!$H$5:$H$104,0))&IF(INDEX(Tasks!$D$5:$D$104,MATCH(22,Tasks!$H$5:$H$104,0))="",""," · "&INDEX(Tasks!$D$5:$D$104,MATCH(22,Tasks!$H$5:$H$104,0))),"") | E27: =IFERROR(INDEX(Tasks!$A$5:$A$104,MATCH(22,Tasks!$I$5:$I$104,0))&IF(INDEX(Tasks!$D$5:$D$104,MATCH(22,Tasks!$I$5:$I$104,0))="",""," · "&INDEX(Tasks!$D$5:$D$104,MATCH(22,Tasks!$I$5:$I$104,0))),"") | G27: =IFERROR(INDEX(Tasks!$A$5:$A$104,MATCH(22,Tasks!$J$5:$J$104,0))&IF(INDEX(Tasks!$D$5:$D$104,MATCH(22,Tasks!$J$5:$J$104,0))="",""," · "&INDEX(Tasks!$D$5:$D$104,MATCH(22,Tasks!$J$5:$J$104,0))),"")
A28: =IFERROR(INDEX(Tasks!$A$5:$A$104,MATCH(23,Tasks!$G$5:$G$104,0))&IF(INDEX(Tasks!$D$5:$D$104,MATCH(23,Tasks!$G$5:$G$104,0))="",""," · "&INDEX(Tasks!$D$5:$D$104,MATCH(23,Tasks!$G$5:$G$104,0))),"") | C28: =IFERROR(INDEX(Tasks!$A$5:$A$104,MATCH(23,Tasks!$H$5:$H$104,0))&IF(INDEX(Tasks!$D$5:$D$104,MATCH(23,Tasks!$H$5:$H$104,0))="",""," · "&INDEX(Tasks!$D$5:$D$104,MATCH(23,Tasks!$H$5:$H$104,0))),"") | E28: =IFERROR(INDEX(Tasks!$A$5:$A$104,MATCH(23,Tasks!$I$5:$I$104,0))&IF(INDEX(Tasks!$D$5:$D$104,MATCH(23,Tasks!$I$5:$I$104,0))="",""," · "&INDEX(Tasks!$D$5:$D$104,MATCH(23,Tasks!$I$5:$I$104,0))),"") | G28: =IFERROR(INDEX(Tasks!$A$5:$A$104,MATCH(23,Tasks!$J$5:$J$104,0))&IF(INDEX(Tasks!$D$5:$D$104,MATCH(23,Tasks!$J$5:$J$104,0))="",""," · "&INDEX(Tasks!$D$5:$D$104,MATCH(23,Tasks!$J$5:$J$104,0))),"")
A29: =IFERROR(INDEX(Tasks!$A$5:$A$104,MATCH(24,Tasks!$G$5:$G$104,0))&IF(INDEX(Tasks!$D$5:$D$104,MATCH(24,Tasks!$G$5:$G$104,0))="",""," · "&INDEX(Tasks!$D$5:$D$104,MATCH(24,Tasks!$G$5:$G$104,0))),"") | C29: =IFERROR(INDEX(Tasks!$A$5:$A$104,MATCH(24,Tasks!$H$5:$H$104,0))&IF(INDEX(Tasks!$D$5:$D$104,MATCH(24,Tasks!$H$5:$H$104,0))="",""," · "&INDEX(Tasks!$D$5:$D$104,MATCH(24,Tasks!$H$5:$H$104,0))),"") | E29: =IFERROR(INDEX(Tasks!$A$5:$A$104,MATCH(24,Tasks!$I$5:$I$104,0))&IF(INDEX(Tasks!$D$5:$D$104,MATCH(24,Tasks!$I$5:$I$104,0))="",""," · "&INDEX(Tasks!$D$5:$D$104,MATCH(24,Tasks!$I$5:$I$104,0))),"") | G29: =IFERROR(INDEX(Tasks!$A$5:$A$104,MATCH(24,Tasks!$J$5:$J$104,0))&IF(INDEX(Tasks!$D$5:$D$104,MATCH(24,Tasks!$J$5:$J$104,0))="",""," · "&INDEX(Tasks!$D$5:$D$104,MATCH(24,Tasks!$J$5:$J$104,0))),"")
A30: =IFERROR(INDEX(Tasks!$A$5:$A$104,MATCH(25,Tasks!$G$5:$G$104,0))&IF(INDEX(Tasks!$D$5:$D$104,MATCH(25,Tasks!$G$5:$G$104,0))="",""," · "&INDEX(Tasks!$D$5:$D$104,MATCH(25,Tasks!$G$5:$G$104,0))),"") | C30: =IFERROR(INDEX(Tasks!$A$5:$A$104,MATCH(25,Tasks!$H$5:$H$104,0))&IF(INDEX(Tasks!$D$5:$D$104,MATCH(25,Tasks!$H$5:$H$104,0))="",""," · "&INDEX(Tasks!$D$5:$D$104,MATCH(25,Tasks!$H$5:$H$104,0))),"") | E30: =IFERROR(INDEX(Tasks!$A$5:$A$104,MATCH(25,Tasks!$I$5:$I$104,0))&IF(INDEX(Tasks!$D$5:$D$104,MATCH(25,Tasks!$I$5:$I$104,0))="",""," · "&INDEX(Tasks!$D$5:$D$104,MATCH(25,Tasks!$I$5:$I$104,0))),"") | G30: =IFERROR(INDEX(Tasks!$A$5:$A$104,MATCH(25,Tasks!$J$5:$J$104,0))&IF(INDEX(Tasks!$D$5:$D$104,MATCH(25,Tasks!$J$5:$J$104,0))="",""," · "&INDEX(Tasks!$D$5:$D$104,MATCH(25,Tasks!$J$5:$J$104,0))),"")

Sheet Tasks
A1: Kanban Board — Task List
A2: Add tasks here and set their status. The Board tab arranges them into columns automatically.
A4: Task | B4: Status | C4: Priority | D4: Owner | E4: Due | F4: Notes | G4: To Do # | H4: Doing # | I4: Review # | J4: Done #
A5: Write launch announcement | B5: To Do | C5: High | D5: Sam | E5: 46402 | G5: =IF(AND(A5<>"",B5="To Do"),COUNTIF($B$5:B5,"To Do"),"") | H5: =IF(AND(A5<>"",B5="Doing"),COUNTIF($B$5:B5,"Doing"),"") | I5: =IF(AND(A5<>"",B5="Review"),COUNTIF($B$5:B5,"Review"),"") | J5: =IF(AND(A5<>"",B5="Done"),COUNTIF($B$5:B5,"Done"),"")
A6: Design landing page | B6: Doing | C6: High | D6: Alex | E6: 46399 | G6: =IF(AND(A6<>"",B6="To Do"),COUNTIF($B$5:B6,"To Do"),"") | H6: =IF(AND(A6<>"",B6="Doing"),COUNTIF($B$5:B6,"Doing"),"") | I6: =IF(AND(A6<>"",B6="Review"),COUNTIF($B$5:B6,"Review"),"") | J6: =IF(AND(A6<>"",B6="Done"),COUNTIF($B$5:B6,"Done"),"")
A7: Set up email sequence | B7: To Do | C7: Medium | D7: Priya | E7: 46407 | G7: =IF(AND(A7<>"",B7="To Do"),COUNTIF($B$5:B7,"To Do"),"") | H7: =IF(AND(A7<>"",B7="Doing"),COUNTIF($B$5:B7,"Doing"),"") | I7: =IF(AND(A7<>"",B7="Review"),COUNTIF($B$5:B7,"Review"),"") | J7: =IF(AND(A7<>"",B7="Done"),COUNTIF($B$5:B7,"Done"),"")
A8: Fix checkout bug | B8: Review | C8: High | D8: Jordan | E8: 46396 | G8: =IF(AND(A8<>"",B8="To Do"),COUNTIF($B$5:B8,"To Do"),"") | H8: =IF(AND(A8<>"",B8="Doing"),COUNTIF($B$5:B8,"Doing"),"") | I8: =IF(AND(A8<>"",B8="Review"),COUNTIF($B$5:B8,"Review"),"") | J8: =IF(AND(A8<>"",B8="Done"),COUNTIF($B$5:B8,"Done"),"")
A9: Order product photos | B9: Done | C9: Medium | D9: Chris | E9: 46392 | G9: =IF(AND(A9<>"",B9="To Do"),COUNTIF($B$5:B9,"To Do"),"") | H9: =IF(AND(A9<>"",B9="Doing"),COUNTIF($B$5:B9,"Doing"),"") | I9: =IF(AND(A9<>"",B9="Review"),COUNTIF($B$5:B9,"Review"),"") | J9: =IF(AND(A9<>"",B9="Done"),COUNTIF($B$5:B9,"Done"),"")
A10: Update FAQ page | B10: To Do | C10: Low | D10: Alex | E10: 46412 | G10: =IF(AND(A10<>"",B10="To Do"),COUNTIF($B$5:B10,"To Do"),"") | H10: =IF(AND(A10<>"",B10="Doing"),COUNTIF($B$5:B10,"Doing"),"") | I10: =IF(AND(A10<>"",B10="Review"),COUNTIF($B$5:B10,"Review"),"") | J10: =IF(AND(A10<>"",B10="Done"),COUNTIF($B$5:B10,"Done"),"")
A11: Plan social posts | B11: Doing | C11: Medium | D11: Priya | E11: 46405 | G11: =IF(AND(A11<>"",B11="To Do"),COUNTIF($B$5:B11,"To Do"),"") | H11: =IF(AND(A11<>"",B11="Doing"),COUNTIF($B$5:B11,"Doing"),"") | I11: =IF(AND(A11<>"",B11="Review"),COUNTIF($B$5:B11,"Review"),"") | J11: =IF(AND(A11<>"",B11="Done"),COUNTIF($B$5:B11,"Done"),"")
A12: Customer survey | B12: Done | C12: Low | D12: Sam | E12: 46390 | G12: =IF(AND(A12<>"",B12="To Do"),COUNTIF($B$5:B12,"To Do"),"") | H12: =IF(AND(A12<>"",B12="Doing"),COUNTIF($B$5:B12,"Doing"),"") | I12: =IF(AND(A12<>"",B12="Review"),COUNTIF($B$5:B12,"Review"),"") | J12: =IF(AND(A12<>"",B12="Done"),COUNTIF($B$5:B12,"Done"),"")
A13: Pricing page copy | B13: Review | C13: Medium | D13: Jordan | E13: 46401 | G13: =IF(AND(A13<>"",B13="To Do"),COUNTIF($B$5:B13,"To Do"),"") | H13: =IF(AND(A13<>"",B13="Doing"),COUNTIF($B$5:B13,"Doing"),"") | I13: =IF(AND(A13<>"",B13="Review"),COUNTIF($B$5:B13,"Review"),"") | J13: =IF(AND(A13<>"",B13="Done"),COUNTIF($B$5:B13,"Done"),"")
G14: =IF(AND(A14<>"",B14="To Do"),COUNTIF($B$5:B14,"To Do"),"") | H14: =IF(AND(A14<>"",B14="Doing"),COUNTIF($B$5:B14,"Doing"),"") | I14: =IF(AND(A14<>"",B14="Review"),COUNTIF($B$5:B14,"Review"),"") | J14: =IF(AND(A14<>"",B14="Done"),COUNTIF($B$5:B14,"Done"),"")
G15: =IF(AND(A15<>"",B15="To Do"),COUNTIF($B$5:B15,"To Do"),"") | H15: =IF(AND(A15<>"",B15="Doing"),COUNTIF($B$5:B15,"Doing"),"") | I15: =IF(AND(A15<>"",B15="Review"),COUNTIF($B$5:B15,"Review"),"") | J15: =IF(AND(A15<>"",B15="Done"),COUNTIF($B$5:B15,"Done"),"")
G16: =IF(AND(A16<>"",B16="To Do"),COUNTIF($B$5:B16,"To Do"),"") | H16: =IF(AND(A16<>"",B16="Doing"),COUNTIF($B$5:B16,"Doing"),"") | I16: =IF(AND(A16<>"",B16="Review"),COUNTIF($B$5:B16,"Review"),"") | J16: =IF(AND(A16<>"",B16="Done"),COUNTIF($B$5:B16,"Done"),"")
G17: =IF(AND(A17<>"",B17="To Do"),COUNTIF($B$5:B17,"To Do"),"") | H17: =IF(AND(A17<>"",B17="Doing"),COUNTIF($B$5:B17,"Doing"),"") | I17: =IF(AND(A17<>"",B17="Review"),COUNTIF($B$5:B17,"Review"),"") | J17: =IF(AND(A17<>"",B17="Done"),COUNTIF($B$5:B17,"Done"),"")
G18: =IF(AND(A18<>"",B18="To Do"),COUNTIF($B$5:B18,"To Do"),"") | H18: =IF(AND(A18<>"",B18="Doing"),COUNTIF($B$5:B18,"Doing"),"") | I18: =IF(AND(A18<>"",B18="Review"),COUNTIF($B$5:B18,"Review"),"") | J18: =IF(AND(A18<>"",B18="Done"),COUNTIF($B$5:B18,"Done"),"")
G19: =IF(AND(A19<>"",B19="To Do"),COUNTIF($B$5:B19,"To Do"),"") | H19: =IF(AND(A19<>"",B19="Doing"),COUNTIF($B$5:B19,"Doing"),"") | I19: =IF(AND(A19<>"",B19="Review"),COUNTIF($B$5:B19,"Review"),"") | J19: =IF(AND(A19<>"",B19="Done"),COUNTIF($B$5:B19,"Done"),"")
G20: =IF(AND(A20<>"",B20="To Do"),COUNTIF($B$5:B20,"To Do"),"") | H20: =IF(AND(A20<>"",B20="Doing"),COUNTIF($B$5:B20,"Doing"),"") | I20: =IF(AND(A20<>"",B20="Review"),COUNTIF($B$5:B20,"Review"),"") | J20: =IF(AND(A20<>"",B20="Done"),COUNTIF($B$5:B20,"Done"),"")
G21: =IF(AND(A21<>"",B21="To Do"),COUNTIF($B$5:B21,"To Do"),"") | H21: =IF(AND(A21<>"",B21="Doing"),COUNTIF($B$5:B21,"Doing"),"") | I21: =IF(AND(A21<>"",B21="Review"),COUNTIF($B$5:B21,"Review"),"") | J21: =IF(AND(A21<>"",B21="Done"),COUNTIF($B$5:B21,"Done"),"")
G22: =IF(AND(A22<>"",B22="To Do"),COUNTIF($B$5:B22,"To Do"),"") | H22: =IF(AND(A22<>"",B22="Doing"),COUNTIF($B$5:B22,"Doing"),"") | I22: =IF(AND(A22<>"",B22="Review"),COUNTIF($B$5:B22,"Review"),"") | J22: =IF(AND(A22<>"",B22="Done"),COUNTIF($B$5:B22,"Done"),"")
G23: =IF(AND(A23<>"",B23="To Do"),COUNTIF($B$5:B23,"To Do"),"") | H23: =IF(AND(A23<>"",B23="Doing"),COUNTIF($B$5:B23,"Doing"),"") | I23: =IF(AND(A23<>"",B23="Review"),COUNTIF($B$5:B23,"Review"),"") | J23: =IF(AND(A23<>"",B23="Done"),COUNTIF($B$5:B23,"Done"),"")
G24: =IF(AND(A24<>"",B24="To Do"),COUNTIF($B$5:B24,"To Do"),"") | H24: =IF(AND(A24<>"",B24="Doing"),COUNTIF($B$5:B24,"Doing"),"") | I24: =IF(AND(A24<>"",B24="Review"),COUNTIF($B$5:B24,"Review"),"") | J24: =IF(AND(A24<>"",B24="Done"),COUNTIF($B$5:B24,"Done"),"")
G25: =IF(AND(A25<>"",B25="To Do"),COUNTIF($B$5:B25,"To Do"),"") | H25: =IF(AND(A25<>"",B25="Doing"),COUNTIF($B$5:B25,"Doing"),"") | I25: =IF(AND(A25<>"",B25="Review"),COUNTIF($B$5:B25,"Review"),"") | J25: =IF(AND(A25<>"",B25="Done"),COUNTIF($B$5:B25,"Done"),"")
... G104: =IF(AND(A104<>"",B104="To Do"),COUNTIF($B$5:B104,"To Do"),"") | H104: =IF(AND(A104<>"",B104="Doing"),COUNTIF($B$5:B104,"Doing"),"") | I104: =IF(AND(A104<>"",B104="Review"),COUNTIF($B$5:B104,"Review"),"") | J104: =IF(AND(A104<>"",B104="Done"),COUNTIF($B$5:B104,"Done"),"")
