Workbook

Sheet Log
A1: Mileage Log | K1: IRS rate ($/mi): | L1: 0.7
A2: Enter odometer readings; miles and reimbursement calculate automatically.
A3: Date | B3: From | C3: To / Destination | D3: Business Purpose | E3: Start Odo | F3: End Odo | G3: Miles | H3: Rate | I3: Reimbursement
G4: =IF(AND(E4<>"",F4<>""),F4-E4,"") | H4: =$L$1 | I4: =IF(G4<>"",G4*H4,"")
G5: =IF(AND(E5<>"",F5<>""),F5-E5,"") | H5: =$L$1 | I5: =IF(G5<>"",G5*H5,"")
G6: =IF(AND(E6<>"",F6<>""),F6-E6,"") | H6: =$L$1 | I6: =IF(G6<>"",G6*H6,"")
G7: =IF(AND(E7<>"",F7<>""),F7-E7,"") | H7: =$L$1 | I7: =IF(G7<>"",G7*H7,"")
G8: =IF(AND(E8<>"",F8<>""),F8-E8,"") | H8: =$L$1 | I8: =IF(G8<>"",G8*H8,"")
G9: =IF(AND(E9<>"",F9<>""),F9-E9,"") | H9: =$L$1 | I9: =IF(G9<>"",G9*H9,"")
G10: =IF(AND(E10<>"",F10<>""),F10-E10,"") | H10: =$L$1 | I10: =IF(G10<>"",G10*H10,"")
G11: =IF(AND(E11<>"",F11<>""),F11-E11,"") | H11: =$L$1 | I11: =IF(G11<>"",G11*H11,"")
G12: =IF(AND(E12<>"",F12<>""),F12-E12,"") | H12: =$L$1 | I12: =IF(G12<>"",G12*H12,"")
G13: =IF(AND(E13<>"",F13<>""),F13-E13,"") | H13: =$L$1 | I13: =IF(G13<>"",G13*H13,"")
G14: =IF(AND(E14<>"",F14<>""),F14-E14,"") | H14: =$L$1 | I14: =IF(G14<>"",G14*H14,"")
G15: =IF(AND(E15<>"",F15<>""),F15-E15,"") | H15: =$L$1 | I15: =IF(G15<>"",G15*H15,"")
... G103: =IF(AND(E103<>"",F103<>""),F103-E103,"") | H103: =$L$1 | I103: =IF(G103<>"",G103*H103,"")
A104: TOTALS | G104: =SUM(G4:G103) | I104: =SUM(I4:I103)

Sheet Monthly Summary
A1: Monthly Totals
A3: Month | B3: Miles | C3: Reimbursement
A4: 2026-01 | B4: =SUMIFS(Log!$G$4:$G$103,Log!$A$4:$A$103,">="&DATE(2026,1,1),Log!$A$4:$A$103,"<"&DATE(2026,2,1)) | C4: =B4*Log!$L$1
A5: 2026-02 | B5: =SUMIFS(Log!$G$4:$G$103,Log!$A$4:$A$103,">="&DATE(2026,2,1),Log!$A$4:$A$103,"<"&DATE(2026,3,1)) | C5: =B5*Log!$L$1
A6: 2026-03 | B6: =SUMIFS(Log!$G$4:$G$103,Log!$A$4:$A$103,">="&DATE(2026,3,1),Log!$A$4:$A$103,"<"&DATE(2026,4,1)) | C6: =B6*Log!$L$1
A7: 2026-04 | B7: =SUMIFS(Log!$G$4:$G$103,Log!$A$4:$A$103,">="&DATE(2026,4,1),Log!$A$4:$A$103,"<"&DATE(2026,5,1)) | C7: =B7*Log!$L$1
A8: 2026-05 | B8: =SUMIFS(Log!$G$4:$G$103,Log!$A$4:$A$103,">="&DATE(2026,5,1),Log!$A$4:$A$103,"<"&DATE(2026,6,1)) | C8: =B8*Log!$L$1
A9: 2026-06 | B9: =SUMIFS(Log!$G$4:$G$103,Log!$A$4:$A$103,">="&DATE(2026,6,1),Log!$A$4:$A$103,"<"&DATE(2026,7,1)) | C9: =B9*Log!$L$1
A10: 2026-07 | B10: =SUMIFS(Log!$G$4:$G$103,Log!$A$4:$A$103,">="&DATE(2026,7,1),Log!$A$4:$A$103,"<"&DATE(2026,8,1)) | C10: =B10*Log!$L$1
A11: 2026-08 | B11: =SUMIFS(Log!$G$4:$G$103,Log!$A$4:$A$103,">="&DATE(2026,8,1),Log!$A$4:$A$103,"<"&DATE(2026,9,1)) | C11: =B11*Log!$L$1
A12: 2026-09 | B12: =SUMIFS(Log!$G$4:$G$103,Log!$A$4:$A$103,">="&DATE(2026,9,1),Log!$A$4:$A$103,"<"&DATE(2026,10,1)) | C12: =B12*Log!$L$1
A13: 2026-10 | B13: =SUMIFS(Log!$G$4:$G$103,Log!$A$4:$A$103,">="&DATE(2026,10,1),Log!$A$4:$A$103,"<"&DATE(2026,11,1)) | C13: =B13*Log!$L$1
A14: 2026-11 | B14: =SUMIFS(Log!$G$4:$G$103,Log!$A$4:$A$103,">="&DATE(2026,11,1),Log!$A$4:$A$103,"<"&DATE(2026,12,1)) | C14: =B14*Log!$L$1
A15: 2026-12 | B15: =SUMIFS(Log!$G$4:$G$103,Log!$A$4:$A$103,">="&DATE(2026,12,1),Log!$A$4:$A$103,"<"&DATE(2027,1,1)) | C15: =B15*Log!$L$1
A16: YEAR TOTAL | B16: =SUM(B4:B15) | C16: =SUM(C4:C15)
