Workbook

Sheet Workout Log
A1: Workout Log
A2: Log every set block: exercise, sets, reps and weight. Volume calculates automatically; the Progress tab tracks your bests.
A4: Date | B4: Exercise | C4: Muscle group | D4: Sets | E4: Reps | F4: Weight (lb) | G4: Volume (lb) | H4: Distance (mi) | I4: Time (min) | J4: RPE (1-10) | K4: Notes
A5: 46027 | B5: Squat | C5: =IF(B5="","",IFERROR(VLOOKUP(B5,Exercises!$A:$B,2,FALSE),"")) | D5: 3 | E5: 5 | F5: 185 | G5: =IF(OR(D5="",E5="",F5=""),"",D5*E5*F5)
A6: 46027 | B6: Bench press | C6: =IF(B6="","",IFERROR(VLOOKUP(B6,Exercises!$A:$B,2,FALSE),"")) | D6: 3 | E6: 5 | F6: 145 | G6: =IF(OR(D6="",E6="",F6=""),"",D6*E6*F6)
A7: 46027 | B7: Barbell row | C7: =IF(B7="","",IFERROR(VLOOKUP(B7,Exercises!$A:$B,2,FALSE),"")) | D7: 3 | E7: 8 | F7: 115 | G7: =IF(OR(D7="",E7="",F7=""),"",D7*E7*F7)
A8: 46028 | B8: Running | C8: =IF(B8="","",IFERROR(VLOOKUP(B8,Exercises!$A:$B,2,FALSE),"")) | G8: =IF(OR(D8="",E8="",F8=""),"",D8*E8*F8) | I8: 3.1
A9: 46029 | B9: Deadlift | C9: =IF(B9="","",IFERROR(VLOOKUP(B9,Exercises!$A:$B,2,FALSE),"")) | D9: 1 | E9: 5 | F9: 235 | G9: =IF(OR(D9="",E9="",F9=""),"",D9*E9*F9)
A10: 46029 | B10: Overhead press | C10: =IF(B10="","",IFERROR(VLOOKUP(B10,Exercises!$A:$B,2,FALSE),"")) | D10: 3 | E10: 5 | F10: 95 | G10: =IF(OR(D10="",E10="",F10=""),"",D10*E10*F10)
A11: 46029 | B11: Pull-up | C11: =IF(B11="","",IFERROR(VLOOKUP(B11,Exercises!$A:$B,2,FALSE),"")) | D11: 3 | E11: 8 | F11: 0 | G11: =IF(OR(D11="",E11="",F11=""),"",D11*E11*F11)
A12: 46031 | B12: Squat | C12: =IF(B12="","",IFERROR(VLOOKUP(B12,Exercises!$A:$B,2,FALSE),"")) | D12: 3 | E12: 5 | F12: 190 | G12: =IF(OR(D12="",E12="",F12=""),"",D12*E12*F12)
A13: 46031 | B13: Bench press | C13: =IF(B13="","",IFERROR(VLOOKUP(B13,Exercises!$A:$B,2,FALSE),"")) | D13: 3 | E13: 5 | F13: 150 | G13: =IF(OR(D13="",E13="",F13=""),"",D13*E13*F13)
A14: 46031 | B14: Barbell row | C14: =IF(B14="","",IFERROR(VLOOKUP(B14,Exercises!$A:$B,2,FALSE),"")) | D14: 3 | E14: 8 | F14: 120 | G14: =IF(OR(D14="",E14="",F14=""),"",D14*E14*F14)
A15: 46032 | B15: Cycling | C15: =IF(B15="","",IFERROR(VLOOKUP(B15,Exercises!$A:$B,2,FALSE),"")) | G15: =IF(OR(D15="",E15="",F15=""),"",D15*E15*F15) | I15: 12
A16: 46034 | B16: Deadlift | C16: =IF(B16="","",IFERROR(VLOOKUP(B16,Exercises!$A:$B,2,FALSE),"")) | D16: 1 | E16: 5 | F16: 245 | G16: =IF(OR(D16="",E16="",F16=""),"",D16*E16*F16)
A17: 46034 | B17: Overhead press | C17: =IF(B17="","",IFERROR(VLOOKUP(B17,Exercises!$A:$B,2,FALSE),"")) | D17: 3 | E17: 5 | F17: 100 | G17: =IF(OR(D17="",E17="",F17=""),"",D17*E17*F17)
A18: 46034 | B18: Dumbbell curl | C18: =IF(B18="","",IFERROR(VLOOKUP(B18,Exercises!$A:$B,2,FALSE),"")) | D18: 3 | E18: 10 | F18: 30 | G18: =IF(OR(D18="",E18="",F18=""),"",D18*E18*F18)
C19: =IF(B19="","",IFERROR(VLOOKUP(B19,Exercises!$A:$B,2,FALSE),"")) | G19: =IF(OR(D19="",E19="",F19=""),"",D19*E19*F19)
C20: =IF(B20="","",IFERROR(VLOOKUP(B20,Exercises!$A:$B,2,FALSE),"")) | G20: =IF(OR(D20="",E20="",F20=""),"",D20*E20*F20)
C21: =IF(B21="","",IFERROR(VLOOKUP(B21,Exercises!$A:$B,2,FALSE),"")) | G21: =IF(OR(D21="",E21="",F21=""),"",D21*E21*F21)
C22: =IF(B22="","",IFERROR(VLOOKUP(B22,Exercises!$A:$B,2,FALSE),"")) | G22: =IF(OR(D22="",E22="",F22=""),"",D22*E22*F22)
C23: =IF(B23="","",IFERROR(VLOOKUP(B23,Exercises!$A:$B,2,FALSE),"")) | G23: =IF(OR(D23="",E23="",F23=""),"",D23*E23*F23)
C24: =IF(B24="","",IFERROR(VLOOKUP(B24,Exercises!$A:$B,2,FALSE),"")) | G24: =IF(OR(D24="",E24="",F24=""),"",D24*E24*F24)
C25: =IF(B25="","",IFERROR(VLOOKUP(B25,Exercises!$A:$B,2,FALSE),"")) | G25: =IF(OR(D25="",E25="",F25=""),"",D25*E25*F25)
C26: =IF(B26="","",IFERROR(VLOOKUP(B26,Exercises!$A:$B,2,FALSE),"")) | G26: =IF(OR(D26="",E26="",F26=""),"",D26*E26*F26)
C27: =IF(B27="","",IFERROR(VLOOKUP(B27,Exercises!$A:$B,2,FALSE),"")) | G27: =IF(OR(D27="",E27="",F27=""),"",D27*E27*F27)
C28: =IF(B28="","",IFERROR(VLOOKUP(B28,Exercises!$A:$B,2,FALSE),"")) | G28: =IF(OR(D28="",E28="",F28=""),"",D28*E28*F28)
C29: =IF(B29="","",IFERROR(VLOOKUP(B29,Exercises!$A:$B,2,FALSE),"")) | G29: =IF(OR(D29="",E29="",F29=""),"",D29*E29*F29)
C30: =IF(B30="","",IFERROR(VLOOKUP(B30,Exercises!$A:$B,2,FALSE),"")) | G30: =IF(OR(D30="",E30="",F30=""),"",D30*E30*F30)
... C504: =IF(B504="","",IFERROR(VLOOKUP(B504,Exercises!$A:$B,2,FALSE),"")) | G504: =IF(OR(D504="",E504="",F504=""),"",D504*E504*F504)

Sheet Progress
A1: Progress by Exercise
A2: Calculated from the Workout Log.
A3: Exercise | B3: Sessions | C3: Best weight (lb) | D3: Total volume (lb) | E3: Total distance (mi) | F3: Last done
A4: =Exercises!A2 | B4: =COUNTIF('Workout Log'!$B:$B,A4) | C4: =IF(B4=0,"",MAXIFS('Workout Log'!$F:$F,'Workout Log'!$B:$B,A4)) | D4: =SUMIFS('Workout Log'!$G:$G,'Workout Log'!$B:$B,A4) | E4: =SUMIFS('Workout Log'!$H:$H,'Workout Log'!$B:$B,A4) | F4: =IF(B4=0,"",MAXIFS('Workout Log'!$A:$A,'Workout Log'!$B:$B,A4))
A5: =Exercises!A3 | B5: =COUNTIF('Workout Log'!$B:$B,A5) | C5: =IF(B5=0,"",MAXIFS('Workout Log'!$F:$F,'Workout Log'!$B:$B,A5)) | D5: =SUMIFS('Workout Log'!$G:$G,'Workout Log'!$B:$B,A5) | E5: =SUMIFS('Workout Log'!$H:$H,'Workout Log'!$B:$B,A5) | F5: =IF(B5=0,"",MAXIFS('Workout Log'!$A:$A,'Workout Log'!$B:$B,A5))
A6: =Exercises!A4 | B6: =COUNTIF('Workout Log'!$B:$B,A6) | C6: =IF(B6=0,"",MAXIFS('Workout Log'!$F:$F,'Workout Log'!$B:$B,A6)) | D6: =SUMIFS('Workout Log'!$G:$G,'Workout Log'!$B:$B,A6) | E6: =SUMIFS('Workout Log'!$H:$H,'Workout Log'!$B:$B,A6) | F6: =IF(B6=0,"",MAXIFS('Workout Log'!$A:$A,'Workout Log'!$B:$B,A6))
A7: =Exercises!A5 | B7: =COUNTIF('Workout Log'!$B:$B,A7) | C7: =IF(B7=0,"",MAXIFS('Workout Log'!$F:$F,'Workout Log'!$B:$B,A7)) | D7: =SUMIFS('Workout Log'!$G:$G,'Workout Log'!$B:$B,A7) | E7: =SUMIFS('Workout Log'!$H:$H,'Workout Log'!$B:$B,A7) | F7: =IF(B7=0,"",MAXIFS('Workout Log'!$A:$A,'Workout Log'!$B:$B,A7))
A8: =Exercises!A6 | B8: =COUNTIF('Workout Log'!$B:$B,A8) | C8: =IF(B8=0,"",MAXIFS('Workout Log'!$F:$F,'Workout Log'!$B:$B,A8)) | D8: =SUMIFS('Workout Log'!$G:$G,'Workout Log'!$B:$B,A8) | E8: =SUMIFS('Workout Log'!$H:$H,'Workout Log'!$B:$B,A8) | F8: =IF(B8=0,"",MAXIFS('Workout Log'!$A:$A,'Workout Log'!$B:$B,A8))
A9: =Exercises!A7 | B9: =COUNTIF('Workout Log'!$B:$B,A9) | C9: =IF(B9=0,"",MAXIFS('Workout Log'!$F:$F,'Workout Log'!$B:$B,A9)) | D9: =SUMIFS('Workout Log'!$G:$G,'Workout Log'!$B:$B,A9) | E9: =SUMIFS('Workout Log'!$H:$H,'Workout Log'!$B:$B,A9) | F9: =IF(B9=0,"",MAXIFS('Workout Log'!$A:$A,'Workout Log'!$B:$B,A9))
A10: =Exercises!A8 | B10: =COUNTIF('Workout Log'!$B:$B,A10) | C10: =IF(B10=0,"",MAXIFS('Workout Log'!$F:$F,'Workout Log'!$B:$B,A10)) | D10: =SUMIFS('Workout Log'!$G:$G,'Workout Log'!$B:$B,A10) | E10: =SUMIFS('Workout Log'!$H:$H,'Workout Log'!$B:$B,A10) | F10: =IF(B10=0,"",MAXIFS('Workout Log'!$A:$A,'Workout Log'!$B:$B,A10))
A11: =Exercises!A9 | B11: =COUNTIF('Workout Log'!$B:$B,A11) | C11: =IF(B11=0,"",MAXIFS('Workout Log'!$F:$F,'Workout Log'!$B:$B,A11)) | D11: =SUMIFS('Workout Log'!$G:$G,'Workout Log'!$B:$B,A11) | E11: =SUMIFS('Workout Log'!$H:$H,'Workout Log'!$B:$B,A11) | F11: =IF(B11=0,"",MAXIFS('Workout Log'!$A:$A,'Workout Log'!$B:$B,A11))
A12: =Exercises!A10 | B12: =COUNTIF('Workout Log'!$B:$B,A12) | C12: =IF(B12=0,"",MAXIFS('Workout Log'!$F:$F,'Workout Log'!$B:$B,A12)) | D12: =SUMIFS('Workout Log'!$G:$G,'Workout Log'!$B:$B,A12) | E12: =SUMIFS('Workout Log'!$H:$H,'Workout Log'!$B:$B,A12) | F12: =IF(B12=0,"",MAXIFS('Workout Log'!$A:$A,'Workout Log'!$B:$B,A12))
A13: =Exercises!A11 | B13: =COUNTIF('Workout Log'!$B:$B,A13) | C13: =IF(B13=0,"",MAXIFS('Workout Log'!$F:$F,'Workout Log'!$B:$B,A13)) | D13: =SUMIFS('Workout Log'!$G:$G,'Workout Log'!$B:$B,A13) | E13: =SUMIFS('Workout Log'!$H:$H,'Workout Log'!$B:$B,A13) | F13: =IF(B13=0,"",MAXIFS('Workout Log'!$A:$A,'Workout Log'!$B:$B,A13))
A14: =Exercises!A12 | B14: =COUNTIF('Workout Log'!$B:$B,A14) | C14: =IF(B14=0,"",MAXIFS('Workout Log'!$F:$F,'Workout Log'!$B:$B,A14)) | D14: =SUMIFS('Workout Log'!$G:$G,'Workout Log'!$B:$B,A14) | E14: =SUMIFS('Workout Log'!$H:$H,'Workout Log'!$B:$B,A14) | F14: =IF(B14=0,"",MAXIFS('Workout Log'!$A:$A,'Workout Log'!$B:$B,A14))
A15: =Exercises!A13 | B15: =COUNTIF('Workout Log'!$B:$B,A15) | C15: =IF(B15=0,"",MAXIFS('Workout Log'!$F:$F,'Workout Log'!$B:$B,A15)) | D15: =SUMIFS('Workout Log'!$G:$G,'Workout Log'!$B:$B,A15) | E15: =SUMIFS('Workout Log'!$H:$H,'Workout Log'!$B:$B,A15) | F15: =IF(B15=0,"",MAXIFS('Workout Log'!$A:$A,'Workout Log'!$B:$B,A15))
... A17: =Exercises!A15 | B17: =COUNTIF('Workout Log'!$B:$B,A17) | C17: =IF(B17=0,"",MAXIFS('Workout Log'!$F:$F,'Workout Log'!$B:$B,A17)) | D17: =SUMIFS('Workout Log'!$G:$G,'Workout Log'!$B:$B,A17) | E17: =SUMIFS('Workout Log'!$H:$H,'Workout Log'!$B:$B,A17) | F17: =IF(B17=0,"",MAXIFS('Workout Log'!$A:$A,'Workout Log'!$B:$B,A17))

Sheet Exercises
A1: Exercise | B1: Muscle group
A2: Squat | B2: Legs
A3: Deadlift | B3: Back
A4: Bench press | B4: Chest
A5: Overhead press | B5: Shoulders
A6: Barbell row | B6: Back
A7: Pull-up | B7: Back
A8: Lunge | B8: Legs
A9: Romanian deadlift | B9: Legs
A10: Dumbbell curl | B10: Arms
A11: Tricep dip | B11: Arms
A12: Plank (sec) | B12: Core
... A15: Rowing | B15: Cardio
